BEGIN:VCALENDAR
VERSION:2.0
PRODID:-//Arts Alliance Davis - ECPv6.15.20//NONSGML v1.0//EN
CALSCALE:GREGORIAN
METHOD:PUBLISH
X-WR-CALNAME:Arts Alliance Davis
X-ORIGINAL-URL:https://artsalliancedavis.org
X-WR-CALDESC:Events for Arts Alliance Davis
REFRESH-INTERVAL;VALUE=DURATION:PT1H
X-Robots-Tag:noindex
X-PUBLISHED-TTL:PT1H
BEGIN:VTIMEZONE
TZID:America/Los_Angeles
BEGIN:DAYLIGHT
TZOFFSETFROM:-0800
TZOFFSETTO:-0700
TZNAME:PDT
DTSTART:20240310T100000
END:DAYLIGHT
BEGIN:STANDARD
TZOFFSETFROM:-0700
TZOFFSETTO:-0800
TZNAME:PST
DTSTART:20241103T090000
END:STANDARD
BEGIN:DAYLIGHT
TZOFFSETFROM:-0800
TZOFFSETTO:-0700
TZNAME:PDT
DTSTART:20250309T100000
END:DAYLIGHT
BEGIN:STANDARD
TZOFFSETFROM:-0700
TZOFFSETTO:-0800
TZNAME:PST
DTSTART:20251102T090000
END:STANDARD
BEGIN:DAYLIGHT
TZOFFSETFROM:-0800
TZOFFSETTO:-0700
TZNAME:PDT
DTSTART:20260308T100000
END:DAYLIGHT
BEGIN:STANDARD
TZOFFSETFROM:-0700
TZOFFSETTO:-0800
TZNAME:PST
DTSTART:20261101T090000
END:STANDARD
END:VTIMEZONE
BEGIN:VEVENT
DTSTART;TZID=America/Los_Angeles:20250425T190000
DTEND;TZID=America/Los_Angeles:20250425T210000
DTSTAMP:20260424T110716
CREATED:20250327T212858Z
LAST-MODIFIED:20250327T212858Z
UID:18597-1745607600-1745614800@artsalliancedavis.org
SUMMARY:Stravaig: The San Francisco Scottish Fiddlers led by Alasdair Fraser
DESCRIPTION:DAVIS VETERANS MEMORIAL THEATER. SF Scottish Fiddlers Stravaig Spring Concerts led by Alasdair Fraser promises a musical journey like no other! Over 65 musicians on fiddles\, cellos\, piano\, drums\, and guitars deliver a spirited performance—ranging from high-energy dance tunes to soulful\, romantic melodies. Rooted in Scotland\, the adventure expands to Brittany\, Galicia\, Scandinavia\, and Cape Breton. Toe-tapping\, seat-dancing\, and aisle-dancing are encouraged!Tickets and info\, visit: https://sfscottishfiddlers.org/. 7p – 9p. $0 – $42. 
URL:https://artsalliancedavis.org/event/stravaig-the-san-francisco-scottish-fiddlers-led-by-alasdair-fraser/
LOCATION:Davis Veterans Memorial Theatre\, 203 E. 14th Street\, Davis\, CA\, 95616\, United States
CATEGORIES:Music
ATTACH;FMTTYPE=image/jpeg:https://artsalliancedavis.org/wp-content/uploads/2025/03/DSC00357-Enhanced-NR-scaled-fW22yb.tmp_.jpg
END:VEVENT
END:VCALENDAR