BEGIN:VCALENDAR
VERSION:2.0
PRODID:-//Arts Alliance Davis - ECPv6.15.20//NONSGML v1.0//EN
CALSCALE:GREGORIAN
METHOD:PUBLISH
X-WR-CALNAME:Arts Alliance Davis
X-ORIGINAL-URL:https://artsalliancedavis.org
X-WR-CALDESC:Events for Arts Alliance Davis
REFRESH-INTERVAL;VALUE=DURATION:PT1H
X-Robots-Tag:noindex
X-PUBLISHED-TTL:PT1H
BEGIN:VTIMEZONE
TZID:America/Los_Angeles
BEGIN:DAYLIGHT
TZOFFSETFROM:-0800
TZOFFSETTO:-0700
TZNAME:PDT
DTSTART:20250309T100000
END:DAYLIGHT
BEGIN:STANDARD
TZOFFSETFROM:-0700
TZOFFSETTO:-0800
TZNAME:PST
DTSTART:20251102T090000
END:STANDARD
BEGIN:DAYLIGHT
TZOFFSETFROM:-0800
TZOFFSETTO:-0700
TZNAME:PDT
DTSTART:20260308T100000
END:DAYLIGHT
BEGIN:STANDARD
TZOFFSETFROM:-0700
TZOFFSETTO:-0800
TZNAME:PST
DTSTART:20261101T090000
END:STANDARD
BEGIN:DAYLIGHT
TZOFFSETFROM:-0800
TZOFFSETTO:-0700
TZNAME:PDT
DTSTART:20270314T100000
END:DAYLIGHT
BEGIN:STANDARD
TZOFFSETFROM:-0700
TZOFFSETTO:-0800
TZNAME:PST
DTSTART:20271107T090000
END:STANDARD
END:VTIMEZONE
BEGIN:VEVENT
DTSTART;TZID=America/Los_Angeles:20260305T193000
DTEND;TZID=America/Los_Angeles:20260305T210000
DTSTAMP:20260423T151329
CREATED:20260225T195446Z
LAST-MODIFIED:20260225T195446Z
UID:23942-1772739000-1772744400@artsalliancedavis.org
SUMMARY:Davis Odd Fellows Thursday Live!
DESCRIPTION:Davis Odd Fellows Thursday Live! on March 5th is a pre–St. Paddy’s Day show with acoustic Celtic Rock duo\, Caliban. The Thursday Live! concert series is donation only with all donations going to the musicians. Please donate generously. \nThis Euro-Celtic Acoustic duo features Lief Sorbye and Jon Berger both from the Celtic Rock band\, Tempest. Caliban presents a delightful\, eclectic blend of music on fiddle\, mandola\, mando-guitar\, and accordion\, filling a set with spirited dance-tunes and spellbinding ballads.
URL:https://artsalliancedavis.org/event/davis-odd-fellows-thursday-live-12/
LOCATION:Odd Fellows Hall (Odd Fellows)\, 415 2nd St.\, Davis\, CA\, 95616\, United States
CATEGORIES:Music
ATTACH;FMTTYPE=image/jpeg:https://artsalliancedavis.org/wp-content/uploads/2026/02/caliban-Poster-iIG2qa.jpg
ORGANIZER;CN="Davis Odd Fellows":MAILTO:davislodge@sbcglobal.net
END:VEVENT
END:VCALENDAR