BEGIN:VCALENDAR
VERSION:2.0
PRODID:-//Arts Alliance Davis - ECPv6.15.20//NONSGML v1.0//EN
CALSCALE:GREGORIAN
METHOD:PUBLISH
X-WR-CALNAME:Arts Alliance Davis
X-ORIGINAL-URL:https://artsalliancedavis.org
X-WR-CALDESC:Events for Arts Alliance Davis
REFRESH-INTERVAL;VALUE=DURATION:PT1H
X-Robots-Tag:noindex
X-PUBLISHED-TTL:PT1H
BEGIN:VTIMEZONE
TZID:America/Los_Angeles
BEGIN:DAYLIGHT
TZOFFSETFROM:-0800
TZOFFSETTO:-0700
TZNAME:PDT
DTSTART:20240310T100000
END:DAYLIGHT
BEGIN:STANDARD
TZOFFSETFROM:-0700
TZOFFSETTO:-0800
TZNAME:PST
DTSTART:20241103T090000
END:STANDARD
BEGIN:DAYLIGHT
TZOFFSETFROM:-0800
TZOFFSETTO:-0700
TZNAME:PDT
DTSTART:20250309T100000
END:DAYLIGHT
BEGIN:STANDARD
TZOFFSETFROM:-0700
TZOFFSETTO:-0800
TZNAME:PST
DTSTART:20251102T090000
END:STANDARD
BEGIN:DAYLIGHT
TZOFFSETFROM:-0800
TZOFFSETTO:-0700
TZNAME:PDT
DTSTART:20260308T100000
END:DAYLIGHT
BEGIN:STANDARD
TZOFFSETFROM:-0700
TZOFFSETTO:-0800
TZNAME:PST
DTSTART:20261101T090000
END:STANDARD
END:VTIMEZONE
BEGIN:VEVENT
DTSTART;TZID=America/Los_Angeles:20250406T160000
DTEND;TZID=America/Los_Angeles:20250406T180000
DTSTAMP:20260424T070610
CREATED:20250315T165658Z
LAST-MODIFIED:20250315T165658Z
UID:18290-1743955200-1743962400@artsalliancedavis.org
SUMMARY:Pottery Night Out
DESCRIPTION:DAVIS ARTS CENTER. Want to try pottery but hesitant to go alone? Join us for Pottery Night Out! This single day wheel throwing workshop is designed to be enjoyed with a pottery partner—whether it’s a loved one\, family member\, or friend. Spend a fun and creative evening getting hands-on with clay and exploring something new! Perfect for both beginners and those with prior wheel throwing experience. 4p – 6p. $75 per duo. 
URL:https://artsalliancedavis.org/event/pottery-night-out-2/
LOCATION:1919 F St\, Davis CA\, 1919 F St\, Davis\, 95616\, United States
CATEGORIES:Art
ATTACH;FMTTYPE=image/png:https://artsalliancedavis.org/wp-content/uploads/2025/03/Apr25-2-1-Rmf0fs.tmp_.png
ORGANIZER;CN="Davis Arts Center":MAILTO:office@davisartscenter.org
END:VEVENT
BEGIN:VEVENT
DTSTART;TZID=America/Los_Angeles:20250425T180000
DTEND;TZID=America/Los_Angeles:20250425T210000
DTSTAMP:20260424T070610
CREATED:20250313T161328Z
LAST-MODIFIED:20250313T161328Z
UID:18239-1745604000-1745614800@artsalliancedavis.org
SUMMARY:Pence Gallery Reception
DESCRIPTION:PENCE GALLERY. The Pence Gallery is hosting a public reception on April 25\, 6 – 9 PM. We will be open in conjunction with the 2025 California Conference for the Advancement of Ceramic Arts (CCACA) by the John Natsoulas Gallery. This is a free event at the Pence\, & visitors can enjoy browsing our art exhibits and complimentary wine.  Exhibits on display include the Biophilia: Our Longing for Nature group show\, Flights of Fancy: Frankie Hansbearry & Marsha Elam upstairs\, and Watercolor by Joanne Andresen’s Watercolor Class along the stairway. 6p – 9p. Free. 
URL:https://artsalliancedavis.org/event/pence-gallery-reception/
LOCATION:Pence Gallery\, 212 D St\, Davis\, CA\, United States
CATEGORIES:Art,Community
ATTACH;FMTTYPE=image/png:https://artsalliancedavis.org/wp-content/uploads/2025/03/Pence-banner-april-25-SWRQTy.tmp_.png
ORGANIZER;CN="Pence Gallery":MAILTO:pencesocialmedia@gmail.com
END:VEVENT
END:VCALENDAR