BEGIN:VCALENDAR
VERSION:2.0
PRODID:-//Arts Alliance Davis - ECPv6.15.20//NONSGML v1.0//EN
CALSCALE:GREGORIAN
METHOD:PUBLISH
X-ORIGINAL-URL:https://artsalliancedavis.org
X-WR-CALDESC:Events for Arts Alliance Davis
REFRESH-INTERVAL;VALUE=DURATION:PT1H
X-Robots-Tag:noindex
X-PUBLISHED-TTL:PT1H
BEGIN:VTIMEZONE
TZID:America/Los_Angeles
BEGIN:DAYLIGHT
TZOFFSETFROM:-0800
TZOFFSETTO:-0700
TZNAME:PDT
DTSTART:20240310T100000
END:DAYLIGHT
BEGIN:STANDARD
TZOFFSETFROM:-0700
TZOFFSETTO:-0800
TZNAME:PST
DTSTART:20241103T090000
END:STANDARD
BEGIN:DAYLIGHT
TZOFFSETFROM:-0800
TZOFFSETTO:-0700
TZNAME:PDT
DTSTART:20250309T100000
END:DAYLIGHT
BEGIN:STANDARD
TZOFFSETFROM:-0700
TZOFFSETTO:-0800
TZNAME:PST
DTSTART:20251102T090000
END:STANDARD
BEGIN:DAYLIGHT
TZOFFSETFROM:-0800
TZOFFSETTO:-0700
TZNAME:PDT
DTSTART:20260308T100000
END:DAYLIGHT
BEGIN:STANDARD
TZOFFSETFROM:-0700
TZOFFSETTO:-0800
TZNAME:PST
DTSTART:20261101T090000
END:STANDARD
END:VTIMEZONE
BEGIN:VEVENT
DTSTART;TZID=America/Los_Angeles:20251201T153000
DTEND;TZID=America/Los_Angeles:20251201T173000
DTSTAMP:20260423T163637
CREATED:20251112T121103Z
LAST-MODIFIED:20251112T121103Z
UID:22172-1764603000-1764610200@artsalliancedavis.org
SUMMARY:Brush & Glaze: Ceramic Painting Workshop
DESCRIPTION:Unleash your creativity and transform plain ceramics into stunning works of art with our glazing workshops! Whether you’re looking to create a gift or a unique piece for your home\, this is the perfect opportunity to let your imagination shine. Simply choose your ceramic piece\, pick from a vibrant array of glaze colors\, and start decorating! Davis Arts Center staff will handle the firing process\, ensuring your masterpiece is ready to take home. \nPrice includes glazing\, firing\, and one ceramic piece\nCeramic selections: ornament\, plate\, or mug\nAdditional pieces available for purchase while supplies last\nFinal ceramic pieces available for pick-up starting December 15th \nALL AGES\nPrice: $25/attendee
URL:https://artsalliancedavis.org/event/brush-glaze-ceramic-painting-workshop-8/
LOCATION:1919 F St\, Davis CA\, 1919 F St\, Davis\, 95616\, United States
CATEGORIES:Art
ATTACH;FMTTYPE=image/png:https://artsalliancedavis.org/wp-content/uploads/2025/11/Brush-Glaze-HrQ7F1.png
ORGANIZER;CN="Davis Arts Center":MAILTO:office@davisartscenter.org
END:VEVENT
BEGIN:VEVENT
DTSTART;TZID=America/Los_Angeles:20251202T153000
DTEND;TZID=America/Los_Angeles:20251202T173000
DTSTAMP:20260423T163637
CREATED:20251115T134045Z
LAST-MODIFIED:20251115T134045Z
UID:22220-1764689400-1764696600@artsalliancedavis.org
SUMMARY:Slump Mold Plates & Platters
DESCRIPTION:Create and decorate your own wacky\, one-of-a-kind plate or platter! In this two-day workshop\, students will learn how to roll a clay slab and drape it over a form to create a custom slump mold shape. After shaping their piece\, students will finish it with a colorful glaze of their choice\, making it both functional and food-safe. These personalized creations make wonderful additions to your home or thoughtful handmade gifts! \nAll materials provided\nThis is a two-day workshop\, attending both days is required\nFinal ceramic pieces available for pick-up starting December 15th \nInstructor: Vex Rios (They/Them/Theirs) \nAGES 18+ \nPrice: $70\nTimes: 3:30-5:30pm \nWorkshop dates:\nTuesdays\, Dec 2 and Dec 9
URL:https://artsalliancedavis.org/event/slump-mold-plates-platters/
LOCATION:1919 F St\, Davis CA\, 1919 F St\, Davis\, 95616\, United States
CATEGORIES:Art
ATTACH;FMTTYPE=image/png:https://artsalliancedavis.org/wp-content/uploads/2025/11/Slump-Mold-w37mnc.png
ORGANIZER;CN="Davis Arts Center":MAILTO:office@davisartscenter.org
END:VEVENT
BEGIN:VEVENT
DTSTART;TZID=America/Los_Angeles:20251203T153000
DTEND;TZID=America/Los_Angeles:20251203T173000
DTSTAMP:20260423T163637
CREATED:20251115T134137Z
LAST-MODIFIED:20251115T134137Z
UID:22223-1764775800-1764783000@artsalliancedavis.org
SUMMARY:Claycation! – Make an Island
DESCRIPTION:Escape the winter chill and set sail on a warm\, hands-on clay adventure! Join us on a creative adventure and add a little warmth and color to the season by creating your very own island paradise out of clay. \nThis multi-day workshop allows participants to sculpt their creative islands during the first session and return to glaze them in the next\, bringing their creations to life with vibrant color and glossy finishes. \nPerfect for all ages and skill levels\, this is a playful introduction to hand-building and glazing techniques \nAll materials provided\nThis is a two-day workshop\, attending both days is required\nFinal ceramic pieces available for pick-up starting December 15th \nInstructor: Vex Rios (They/Them/Theirs) \nALL AGES\nPrice: $60 \nTimes: 3:30-5:30pm \nWorkshop dates:\nWednesdays\, Dec 3 and Dec 10
URL:https://artsalliancedavis.org/event/claycation-make-an-island/
LOCATION:1919 F St\, Davis CA\, 1919 F St\, Davis\, 95616\, United States
CATEGORIES:Art
ATTACH;FMTTYPE=image/png:https://artsalliancedavis.org/wp-content/uploads/2025/11/Claycation-vXNm5y.png
ORGANIZER;CN="Davis Arts Center":MAILTO:office@davisartscenter.org
END:VEVENT
BEGIN:VEVENT
DTSTART;TZID=America/Los_Angeles:20251204T170000
DTEND;TZID=America/Los_Angeles:20251204T190000
DTSTAMP:20260423T163637
CREATED:20251112T121212Z
LAST-MODIFIED:20251112T121212Z
UID:22174-1764867600-1764874800@artsalliancedavis.org
SUMMARY:Brush & Glaze: Ceramic Painting Workshop
DESCRIPTION:Unleash your creativity and transform plain ceramics into stunning works of art with our glazing workshops! Whether you’re looking to create a gift or a unique piece for your home\, this is the perfect opportunity to let your imagination shine. Simply choose your ceramic piece\, pick from a vibrant array of glaze colors\, and start decorating! Davis Arts Center staff will handle the firing process\, ensuring your masterpiece is ready to take home. \nPrice includes glazing\, firing\, and one ceramic piece\nCeramic selections: ornament\, plate\, or mug\nAdditional pieces available for purchase while supplies last\nFinal ceramic pieces available for pick-up starting December 15th \nALL AGES\nPrice: $25/attendee
URL:https://artsalliancedavis.org/event/brush-glaze-ceramic-painting-workshop-9/
LOCATION:1919 F St\, Davis CA\, 1919 F St\, Davis\, 95616\, United States
CATEGORIES:Art
ATTACH;FMTTYPE=image/png:https://artsalliancedavis.org/wp-content/uploads/2025/11/Brush-Glaze-HrQ7F1.png
ORGANIZER;CN="Davis Arts Center":MAILTO:office@davisartscenter.org
END:VEVENT
BEGIN:VEVENT
DTSTART;TZID=America/Los_Angeles:20251205T170000
DTEND;TZID=America/Los_Angeles:20251205T190000
DTSTAMP:20260423T163637
CREATED:20251112T121302Z
LAST-MODIFIED:20251112T121302Z
UID:22175-1764954000-1764961200@artsalliancedavis.org
SUMMARY:Brush & Glaze: Ceramic Painting Workshop
DESCRIPTION:Unleash your creativity and transform plain ceramics into stunning works of art with our glazing workshops! Whether you’re looking to create a gift or a unique piece for your home\, this is the perfect opportunity to let your imagination shine. Simply choose your ceramic piece\, pick from a vibrant array of glaze colors\, and start decorating! Davis Arts Center staff will handle the firing process\, ensuring your masterpiece is ready to take home. \nPrice includes glazing\, firing\, and one ceramic piece\nCeramic selections: ornament\, plate\, or mug\nAdditional pieces available for purchase while supplies last\nFinal ceramic pieces available for pick-up starting December 15th \nALL AGES\nPrice: $25/attendee
URL:https://artsalliancedavis.org/event/brush-glaze-ceramic-painting-workshop-10/
LOCATION:1919 F St\, Davis CA\, 1919 F St\, Davis\, 95616\, United States
CATEGORIES:Art
ATTACH;FMTTYPE=image/png:https://artsalliancedavis.org/wp-content/uploads/2025/11/Brush-Glaze-HrQ7F1.png
ORGANIZER;CN="Davis Arts Center":MAILTO:office@davisartscenter.org
END:VEVENT
BEGIN:VEVENT
DTSTART;TZID=America/Los_Angeles:20251208T160000
DTEND;TZID=America/Los_Angeles:20251208T180000
DTSTAMP:20260423T163637
CREATED:20251112T121348Z
LAST-MODIFIED:20251112T121348Z
UID:22181-1765209600-1765216800@artsalliancedavis.org
SUMMARY:Brush & Glaze: Ceramic Painting Workshop
DESCRIPTION:Unleash your creativity and transform plain ceramics into stunning works of art with our glazing workshops! Whether you’re looking to create a gift or a unique piece for your home\, this is the perfect opportunity to let your imagination shine. Simply choose your ceramic piece\, pick from a vibrant array of glaze colors\, and start decorating! Davis Arts Center staff will handle the firing process\, ensuring your masterpiece is ready to take home. \nPrice includes glazing\, firing\, and one ceramic piece\nCeramic selections: ornament\, plate\, or mug\nAdditional pieces available for purchase while supplies last\nFinal ceramic pieces available for pick-up starting December 15th \nALL AGES\nPrice: $25/attendee
URL:https://artsalliancedavis.org/event/brush-glaze-ceramic-painting-workshop-11/
LOCATION:1919 F St\, Davis CA\, 1919 F St\, Davis\, 95616\, United States
CATEGORIES:Art
ATTACH;FMTTYPE=image/png:https://artsalliancedavis.org/wp-content/uploads/2025/11/Brush-Glaze-HrQ7F1.png
ORGANIZER;CN="Davis Arts Center":MAILTO:office@davisartscenter.org
END:VEVENT
BEGIN:VEVENT
DTSTART;TZID=America/Los_Angeles:20251209T153000
DTEND;TZID=America/Los_Angeles:20251209T173000
DTSTAMP:20260423T163637
CREATED:20251115T134400Z
LAST-MODIFIED:20251115T134400Z
UID:22230-1765294200-1765301400@artsalliancedavis.org
SUMMARY:Slump Mold Plates & Platters
DESCRIPTION:Create and decorate your own wacky\, one-of-a-kind plate or platter! In this two-day workshop\, students will learn how to roll a clay slab and drape it over a form to create a custom slump mold shape. After shaping their piece\, students will finish it with a colorful glaze of their choice\, making it both functional and food-safe. These personalized creations make wonderful additions to your home or thoughtful handmade gifts! \nAll materials provided\nThis is a two-day workshop\, attending both days is required\nFinal ceramic pieces available for pick-up starting December 15th \nInstructor: Vex Rios (They/Them/Theirs) \nAGES 18+ \nPrice: $70\nTimes: 3:30-5:30pm \nWorkshop dates:\nTuesdays\, Dec 2 and Dec 9
URL:https://artsalliancedavis.org/event/slump-mold-plates-platters-2/
LOCATION:1919 F St\, Davis CA\, 1919 F St\, Davis\, 95616\, United States
CATEGORIES:Art
ATTACH;FMTTYPE=image/png:https://artsalliancedavis.org/wp-content/uploads/2025/11/Slump-Mold-w37mnc.png
ORGANIZER;CN="Davis Arts Center":MAILTO:office@davisartscenter.org
END:VEVENT
BEGIN:VEVENT
DTSTART;TZID=America/Los_Angeles:20251210T153000
DTEND;TZID=America/Los_Angeles:20251210T173000
DTSTAMP:20260423T163637
CREATED:20251115T134414Z
LAST-MODIFIED:20251115T134414Z
UID:22232-1765380600-1765387800@artsalliancedavis.org
SUMMARY:Claycation! – Make an Island
DESCRIPTION:Escape the winter chill and set sail on a warm\, hands-on clay adventure! Join us on a creative adventure and add a little warmth and color to the season by creating your very own island paradise out of clay. \nThis multi-day workshop allows participants to sculpt their creative islands during the first session and return to glaze them in the next\, bringing their creations to life with vibrant color and glossy finishes. \nPerfect for all ages and skill levels\, this is a playful introduction to hand-building and glazing techniques \nAll materials provided\nThis is a two-day workshop\, attending both days is required\nFinal ceramic pieces available for pick-up starting December 15th \nInstructor: Vex Rios (They/Them/Theirs) \nALL AGES\nPrice: $60 \nTimes: 3:30-5:30pm \nWorkshop dates:\nWednesdays\, Dec 3 and Dec 10
URL:https://artsalliancedavis.org/event/claycation-make-an-island-2/
LOCATION:1919 F St\, Davis CA\, 1919 F St\, Davis\, 95616\, United States
CATEGORIES:Art
ATTACH;FMTTYPE=image/png:https://artsalliancedavis.org/wp-content/uploads/2025/11/Claycation-vXNm5y.png
ORGANIZER;CN="Davis Arts Center":MAILTO:office@davisartscenter.org
END:VEVENT
BEGIN:VEVENT
DTSTART;TZID=America/Los_Angeles:20251211T170000
DTEND;TZID=America/Los_Angeles:20251211T190000
DTSTAMP:20260423T163637
CREATED:20251112T121424Z
LAST-MODIFIED:20251112T121424Z
UID:22182-1765472400-1765479600@artsalliancedavis.org
SUMMARY:Brush & Glaze: Ceramic Painting Workshop
DESCRIPTION:Unleash your creativity and transform plain ceramics into stunning works of art with our glazing workshops! Whether you’re looking to create a gift or a unique piece for your home\, this is the perfect opportunity to let your imagination shine. Simply choose your ceramic piece\, pick from a vibrant array of glaze colors\, and start decorating! Davis Arts Center staff will handle the firing process\, ensuring your masterpiece is ready to take home. \nPrice includes glazing\, firing\, and one ceramic piece\nCeramic selections: ornament\, plate\, or mug\nAdditional pieces available for purchase while supplies last\nFinal ceramic pieces available for pick-up starting December 15th \nALL AGES\nPrice: $25/attendee
URL:https://artsalliancedavis.org/event/brush-glaze-ceramic-painting-workshop-12/
LOCATION:1919 F St\, Davis CA\, 1919 F St\, Davis\, 95616\, United States
CATEGORIES:Art
ATTACH;FMTTYPE=image/png:https://artsalliancedavis.org/wp-content/uploads/2025/11/Brush-Glaze-HrQ7F1.png
ORGANIZER;CN="Davis Arts Center":MAILTO:office@davisartscenter.org
END:VEVENT
BEGIN:VEVENT
DTSTART;TZID=America/Los_Angeles:20251212T170000
DTEND;TZID=America/Los_Angeles:20251212T190000
DTSTAMP:20260423T163637
CREATED:20251112T121516Z
LAST-MODIFIED:20251112T121516Z
UID:22183-1765558800-1765566000@artsalliancedavis.org
SUMMARY:Brush & Glaze: Ceramic Painting Workshop
DESCRIPTION:Unleash your creativity and transform plain ceramics into stunning works of art with our glazing workshops! Whether you’re looking to create a gift or a unique piece for your home\, this is the perfect opportunity to let your imagination shine. Simply choose your ceramic piece\, pick from a vibrant array of glaze colors\, and start decorating! Davis Arts Center staff will handle the firing process\, ensuring your masterpiece is ready to take home. \nPrice includes glazing\, firing\, and one ceramic piece\nCeramic selections: ornament\, plate\, or mug\nAdditional pieces available for purchase while supplies last\nFinal ceramic pieces available for pick-up starting December 15th \nALL AGES\nPrice: $25/attendee
URL:https://artsalliancedavis.org/event/brush-glaze-ceramic-painting-workshop-13/
LOCATION:1919 F St\, Davis CA\, 1919 F St\, Davis\, 95616\, United States
CATEGORIES:Art
ATTACH;FMTTYPE=image/png:https://artsalliancedavis.org/wp-content/uploads/2025/11/Brush-Glaze-HrQ7F1.png
ORGANIZER;CN="Davis Arts Center":MAILTO:office@davisartscenter.org
END:VEVENT
END:VCALENDAR