BEGIN:VCALENDAR
VERSION:2.0
PRODID:-//Arts Alliance Davis - ECPv6.15.20//NONSGML v1.0//EN
CALSCALE:GREGORIAN
METHOD:PUBLISH
X-ORIGINAL-URL:https://artsalliancedavis.org
X-WR-CALDESC:Events for Arts Alliance Davis
REFRESH-INTERVAL;VALUE=DURATION:PT1H
X-Robots-Tag:noindex
X-PUBLISHED-TTL:PT1H
BEGIN:VTIMEZONE
TZID:America/Los_Angeles
BEGIN:DAYLIGHT
TZOFFSETFROM:-0800
TZOFFSETTO:-0700
TZNAME:PDT
DTSTART:20230312T100000
END:DAYLIGHT
BEGIN:STANDARD
TZOFFSETFROM:-0700
TZOFFSETTO:-0800
TZNAME:PST
DTSTART:20231105T090000
END:STANDARD
BEGIN:DAYLIGHT
TZOFFSETFROM:-0800
TZOFFSETTO:-0700
TZNAME:PDT
DTSTART:20240310T100000
END:DAYLIGHT
BEGIN:STANDARD
TZOFFSETFROM:-0700
TZOFFSETTO:-0800
TZNAME:PST
DTSTART:20241103T090000
END:STANDARD
BEGIN:DAYLIGHT
TZOFFSETFROM:-0800
TZOFFSETTO:-0700
TZNAME:PDT
DTSTART:20250309T100000
END:DAYLIGHT
BEGIN:STANDARD
TZOFFSETFROM:-0700
TZOFFSETTO:-0800
TZNAME:PST
DTSTART:20251102T090000
END:STANDARD
END:VTIMEZONE
BEGIN:VEVENT
DTSTART;TZID=America/Los_Angeles:20241024T173000
DTEND;TZID=America/Los_Angeles:20241024T200000
DTSTAMP:20260424T185742
CREATED:20240919T225556Z
LAST-MODIFIED:20240919T225556Z
UID:14720-1729791000-1729800000@artsalliancedavis.org
SUMMARY:15th Annual Soup Night & Silent Auction by Soroptimist Int’l of Davis
DESCRIPTION:For over fifteen years\, Soroptimist International of Davis has been a beacon of community spirit\, and our annual Soup Night and Silent Auction is where it all comes to life. \nWhat makes our silent auction a crowd-puller? It’s the meticulously crafted themed baskets\, each one a labor of love from our dedicated members and generous local businesses. From artisanal gifts to experiences you won’t find elsewhere\, our auction is a celebration of community generosity and creativity. \nAll of this is not just for a good time\, but for a great cause: supporting local service organizations in their mission to make a difference. \nThis year\, we’re partnering with Thriving Pink to better the lives of lives of breast cancer survivors and their families here in Yolo County. Join us at our new location at the Veterans Memorial Center\, for an evening that promises more than just good food and company. \nHere’s what you need to know: \n\nEvent is on Thursday\, October 24 at the Veterans Memorial Center (203 E. 14th St).\nDoors open and the silent auction kicks off simultaneously at 5:30 p.m.\, setting the stage for an evening of community\, connection\, and a touch of competitive bidding.\nYou’ll have until 7:30 p.m. to secure your winning bids on our themed gift baskets and items from community businesses.\nTicket price is $25 in advance\, $30 at the door (adults); $15 in advance\, $20 at the door (students + children over 5); free (children 5 & under).\n\nNeed a drink to mull over your bids? Every adult ticket comes with a coupon good for one alcoholic beverage—beer or wine offered by local breweries and wineries. And when it comes to payment\, we make it easy—cash\, credit cards\, and checks are all welcome. \nBut this is more than just a night out. It’s an opportunity to be part of something bigger. Soroptimist International of Davis is committed to empowering women and girls through education and training. Funds raised from this event will support these vital programs in Davis and throughout Yolo County. \nLearn more and BUY TICKETS here: https://www.sidavis.org/soupnight
URL:https://artsalliancedavis.org/event/15th-annual-soup-night-silent-auction-by-soroptimist-intl-of-davis/
LOCATION:Davis Veterans Memorial Center\, 203 East 14th Street\, Davis\, CA\, 95616
CATEGORIES:Bring the Kids,Community,Food & Drink,Music,Shopping
ATTACH;FMTTYPE=image/jpeg:https://artsalliancedavis.org/wp-content/uploads/2024/09/FB-Event-Banner-Soup-Night-2024-cMTcfx.tmp_.jpg
ORGANIZER;CN="Soroptimist International of Davis":MAILTO:sidavis@soroptimist.net
END:VEVENT
END:VCALENDAR