BEGIN:VCALENDAR
VERSION:2.0
PRODID:-//Arts Alliance Davis - ECPv6.15.20//NONSGML v1.0//EN
CALSCALE:GREGORIAN
METHOD:PUBLISH
X-ORIGINAL-URL:https://artsalliancedavis.org
X-WR-CALDESC:Events for Arts Alliance Davis
REFRESH-INTERVAL;VALUE=DURATION:PT1H
X-Robots-Tag:noindex
X-PUBLISHED-TTL:PT1H
BEGIN:VTIMEZONE
TZID:America/Los_Angeles
BEGIN:DAYLIGHT
TZOFFSETFROM:-0800
TZOFFSETTO:-0700
TZNAME:PDT
DTSTART:20240310T100000
END:DAYLIGHT
BEGIN:STANDARD
TZOFFSETFROM:-0700
TZOFFSETTO:-0800
TZNAME:PST
DTSTART:20241103T090000
END:STANDARD
BEGIN:DAYLIGHT
TZOFFSETFROM:-0800
TZOFFSETTO:-0700
TZNAME:PDT
DTSTART:20250309T100000
END:DAYLIGHT
BEGIN:STANDARD
TZOFFSETFROM:-0700
TZOFFSETTO:-0800
TZNAME:PST
DTSTART:20251102T090000
END:STANDARD
BEGIN:DAYLIGHT
TZOFFSETFROM:-0800
TZOFFSETTO:-0700
TZNAME:PDT
DTSTART:20260308T100000
END:DAYLIGHT
BEGIN:STANDARD
TZOFFSETFROM:-0700
TZOFFSETTO:-0800
TZNAME:PST
DTSTART:20261101T090000
END:STANDARD
END:VTIMEZONE
BEGIN:VEVENT
DTSTART;TZID=America/Los_Angeles:20251101T183000
DTEND;TZID=America/Los_Angeles:20251101T210000
DTSTAMP:20260423T192442
CREATED:20251022T154646Z
LAST-MODIFIED:20251022T154646Z
UID:21013-1762021800-1762030800@artsalliancedavis.org
SUMMARY:Sahaya International – Beyond 25: the next chapter
DESCRIPTION:After a very successful 25th anniversary last year\, you are invited to Sahaya International- Beyond 25: The next chapter on Saturday November 1 at the International House Davis. Doors open at 6:30pm\, with the event starting at 7 pm. \nTickets are FREE but reservation is required (as seating capacity of the venue is limited). \nTo reserve free tickets\, learn more\, and/or support the programs\, go to https://givebutter.com/sahaya-2025 \nFor the past 26 years\, the Davis-based 501(c)3 nonprofit organization Sahaya International has been supporting community development\, education and conservation programs in developing countries (including India\, Uganda\, Vietnam and the Philippines). This includes helping orphans and vulnerable children\, building schools\, community water projects and women empowerment. To learn more visit www.sahaya.org or watch the short documentary\, “Sahaya Going Beyond” (narrated by Academy Award winner Jeremy Irons) at https://vimeo.com/65517422 \nThe evening will be filled with stories of inspiration and hope\, cultural performances\, interactive activities and snacks/drinks. Come meet old friends and make new friends. \nEvent sponsorship opportunities (at different levels\, with proper acknowledgment) are available. \nWe hope to see you there!\nKoen Van Rompay (founder\, Sahaya International; koen@sahaya.org)
URL:https://artsalliancedavis.org/event/sahaya-international-beyond-25-the-next-chapter/
LOCATION:International House (I-House)\, 10 College Pk.
CATEGORIES:Bring the Kids,Community
ATTACH;FMTTYPE=image/jpeg:https://artsalliancedavis.org/wp-content/uploads/2025/10/IMG_5530-scaled-mPmF0C.jpg
ORGANIZER;CN="Sahaya International":MAILTO:koen@sahaya.org
END:VEVENT
END:VCALENDAR