BEGIN:VCALENDAR
VERSION:2.0
PRODID:-//Arts Alliance Davis - ECPv6.15.20//NONSGML v1.0//EN
CALSCALE:GREGORIAN
METHOD:PUBLISH
X-ORIGINAL-URL:https://artsalliancedavis.org
X-WR-CALDESC:Events for Arts Alliance Davis
REFRESH-INTERVAL;VALUE=DURATION:PT1H
X-Robots-Tag:noindex
X-PUBLISHED-TTL:PT1H
BEGIN:VTIMEZONE
TZID:America/Los_Angeles
BEGIN:DAYLIGHT
TZOFFSETFROM:-0800
TZOFFSETTO:-0700
TZNAME:PDT
DTSTART:20250309T100000
END:DAYLIGHT
BEGIN:STANDARD
TZOFFSETFROM:-0700
TZOFFSETTO:-0800
TZNAME:PST
DTSTART:20251102T090000
END:STANDARD
BEGIN:DAYLIGHT
TZOFFSETFROM:-0800
TZOFFSETTO:-0700
TZNAME:PDT
DTSTART:20260308T100000
END:DAYLIGHT
BEGIN:STANDARD
TZOFFSETFROM:-0700
TZOFFSETTO:-0800
TZNAME:PST
DTSTART:20261101T090000
END:STANDARD
BEGIN:DAYLIGHT
TZOFFSETFROM:-0800
TZOFFSETTO:-0700
TZNAME:PDT
DTSTART:20270314T100000
END:DAYLIGHT
BEGIN:STANDARD
TZOFFSETFROM:-0700
TZOFFSETTO:-0800
TZNAME:PST
DTSTART:20271107T090000
END:STANDARD
END:VTIMEZONE
BEGIN:VEVENT
DTSTART;TZID=America/Los_Angeles:20260507T080000
DTEND;TZID=America/Los_Angeles:20260507T173000
DTSTAMP:20260423T134940
CREATED:20260421T230945Z
LAST-MODIFIED:20260421T230945Z
UID:24941-1778140800-1778175000@artsalliancedavis.org
SUMMARY:Big Day in Davis
DESCRIPTION:Show up for local this May 💚\nJoin us for Big Day in Davis on May 7 at G Street Plaza from 5:30–7PM—an evening of community\, connection\, and giving back! 🎉\n✨ Meet and support local nonprofits\n🤝 Network with community members & organizations\n🍴 Enjoy light bites + music\n💸 Give back through local business partnerships\nBusinesses can pledge a portion of sales or a set donation\, and all funds will be shared among participating nonprofits—supporting the incredible work happening right here in our community.\nWhether you’re a nonprofit\, a local business\, or just want to show love to Davis—this is your moment to plug in 💫\n📲 Check out the nonprofit list + sign up through the QR codes or visit BigDayOfGiving.org to register your nonprofit before the Big Day\nIn Partnership with The Downtown Davis Business Association \n  \n 
URL:https://artsalliancedavis.org/event/big-day-in-davis/
CATEGORIES:Community,Food & Drink,Music,Outside,Shopping
ATTACH;FMTTYPE=image/jpeg:https://artsalliancedavis.org/wp-content/uploads/2026/04/1-0Vvklk.jpg
ORGANIZER;CN="Davis Phoenix Coalition":MAILTO:admin@davisphoenixco.org
END:VEVENT
END:VCALENDAR