BEGIN:VCALENDAR
VERSION:2.0
PRODID:-//Arts Alliance Davis - ECPv6.15.20//NONSGML v1.0//EN
CALSCALE:GREGORIAN
METHOD:PUBLISH
X-ORIGINAL-URL:https://artsalliancedavis.org
X-WR-CALDESC:Events for Arts Alliance Davis
REFRESH-INTERVAL;VALUE=DURATION:PT1H
X-Robots-Tag:noindex
X-PUBLISHED-TTL:PT1H
BEGIN:VTIMEZONE
TZID:America/Los_Angeles
BEGIN:DAYLIGHT
TZOFFSETFROM:-0800
TZOFFSETTO:-0700
TZNAME:PDT
DTSTART:20240310T100000
END:DAYLIGHT
BEGIN:STANDARD
TZOFFSETFROM:-0700
TZOFFSETTO:-0800
TZNAME:PST
DTSTART:20241103T090000
END:STANDARD
BEGIN:DAYLIGHT
TZOFFSETFROM:-0800
TZOFFSETTO:-0700
TZNAME:PDT
DTSTART:20250309T100000
END:DAYLIGHT
BEGIN:STANDARD
TZOFFSETFROM:-0700
TZOFFSETTO:-0800
TZNAME:PST
DTSTART:20251102T090000
END:STANDARD
BEGIN:DAYLIGHT
TZOFFSETFROM:-0800
TZOFFSETTO:-0700
TZNAME:PDT
DTSTART:20260308T100000
END:DAYLIGHT
BEGIN:STANDARD
TZOFFSETFROM:-0700
TZOFFSETTO:-0800
TZNAME:PST
DTSTART:20261101T090000
END:STANDARD
END:VTIMEZONE
BEGIN:VEVENT
DTSTART;TZID=America/Los_Angeles:20251101T110000
DTEND;TZID=America/Los_Angeles:20251101T150000
DTSTAMP:20260423T180602
CREATED:20250825T152259Z
LAST-MODIFIED:20250825T152259Z
UID:20544-1761994800-1762009200@artsalliancedavis.org
SUMMARY:VOLT – A Morning Coffee Party
DESCRIPTION:DRC Creatives returns on August 23rd with the morning party series that caught so much attention earlier this year. Check out this article from the California aggie and this other one that talks about the event. \nKick start your morning with music and great coffee at this FREE EVENT sponsored by Ryder on Olive! \nTEXT “VOLT” TO (530) 298-8714 \nRSVP here
URL:https://artsalliancedavis.org/event/volt-a-morning-coffee-party-4/
LOCATION:Volt Coffee Tea & Taps\, 1123 Olive Dr.\, Davis\, 95616\, United States
ATTACH;FMTTYPE=image/jpeg:https://artsalliancedavis.org/wp-content/uploads/2018/10/orange-white-aad-logo.jpg
END:VEVENT
BEGIN:VEVENT
DTSTART;TZID=America/Los_Angeles:20251115T110000
DTEND;TZID=America/Los_Angeles:20251115T150000
DTSTAMP:20260423T180602
CREATED:20250825T152714Z
LAST-MODIFIED:20250825T152714Z
UID:20683-1763204400-1763218800@artsalliancedavis.org
SUMMARY:VOLT – A Morning Coffee Party
DESCRIPTION:DRC Creatives returns on August 23rd with the morning party series that caught so much attention earlier this year. Check out this article from the California aggie and this other one that talks about the event. \nKick start your morning with music and great coffee at this FREE EVENT sponsored by Ryder on Olive! \nTEXT “VOLT” TO (530) 298-8714 \nRSVP here
URL:https://artsalliancedavis.org/event/volt-a-morning-coffee-party-5/
LOCATION:Volt Coffee Tea & Taps\, 1123 Olive Dr.\, Davis\, 95616\, United States
ATTACH;FMTTYPE=image/jpeg:https://artsalliancedavis.org/wp-content/uploads/2018/10/orange-white-aad-logo.jpg
END:VEVENT
END:VCALENDAR