BEGIN:VCALENDAR
VERSION:2.0
PRODID:-//Arts Alliance Davis - ECPv6.15.20//NONSGML v1.0//EN
CALSCALE:GREGORIAN
METHOD:PUBLISH
X-ORIGINAL-URL:https://artsalliancedavis.org
X-WR-CALDESC:Events for Arts Alliance Davis
REFRESH-INTERVAL;VALUE=DURATION:PT1H
X-Robots-Tag:noindex
X-PUBLISHED-TTL:PT1H
BEGIN:VTIMEZONE
TZID:America/Los_Angeles
BEGIN:DAYLIGHT
TZOFFSETFROM:-0800
TZOFFSETTO:-0700
TZNAME:PDT
DTSTART:20250309T100000
END:DAYLIGHT
BEGIN:STANDARD
TZOFFSETFROM:-0700
TZOFFSETTO:-0800
TZNAME:PST
DTSTART:20251102T090000
END:STANDARD
BEGIN:DAYLIGHT
TZOFFSETFROM:-0800
TZOFFSETTO:-0700
TZNAME:PDT
DTSTART:20260308T100000
END:DAYLIGHT
BEGIN:STANDARD
TZOFFSETFROM:-0700
TZOFFSETTO:-0800
TZNAME:PST
DTSTART:20261101T090000
END:STANDARD
BEGIN:DAYLIGHT
TZOFFSETFROM:-0800
TZOFFSETTO:-0700
TZNAME:PDT
DTSTART:20270314T100000
END:DAYLIGHT
BEGIN:STANDARD
TZOFFSETFROM:-0700
TZOFFSETTO:-0800
TZNAME:PST
DTSTART:20271107T090000
END:STANDARD
END:VTIMEZONE
BEGIN:VEVENT
DTSTART;TZID=America/Los_Angeles:20260109T193000
DTEND;TZID=America/Los_Angeles:20260109T223000
DTSTAMP:20260423T203903
CREATED:20251022T161255Z
LAST-MODIFIED:20251022T161255Z
UID:21603-1767987000-1767997800@artsalliancedavis.org
SUMMARY:Legally Blonde
DESCRIPTION:Legally Blonde – January 9 through February 1\, 2026\nUnderwritten by Michael & Alice Smith\nFabulously fun and based on the adored movie\, Legally Blonde The Musical follows the transformation of Elle Woods as she tackles stereotypes\, snobbery and scandal in pursuit of her dreams. This action-packed musical explodes on the stage with memorable songs and dynamic dances. Equally parts hilarious and heartwarming\, this musical is so much fun it should be illegal. \nRecommended for ages 11 and up \nDirected by Kyle Jackson\nChoreographed by Kyle Jackson
URL:https://artsalliancedavis.org/event/legally-blonde/
LOCATION:Davis Musical Theatre Co. (DMTC)\, 607 Pena Dr.
CATEGORIES:Stage & Dance
ATTACH;FMTTYPE=image/jpeg:https://artsalliancedavis.org/wp-content/uploads/2025/10/Legally-Blonde-3lNMFz.jpg
END:VEVENT
BEGIN:VEVENT
DTSTART;TZID=America/Los_Angeles:20260110T193000
DTEND;TZID=America/Los_Angeles:20260110T223000
DTSTAMP:20260423T203903
CREATED:20251022T161312Z
LAST-MODIFIED:20251022T161312Z
UID:21609-1768073400-1768084200@artsalliancedavis.org
SUMMARY:Legally Blonde
DESCRIPTION:Legally Blonde – January 9 through February 1\, 2026\nUnderwritten by Michael & Alice Smith\nFabulously fun and based on the adored movie\, Legally Blonde The Musical follows the transformation of Elle Woods as she tackles stereotypes\, snobbery and scandal in pursuit of her dreams. This action-packed musical explodes on the stage with memorable songs and dynamic dances. Equally parts hilarious and heartwarming\, this musical is so much fun it should be illegal. \nRecommended for ages 11 and up \nDirected by Kyle Jackson\nChoreographed by Kyle Jackson
URL:https://artsalliancedavis.org/event/legally-blonde-2/
LOCATION:Davis Musical Theatre Co. (DMTC)\, 607 Pena Dr.
CATEGORIES:Stage & Dance
ATTACH;FMTTYPE=image/jpeg:https://artsalliancedavis.org/wp-content/uploads/2025/10/Legally-Blonde-3lNMFz.jpg
END:VEVENT
BEGIN:VEVENT
DTSTART;TZID=America/Los_Angeles:20260111T140000
DTEND;TZID=America/Los_Angeles:20260111T170000
DTSTAMP:20260423T203903
CREATED:20251022T161313Z
LAST-MODIFIED:20251022T161313Z
UID:21611-1768140000-1768150800@artsalliancedavis.org
SUMMARY:Legally Blonde
DESCRIPTION:Legally Blonde – January 9 through February 1\, 2026\nUnderwritten by Michael & Alice Smith\nFabulously fun and based on the adored movie\, Legally Blonde The Musical follows the transformation of Elle Woods as she tackles stereotypes\, snobbery and scandal in pursuit of her dreams. This action-packed musical explodes on the stage with memorable songs and dynamic dances. Equally parts hilarious and heartwarming\, this musical is so much fun it should be illegal. \nRecommended for ages 11 and up \nDirected by Kyle Jackson\nChoreographed by Kyle Jackson
URL:https://artsalliancedavis.org/event/legally-blonde-3/
LOCATION:Davis Musical Theatre Co. (DMTC)\, 607 Pena Dr.
CATEGORIES:Stage & Dance
ATTACH;FMTTYPE=image/jpeg:https://artsalliancedavis.org/wp-content/uploads/2025/10/Legally-Blonde-3lNMFz.jpg
END:VEVENT
BEGIN:VEVENT
DTSTART;TZID=America/Los_Angeles:20260116T193000
DTEND;TZID=America/Los_Angeles:20260116T223000
DTSTAMP:20260423T203903
CREATED:20251022T161450Z
LAST-MODIFIED:20251022T161450Z
UID:21655-1768591800-1768602600@artsalliancedavis.org
SUMMARY:Legally Blonde
DESCRIPTION:Legally Blonde – January 9 through February 1\, 2026\nUnderwritten by Michael & Alice Smith\nFabulously fun and based on the adored movie\, Legally Blonde The Musical follows the transformation of Elle Woods as she tackles stereotypes\, snobbery and scandal in pursuit of her dreams. This action-packed musical explodes on the stage with memorable songs and dynamic dances. Equally parts hilarious and heartwarming\, this musical is so much fun it should be illegal. \nRecommended for ages 11 and up \nDirected by Kyle Jackson\nChoreographed by Kyle Jackson
URL:https://artsalliancedavis.org/event/legally-blonde-4/
LOCATION:Davis Musical Theatre Co. (DMTC)\, 607 Pena Dr.
CATEGORIES:Stage & Dance
ATTACH;FMTTYPE=image/jpeg:https://artsalliancedavis.org/wp-content/uploads/2025/10/Legally-Blonde-3lNMFz.jpg
END:VEVENT
BEGIN:VEVENT
DTSTART;TZID=America/Los_Angeles:20260116T193000
DTEND;TZID=America/Los_Angeles:20260116T223000
DTSTAMP:20260423T203903
CREATED:20251231T171938Z
LAST-MODIFIED:20251231T171938Z
UID:22990-1768591800-1768602600@artsalliancedavis.org
SUMMARY:Legally Blonde
DESCRIPTION:Legally Blonde – January 9 through February 1\, 2026\nUnderwritten by Michael & Alice Smith\nFabulously fun and based on the adored movie\, Legally Blonde The Musical follows the transformation of Elle Woods as she tackles stereotypes\, snobbery and scandal in pursuit of her dreams. This action-packed musical explodes on the stage with memorable songs and dynamic dances. Equally parts hilarious and heartwarming\, this musical is so much fun it should be illegal. \nRecommended for ages 11 and up \nDirected by Kyle Jackson\nChoreographed by Kyle Jackson
URL:https://artsalliancedavis.org/event/legally-blonde-13/
LOCATION:Davis Musical Theatre Co. (DMTC)\, 607 Pena Dr.
CATEGORIES:Stage & Dance
ATTACH;FMTTYPE=image/jpeg:https://artsalliancedavis.org/wp-content/uploads/2025/10/Legally-Blonde-3lNMFz.jpg
END:VEVENT
BEGIN:VEVENT
DTSTART;TZID=America/Los_Angeles:20260117T193000
DTEND;TZID=America/Los_Angeles:20260117T223000
DTSTAMP:20260423T203903
CREATED:20251022T161453Z
LAST-MODIFIED:20251022T161453Z
UID:21660-1768678200-1768689000@artsalliancedavis.org
SUMMARY:Legally Blonde
DESCRIPTION:Legally Blonde – January 9 through February 1\, 2026\nUnderwritten by Michael & Alice Smith\nFabulously fun and based on the adored movie\, Legally Blonde The Musical follows the transformation of Elle Woods as she tackles stereotypes\, snobbery and scandal in pursuit of her dreams. This action-packed musical explodes on the stage with memorable songs and dynamic dances. Equally parts hilarious and heartwarming\, this musical is so much fun it should be illegal. \nRecommended for ages 11 and up \nDirected by Kyle Jackson\nChoreographed by Kyle Jackson
URL:https://artsalliancedavis.org/event/legally-blonde-5/
LOCATION:Davis Musical Theatre Co. (DMTC)\, 607 Pena Dr.
CATEGORIES:Stage & Dance
ATTACH;FMTTYPE=image/jpeg:https://artsalliancedavis.org/wp-content/uploads/2025/10/Legally-Blonde-3lNMFz.jpg
END:VEVENT
BEGIN:VEVENT
DTSTART;TZID=America/Los_Angeles:20260118T140000
DTEND;TZID=America/Los_Angeles:20260118T170000
DTSTAMP:20260423T203903
CREATED:20251022T161508Z
LAST-MODIFIED:20251022T161508Z
UID:21662-1768744800-1768755600@artsalliancedavis.org
SUMMARY:Legally Blonde
DESCRIPTION:Legally Blonde – January 9 through February 1\, 2026\nUnderwritten by Michael & Alice Smith\nFabulously fun and based on the adored movie\, Legally Blonde The Musical follows the transformation of Elle Woods as she tackles stereotypes\, snobbery and scandal in pursuit of her dreams. This action-packed musical explodes on the stage with memorable songs and dynamic dances. Equally parts hilarious and heartwarming\, this musical is so much fun it should be illegal. \nRecommended for ages 11 and up \nDirected by Kyle Jackson\nChoreographed by Kyle Jackson
URL:https://artsalliancedavis.org/event/legally-blonde-6/
LOCATION:Davis Musical Theatre Co. (DMTC)\, 607 Pena Dr.
CATEGORIES:Stage & Dance
ATTACH;FMTTYPE=image/jpeg:https://artsalliancedavis.org/wp-content/uploads/2025/10/Legally-Blonde-3lNMFz.jpg
END:VEVENT
BEGIN:VEVENT
DTSTART;TZID=America/Los_Angeles:20260123T193000
DTEND;TZID=America/Los_Angeles:20260123T223000
DTSTAMP:20260423T203903
CREATED:20251025T171138Z
LAST-MODIFIED:20251025T171138Z
UID:21795-1769196600-1769207400@artsalliancedavis.org
SUMMARY:Legally Blonde
DESCRIPTION:Legally Blonde – January 9 through February 1\, 2026\nUnderwritten by Michael & Alice Smith\nFabulously fun and based on the adored movie\, Legally Blonde The Musical follows the transformation of Elle Woods as she tackles stereotypes\, snobbery and scandal in pursuit of her dreams. This action-packed musical explodes on the stage with memorable songs and dynamic dances. Equally parts hilarious and heartwarming\, this musical is so much fun it should be illegal. \nRecommended for ages 11 and up \nDirected by Kyle Jackson\nChoreographed by Kyle Jackson
URL:https://artsalliancedavis.org/event/legally-blonde-7/
LOCATION:Davis Musical Theatre Co. (DMTC)\, 607 Pena Dr.
CATEGORIES:Stage & Dance
ATTACH;FMTTYPE=image/jpeg:https://artsalliancedavis.org/wp-content/uploads/2025/10/Legally-Blonde-3lNMFz.jpg
END:VEVENT
BEGIN:VEVENT
DTSTART;TZID=America/Los_Angeles:20260124T193000
DTEND;TZID=America/Los_Angeles:20260124T223000
DTSTAMP:20260423T203903
CREATED:20251026T174505Z
LAST-MODIFIED:20251026T174505Z
UID:21845-1769283000-1769293800@artsalliancedavis.org
SUMMARY:Legally Blonde
DESCRIPTION:Legally Blonde – January 9 through February 1\, 2026\nUnderwritten by Michael & Alice Smith\nFabulously fun and based on the adored movie\, Legally Blonde The Musical follows the transformation of Elle Woods as she tackles stereotypes\, snobbery and scandal in pursuit of her dreams. This action-packed musical explodes on the stage with memorable songs and dynamic dances. Equally parts hilarious and heartwarming\, this musical is so much fun it should be illegal. \nRecommended for ages 11 and up \nDirected by Kyle Jackson\nChoreographed by Kyle Jackson
URL:https://artsalliancedavis.org/event/legally-blonde-8/
LOCATION:Davis Musical Theatre Co. (DMTC)\, 607 Pena Dr.
CATEGORIES:Stage & Dance
ATTACH;FMTTYPE=image/jpeg:https://artsalliancedavis.org/wp-content/uploads/2025/10/Legally-Blonde-3lNMFz.jpg
END:VEVENT
BEGIN:VEVENT
DTSTART;TZID=America/Los_Angeles:20260125T140000
DTEND;TZID=America/Los_Angeles:20260125T170000
DTSTAMP:20260423T203903
CREATED:20251027T181744Z
LAST-MODIFIED:20251027T181744Z
UID:21851-1769349600-1769360400@artsalliancedavis.org
SUMMARY:Legally Blonde
DESCRIPTION:Legally Blonde – January 9 through February 1\, 2026\nUnderwritten by Michael & Alice Smith\nFabulously fun and based on the adored movie\, Legally Blonde The Musical follows the transformation of Elle Woods as she tackles stereotypes\, snobbery and scandal in pursuit of her dreams. This action-packed musical explodes on the stage with memorable songs and dynamic dances. Equally parts hilarious and heartwarming\, this musical is so much fun it should be illegal. \nRecommended for ages 11 and up \nDirected by Kyle Jackson\nChoreographed by Kyle Jackson
URL:https://artsalliancedavis.org/event/legally-blonde-9/
LOCATION:Davis Musical Theatre Co. (DMTC)\, 607 Pena Dr.
CATEGORIES:Stage & Dance
ATTACH;FMTTYPE=image/jpeg:https://artsalliancedavis.org/wp-content/uploads/2025/10/Legally-Blonde-3lNMFz.jpg
END:VEVENT
BEGIN:VEVENT
DTSTART;TZID=America/Los_Angeles:20260130T193000
DTEND;TZID=America/Los_Angeles:20260130T223000
DTSTAMP:20260423T203903
CREATED:20251101T204101Z
LAST-MODIFIED:20251101T204101Z
UID:21953-1769801400-1769812200@artsalliancedavis.org
SUMMARY:Legally Blonde
DESCRIPTION:Legally Blonde – January 9 through February 1\, 2026\nUnderwritten by Michael & Alice Smith\nFabulously fun and based on the adored movie\, Legally Blonde The Musical follows the transformation of Elle Woods as she tackles stereotypes\, snobbery and scandal in pursuit of her dreams. This action-packed musical explodes on the stage with memorable songs and dynamic dances. Equally parts hilarious and heartwarming\, this musical is so much fun it should be illegal. \nRecommended for ages 11 and up \nDirected by Kyle Jackson\nChoreographed by Kyle Jackson
URL:https://artsalliancedavis.org/event/legally-blonde-10/
LOCATION:Davis Musical Theatre Co. (DMTC)\, 607 Pena Dr.
CATEGORIES:Stage & Dance
ATTACH;FMTTYPE=image/jpeg:https://artsalliancedavis.org/wp-content/uploads/2025/10/Legally-Blonde-3lNMFz.jpg
END:VEVENT
BEGIN:VEVENT
DTSTART;TZID=America/Los_Angeles:20260131T193000
DTEND;TZID=America/Los_Angeles:20260131T223000
DTSTAMP:20260423T203903
CREATED:20251102T211145Z
LAST-MODIFIED:20251102T211145Z
UID:21966-1769887800-1769898600@artsalliancedavis.org
SUMMARY:Legally Blonde
DESCRIPTION:Legally Blonde – January 9 through February 1\, 2026\nUnderwritten by Michael & Alice Smith\nFabulously fun and based on the adored movie\, Legally Blonde The Musical follows the transformation of Elle Woods as she tackles stereotypes\, snobbery and scandal in pursuit of her dreams. This action-packed musical explodes on the stage with memorable songs and dynamic dances. Equally parts hilarious and heartwarming\, this musical is so much fun it should be illegal. \nRecommended for ages 11 and up \nDirected by Kyle Jackson\nChoreographed by Kyle Jackson
URL:https://artsalliancedavis.org/event/legally-blonde-11/
LOCATION:Davis Musical Theatre Co. (DMTC)\, 607 Pena Dr.
CATEGORIES:Stage & Dance
ATTACH;FMTTYPE=image/jpeg:https://artsalliancedavis.org/wp-content/uploads/2025/10/Legally-Blonde-3lNMFz.jpg
END:VEVENT
END:VCALENDAR