BEGIN:VCALENDAR
VERSION:2.0
PRODID:-//Arts Alliance Davis - ECPv6.15.20//NONSGML v1.0//EN
CALSCALE:GREGORIAN
METHOD:PUBLISH
X-WR-CALNAME:Arts Alliance Davis
X-ORIGINAL-URL:https://artsalliancedavis.org
X-WR-CALDESC:Events for Arts Alliance Davis
REFRESH-INTERVAL;VALUE=DURATION:PT1H
X-Robots-Tag:noindex
X-PUBLISHED-TTL:PT1H
BEGIN:VTIMEZONE
TZID:America/Los_Angeles
BEGIN:DAYLIGHT
TZOFFSETFROM:-0800
TZOFFSETTO:-0700
TZNAME:PDT
DTSTART:20250309T100000
END:DAYLIGHT
BEGIN:STANDARD
TZOFFSETFROM:-0700
TZOFFSETTO:-0800
TZNAME:PST
DTSTART:20251102T090000
END:STANDARD
BEGIN:DAYLIGHT
TZOFFSETFROM:-0800
TZOFFSETTO:-0700
TZNAME:PDT
DTSTART:20260308T100000
END:DAYLIGHT
BEGIN:STANDARD
TZOFFSETFROM:-0700
TZOFFSETTO:-0800
TZNAME:PST
DTSTART:20261101T090000
END:STANDARD
BEGIN:DAYLIGHT
TZOFFSETFROM:-0800
TZOFFSETTO:-0700
TZNAME:PDT
DTSTART:20270314T100000
END:DAYLIGHT
BEGIN:STANDARD
TZOFFSETFROM:-0700
TZOFFSETTO:-0800
TZNAME:PST
DTSTART:20271107T090000
END:STANDARD
END:VTIMEZONE
BEGIN:VEVENT
DTSTART;TZID=America/Los_Angeles:20260306T193000
DTEND;TZID=America/Los_Angeles:20260306T223000
DTSTAMP:20260423T150528
CREATED:20251206T213446Z
LAST-MODIFIED:20251206T213446Z
UID:22631-1772825400-1772836200@artsalliancedavis.org
SUMMARY:Little Shop of Horrors
DESCRIPTION:Little Shop of Horrors – March 6 through March 29\, 2026\nUnderwritten by Sharon Joyce\nThe meek floral assistant Seymour Krelborn stumbles across a new breed of plant he names “Audrey II” – after his coworker crush. This foul-mouthed\, R&B-singing carnivore promises unending fame and fortune to the down and out Krelborn as long as he keeps feeding it\, BLOOD. Over time\, though\, Seymour discovers Audrey II’s out of this world origins and intent towards global domination! \nDirected by Steve Isaacson\nChoreographed by Logan Sexton\nMusical direction by Tonya Whitson-Whennen
URL:https://artsalliancedavis.org/event/little-shop-of-horrors/
LOCATION:Davis Musical Theatre Co. (DMTC)\, 607 Pena Dr.
CATEGORIES:Stage & Dance
ATTACH;FMTTYPE=image/jpeg:https://artsalliancedavis.org/wp-content/uploads/2025/12/Little-Shop-D3Xc8l.jpg
END:VEVENT
BEGIN:VEVENT
DTSTART;TZID=America/Los_Angeles:20260307T193000
DTEND;TZID=America/Los_Angeles:20260307T223000
DTSTAMP:20260423T150528
CREATED:20251207T215309Z
LAST-MODIFIED:20251207T215309Z
UID:22638-1772911800-1772922600@artsalliancedavis.org
SUMMARY:Little Shop of Horrors
DESCRIPTION:Little Shop of Horrors – March 6 through March 29\, 2026\nUnderwritten by Sharon Joyce\nThe meek floral assistant Seymour Krelborn stumbles across a new breed of plant he names “Audrey II” – after his coworker crush. This foul-mouthed\, R&B-singing carnivore promises unending fame and fortune to the down and out Krelborn as long as he keeps feeding it\, BLOOD. Over time\, though\, Seymour discovers Audrey II’s out of this world origins and intent towards global domination! \nDirected by Steve Isaacson\nChoreographed by Logan Sexton\nMusical direction by Tonya Whitson-Whennen
URL:https://artsalliancedavis.org/event/little-shop-of-horrors-2/
LOCATION:Davis Musical Theatre Co. (DMTC)\, 607 Pena Dr.
CATEGORIES:Stage & Dance
ATTACH;FMTTYPE=image/jpeg:https://artsalliancedavis.org/wp-content/uploads/2025/12/Little-Shop-D3Xc8l.jpg
END:VEVENT
BEGIN:VEVENT
DTSTART;TZID=America/Los_Angeles:20260308T140000
DTEND;TZID=America/Los_Angeles:20260308T170000
DTSTAMP:20260423T150528
CREATED:20251208T221138Z
LAST-MODIFIED:20251208T221138Z
UID:22642-1772978400-1772989200@artsalliancedavis.org
SUMMARY:Little Shop of Horrors
DESCRIPTION:Little Shop of Horrors – March 6 through March 29\, 2026\nUnderwritten by Sharon Joyce\nThe meek floral assistant Seymour Krelborn stumbles across a new breed of plant he names “Audrey II” – after his coworker crush. This foul-mouthed\, R&B-singing carnivore promises unending fame and fortune to the down and out Krelborn as long as he keeps feeding it\, BLOOD. Over time\, though\, Seymour discovers Audrey II’s out of this world origins and intent towards global domination! \nDirected by Steve Isaacson\nChoreographed by Logan Sexton\nMusical direction by Tonya Whitson-Whennen
URL:https://artsalliancedavis.org/event/little-shop-of-horrors-3/
LOCATION:Davis Musical Theatre Co. (DMTC)\, 607 Pena Dr.
CATEGORIES:Stage & Dance
ATTACH;FMTTYPE=image/jpeg:https://artsalliancedavis.org/wp-content/uploads/2025/12/Little-Shop-D3Xc8l.jpg
END:VEVENT
BEGIN:VEVENT
DTSTART;TZID=America/Los_Angeles:20260313T193000
DTEND;TZID=America/Los_Angeles:20260313T223000
DTSTAMP:20260423T150528
CREATED:20251213T231142Z
LAST-MODIFIED:20251213T231142Z
UID:22755-1773430200-1773441000@artsalliancedavis.org
SUMMARY:Little Shop of Horrors
DESCRIPTION:Little Shop of Horrors – March 6 through March 29\, 2026\nUnderwritten by Sharon Joyce\nThe meek floral assistant Seymour Krelborn stumbles across a new breed of plant he names “Audrey II” – after his coworker crush. This foul-mouthed\, R&B-singing carnivore promises unending fame and fortune to the down and out Krelborn as long as he keeps feeding it\, BLOOD. Over time\, though\, Seymour discovers Audrey II’s out of this world origins and intent towards global domination! \nDirected by Steve Isaacson\nChoreographed by Logan Sexton\nMusical direction by Tonya Whitson-Whennen
URL:https://artsalliancedavis.org/event/little-shop-of-horrors-4/
LOCATION:Davis Musical Theatre Co. (DMTC)\, 607 Pena Dr.
CATEGORIES:Stage & Dance
ATTACH;FMTTYPE=image/jpeg:https://artsalliancedavis.org/wp-content/uploads/2025/12/Little-Shop-D3Xc8l.jpg
END:VEVENT
BEGIN:VEVENT
DTSTART;TZID=America/Los_Angeles:20260314T193000
DTEND;TZID=America/Los_Angeles:20260314T223000
DTSTAMP:20260423T150528
CREATED:20251214T232921Z
LAST-MODIFIED:20251214T232921Z
UID:22771-1773516600-1773527400@artsalliancedavis.org
SUMMARY:Little Shop of Horrors
DESCRIPTION:Little Shop of Horrors – March 6 through March 29\, 2026\nUnderwritten by Sharon Joyce\nThe meek floral assistant Seymour Krelborn stumbles across a new breed of plant he names “Audrey II” – after his coworker crush. This foul-mouthed\, R&B-singing carnivore promises unending fame and fortune to the down and out Krelborn as long as he keeps feeding it\, BLOOD. Over time\, though\, Seymour discovers Audrey II’s out of this world origins and intent towards global domination! \nDirected by Steve Isaacson\nChoreographed by Logan Sexton\nMusical direction by Tonya Whitson-Whennen
URL:https://artsalliancedavis.org/event/little-shop-of-horrors-5/
LOCATION:Davis Musical Theatre Co. (DMTC)\, 607 Pena Dr.
CATEGORIES:Stage & Dance
ATTACH;FMTTYPE=image/jpeg:https://artsalliancedavis.org/wp-content/uploads/2025/12/Little-Shop-D3Xc8l.jpg
END:VEVENT
BEGIN:VEVENT
DTSTART;TZID=America/Los_Angeles:20260314T200000
DTEND;TZID=America/Los_Angeles:20260314T220000
DTSTAMP:20260423T150528
CREATED:20260219T182246Z
LAST-MODIFIED:20260219T182246Z
UID:23836-1773518400-1773525600@artsalliancedavis.org
SUMMARY:Crux Crawford – Stand-up Comedy Show
DESCRIPTION:Watermelon Music is bringing the hilarious Crux Crawford to Davis\, CA on Saturday\, March 14th at 8pm! (Limited Seating) \nCrux Crawford is a nationally touring comedian with roots in Los Angeles. Known for his sharp\, relatable humor\, Crux’s material draws from his experiences as a father\, an aging millennial\, and the balancing act of managing family life while traveling the stand-up comedy circuit. \nWith millions of views on platforms like TikTok and YouTube\, Crux has quickly become a rising star in the comedy world. He’s shared the stage with comedy icons like Russell Peters\, Pablo Francisco\, Josh Blue\, and Pauly Shore\, among others. Crux was awarded Best of the Fest at the prestigious Burbank Comedy Festival\, solidifying his place as one of comedy’s most exciting up-and-comers. \n$20 in advance\, $30 at the door. \n18+ Only
URL:https://artsalliancedavis.org/event/crux-crawford-stand-up-comedy-show/
LOCATION:Melon Ball – Watermelon Music\, 1970 Lake Blvd\, Suite #1\, Davis\, California\, 95616\, United States
ATTACH;FMTTYPE=image/jpeg:https://artsalliancedavis.org/wp-content/uploads/2026/02/314-Davis-CA-Flyer-wQR-Code-scaled-LjIM6M.jpg
ORGANIZER;CN="Watermelon Music":MAILTO:watermelonmusicdavis@gmail.com
END:VEVENT
BEGIN:VEVENT
DTSTART;TZID=America/Los_Angeles:20260315T140000
DTEND;TZID=America/Los_Angeles:20260315T170000
DTSTAMP:20260423T150528
CREATED:20251215T234112Z
LAST-MODIFIED:20251215T234112Z
UID:22775-1773583200-1773594000@artsalliancedavis.org
SUMMARY:Little Shop of Horrors
DESCRIPTION:Little Shop of Horrors – March 6 through March 29\, 2026\nUnderwritten by Sharon Joyce\nThe meek floral assistant Seymour Krelborn stumbles across a new breed of plant he names “Audrey II” – after his coworker crush. This foul-mouthed\, R&B-singing carnivore promises unending fame and fortune to the down and out Krelborn as long as he keeps feeding it\, BLOOD. Over time\, though\, Seymour discovers Audrey II’s out of this world origins and intent towards global domination! \nDirected by Steve Isaacson\nChoreographed by Logan Sexton\nMusical direction by Tonya Whitson-Whennen
URL:https://artsalliancedavis.org/event/little-shop-of-horrors-6/
LOCATION:Davis Musical Theatre Co. (DMTC)\, 607 Pena Dr.
CATEGORIES:Stage & Dance
ATTACH;FMTTYPE=image/jpeg:https://artsalliancedavis.org/wp-content/uploads/2025/12/Little-Shop-D3Xc8l.jpg
END:VEVENT
BEGIN:VEVENT
DTSTART;TZID=America/Los_Angeles:20260320T193000
DTEND;TZID=America/Los_Angeles:20260320T223000
DTSTAMP:20260423T150528
CREATED:20251220T144532Z
LAST-MODIFIED:20251220T144532Z
UID:22867-1774035000-1774045800@artsalliancedavis.org
SUMMARY:Little Shop of Horrors
DESCRIPTION:Little Shop of Horrors – March 6 through March 29\, 2026\nUnderwritten by Sharon Joyce\nThe meek floral assistant Seymour Krelborn stumbles across a new breed of plant he names “Audrey II” – after his coworker crush. This foul-mouthed\, R&B-singing carnivore promises unending fame and fortune to the down and out Krelborn as long as he keeps feeding it\, BLOOD. Over time\, though\, Seymour discovers Audrey II’s out of this world origins and intent towards global domination! \nDirected by Steve Isaacson\nChoreographed by Logan Sexton\nMusical direction by Tonya Whitson-Whennen
URL:https://artsalliancedavis.org/event/little-shop-of-horrors-7/
LOCATION:Davis Musical Theatre Co. (DMTC)\, 607 Pena Dr.
CATEGORIES:Stage & Dance
ATTACH;FMTTYPE=image/jpeg:https://artsalliancedavis.org/wp-content/uploads/2025/12/Little-Shop-D3Xc8l.jpg
END:VEVENT
BEGIN:VEVENT
DTSTART;TZID=America/Los_Angeles:20260321T193000
DTEND;TZID=America/Los_Angeles:20260321T223000
DTSTAMP:20260423T150528
CREATED:20251221T145813Z
LAST-MODIFIED:20251221T145813Z
UID:22874-1774121400-1774132200@artsalliancedavis.org
SUMMARY:Little Shop of Horrors
DESCRIPTION:Little Shop of Horrors – March 6 through March 29\, 2026\nUnderwritten by Sharon Joyce\nThe meek floral assistant Seymour Krelborn stumbles across a new breed of plant he names “Audrey II” – after his coworker crush. This foul-mouthed\, R&B-singing carnivore promises unending fame and fortune to the down and out Krelborn as long as he keeps feeding it\, BLOOD. Over time\, though\, Seymour discovers Audrey II’s out of this world origins and intent towards global domination! \nDirected by Steve Isaacson\nChoreographed by Logan Sexton\nMusical direction by Tonya Whitson-Whennen
URL:https://artsalliancedavis.org/event/little-shop-of-horrors-8/
LOCATION:Davis Musical Theatre Co. (DMTC)\, 607 Pena Dr.
CATEGORIES:Stage & Dance
ATTACH;FMTTYPE=image/jpeg:https://artsalliancedavis.org/wp-content/uploads/2025/12/Little-Shop-D3Xc8l.jpg
END:VEVENT
BEGIN:VEVENT
DTSTART;TZID=America/Los_Angeles:20260322T140000
DTEND;TZID=America/Los_Angeles:20260322T170000
DTSTAMP:20260423T150528
CREATED:20251222T151235Z
LAST-MODIFIED:20251222T151235Z
UID:22879-1774188000-1774198800@artsalliancedavis.org
SUMMARY:Little Shop of Horrors
DESCRIPTION:Little Shop of Horrors – March 6 through March 29\, 2026\nUnderwritten by Sharon Joyce\nThe meek floral assistant Seymour Krelborn stumbles across a new breed of plant he names “Audrey II” – after his coworker crush. This foul-mouthed\, R&B-singing carnivore promises unending fame and fortune to the down and out Krelborn as long as he keeps feeding it\, BLOOD. Over time\, though\, Seymour discovers Audrey II’s out of this world origins and intent towards global domination! \nDirected by Steve Isaacson\nChoreographed by Logan Sexton\nMusical direction by Tonya Whitson-Whennen
URL:https://artsalliancedavis.org/event/little-shop-of-horrors-9/
LOCATION:Davis Musical Theatre Co. (DMTC)\, 607 Pena Dr.
CATEGORIES:Stage & Dance
ATTACH;FMTTYPE=image/jpeg:https://artsalliancedavis.org/wp-content/uploads/2025/12/Little-Shop-D3Xc8l.jpg
END:VEVENT
BEGIN:VEVENT
DTSTART;TZID=America/Los_Angeles:20260322T140000
DTEND;TZID=America/Los_Angeles:20260322T170000
DTSTAMP:20260423T150528
CREATED:20260225T200007Z
LAST-MODIFIED:20260225T200007Z
UID:23989-1774188000-1774198800@artsalliancedavis.org
SUMMARY:Little Shop of Horrors
DESCRIPTION:Little Shop of Horrors – March 6 through March 29\, 2026\nUnderwritten by Sharon Joyce\nThe meek floral assistant Seymour Krelborn stumbles across a new breed of plant he names “Audrey II” – after his coworker crush. This foul-mouthed\, R&B-singing carnivore promises unending fame and fortune to the down and out Krelborn as long as he keeps feeding it\, BLOOD. Over time\, though\, Seymour discovers Audrey II’s out of this world origins and intent towards global domination! \nDirected by Steve Isaacson\nChoreographed by Logan Sexton\nMusical direction by Tonya Whitson-Whennen
URL:https://artsalliancedavis.org/event/little-shop-of-horrors-13/
LOCATION:Davis Musical Theatre Co. (DMTC)\, 607 Pena Dr.
CATEGORIES:Stage & Dance
ATTACH;FMTTYPE=image/jpeg:https://artsalliancedavis.org/wp-content/uploads/2025/12/Little-Shop-D3Xc8l.jpg
END:VEVENT
BEGIN:VEVENT
DTSTART;TZID=America/Los_Angeles:20260327T193000
DTEND;TZID=America/Los_Angeles:20260327T223000
DTSTAMP:20260423T150528
CREATED:20251227T163010Z
LAST-MODIFIED:20251227T163010Z
UID:22965-1774639800-1774650600@artsalliancedavis.org
SUMMARY:Little Shop of Horrors
DESCRIPTION:Little Shop of Horrors – March 6 through March 29\, 2026\nUnderwritten by Sharon Joyce\nThe meek floral assistant Seymour Krelborn stumbles across a new breed of plant he names “Audrey II” – after his coworker crush. This foul-mouthed\, R&B-singing carnivore promises unending fame and fortune to the down and out Krelborn as long as he keeps feeding it\, BLOOD. Over time\, though\, Seymour discovers Audrey II’s out of this world origins and intent towards global domination! \nDirected by Steve Isaacson\nChoreographed by Logan Sexton\nMusical direction by Tonya Whitson-Whennen
URL:https://artsalliancedavis.org/event/little-shop-of-horrors-10/
LOCATION:Davis Musical Theatre Co. (DMTC)\, 607 Pena Dr.
CATEGORIES:Stage & Dance
ATTACH;FMTTYPE=image/jpeg:https://artsalliancedavis.org/wp-content/uploads/2025/12/Little-Shop-D3Xc8l.jpg
END:VEVENT
BEGIN:VEVENT
DTSTART;TZID=America/Los_Angeles:20260328T193000
DTEND;TZID=America/Los_Angeles:20260328T223000
DTSTAMP:20260423T150528
CREATED:20251228T164328Z
LAST-MODIFIED:20251228T164328Z
UID:22972-1774726200-1774737000@artsalliancedavis.org
SUMMARY:Little Shop of Horrors
DESCRIPTION:Little Shop of Horrors – March 6 through March 29\, 2026\nUnderwritten by Sharon Joyce\nThe meek floral assistant Seymour Krelborn stumbles across a new breed of plant he names “Audrey II” – after his coworker crush. This foul-mouthed\, R&B-singing carnivore promises unending fame and fortune to the down and out Krelborn as long as he keeps feeding it\, BLOOD. Over time\, though\, Seymour discovers Audrey II’s out of this world origins and intent towards global domination! \nDirected by Steve Isaacson\nChoreographed by Logan Sexton\nMusical direction by Tonya Whitson-Whennen
URL:https://artsalliancedavis.org/event/little-shop-of-horrors-11/
LOCATION:Davis Musical Theatre Co. (DMTC)\, 607 Pena Dr.
CATEGORIES:Stage & Dance
ATTACH;FMTTYPE=image/jpeg:https://artsalliancedavis.org/wp-content/uploads/2025/12/Little-Shop-D3Xc8l.jpg
END:VEVENT
BEGIN:VEVENT
DTSTART;TZID=America/Los_Angeles:20260329T140000
DTEND;TZID=America/Los_Angeles:20260329T170000
DTSTAMP:20260423T150528
CREATED:20251229T165656Z
LAST-MODIFIED:20251229T165656Z
UID:22974-1774792800-1774803600@artsalliancedavis.org
SUMMARY:Little Shop of Horrors
DESCRIPTION:Little Shop of Horrors – March 6 through March 29\, 2026\nUnderwritten by Sharon Joyce\nThe meek floral assistant Seymour Krelborn stumbles across a new breed of plant he names “Audrey II” – after his coworker crush. This foul-mouthed\, R&B-singing carnivore promises unending fame and fortune to the down and out Krelborn as long as he keeps feeding it\, BLOOD. Over time\, though\, Seymour discovers Audrey II’s out of this world origins and intent towards global domination! \nDirected by Steve Isaacson\nChoreographed by Logan Sexton\nMusical direction by Tonya Whitson-Whennen
URL:https://artsalliancedavis.org/event/little-shop-of-horrors-12/
LOCATION:Davis Musical Theatre Co. (DMTC)\, 607 Pena Dr.
CATEGORIES:Stage & Dance
ATTACH;FMTTYPE=image/jpeg:https://artsalliancedavis.org/wp-content/uploads/2025/12/Little-Shop-D3Xc8l.jpg
END:VEVENT
END:VCALENDAR