BEGIN:VCALENDAR
VERSION:2.0
PRODID:-//Arts Alliance Davis - ECPv6.15.20//NONSGML v1.0//EN
CALSCALE:GREGORIAN
METHOD:PUBLISH
X-ORIGINAL-URL:https://artsalliancedavis.org
X-WR-CALDESC:Events for Arts Alliance Davis
REFRESH-INTERVAL;VALUE=DURATION:PT1H
X-Robots-Tag:noindex
X-PUBLISHED-TTL:PT1H
BEGIN:VTIMEZONE
TZID:America/Los_Angeles
BEGIN:DAYLIGHT
TZOFFSETFROM:-0800
TZOFFSETTO:-0700
TZNAME:PDT
DTSTART:20240310T100000
END:DAYLIGHT
BEGIN:STANDARD
TZOFFSETFROM:-0700
TZOFFSETTO:-0800
TZNAME:PST
DTSTART:20241103T090000
END:STANDARD
BEGIN:DAYLIGHT
TZOFFSETFROM:-0800
TZOFFSETTO:-0700
TZNAME:PDT
DTSTART:20250309T100000
END:DAYLIGHT
BEGIN:STANDARD
TZOFFSETFROM:-0700
TZOFFSETTO:-0800
TZNAME:PST
DTSTART:20251102T090000
END:STANDARD
BEGIN:DAYLIGHT
TZOFFSETFROM:-0800
TZOFFSETTO:-0700
TZNAME:PDT
DTSTART:20260308T100000
END:DAYLIGHT
BEGIN:STANDARD
TZOFFSETFROM:-0700
TZOFFSETTO:-0800
TZNAME:PST
DTSTART:20261101T090000
END:STANDARD
END:VTIMEZONE
BEGIN:VEVENT
DTSTART;TZID=America/Los_Angeles:20250503T190000
DTEND;TZID=America/Los_Angeles:20250503T201500
DTSTAMP:20260424T042650
CREATED:20250502T122146Z
LAST-MODIFIED:20250502T122146Z
UID:19274-1746298800-1746303300@artsalliancedavis.org
SUMMARY:PTDT Spring Concert: “Pressing Restart…”
DESCRIPTION:The Pamela Trokanski Dance Theatre invites the community to join them for the premiere of their new work: Pressing Restart… a thoughtful and sometimes humorous exploration of why it can be important to stop\, rethink\, and create a new beginning\, whether we are an individual\, a country\, or a world. \nJoining the PTDT are the PTDT Apprentice Company\, Light Ballet Company\, and The Third Stage. Known for work that integrates a strong sense of athleticism and technical training with idiosyncratic movements and a diverse range of movers\, including dancers ranging in age from 10 to 90+\, this is not your average dance performance! \nThe performance will open Sat\, May 3 @ 7pm\, with a follow up matinee performance on Sun\, May 4 @ 2pm. \nTickets are available in advance and at the door: $20 – General Admission / $15 – Children\, Students\, & Adults 65+ \nFor more info and/or to purchase tickets\, please email office@trokanski.com or call (530)756-3949 \nThis concert has been funded\, in part\, by Douglas Neuhauser\, Kimberly Baxter\, and Thomas S. Nesbitt & Lisa DeAmicis. \n 
URL:https://artsalliancedavis.org/event/ptdt-spring-concert-pressing-restart/
LOCATION:Louise H Kellogg Memorial Theater at the Pamela Trokanski Dance Workshop\, 2720 Del Rio Place\, Davis\, CA\, 95618\, United States
CATEGORIES:Bring the Kids,Community,Stage & Dance
ATTACH;FMTTYPE=image/jpeg:https://artsalliancedavis.org/wp-content/uploads/2025/05/Poster-2for-Monitor_Legs-Up-Q4PAgS.tmp_.jpg
ORGANIZER;CN="Pamela Trokanski Dance Theatre":MAILTO:office@trokanski.com
END:VEVENT
BEGIN:VEVENT
DTSTART;TZID=America/Los_Angeles:20250504T140000
DTEND;TZID=America/Los_Angeles:20250504T151500
DTSTAMP:20260424T042650
CREATED:20250502T122205Z
LAST-MODIFIED:20250502T122205Z
UID:19276-1746367200-1746371700@artsalliancedavis.org
SUMMARY:PTDT Spring Concert: “Pressing Restart…”
DESCRIPTION:The Pamela Trokanski Dance Theatre invites the community to join them for the premiere of their new work: Pressing Restart… a thoughtful and sometimes humorous exploration of why it can be important to stop\, rethink\, and create a new beginning \, whether we are an individual\, a country\, or a world. \nJoining the PTDT are the PTDT Apprentice Company\, Light Ballet Company\, and The Third Stage. Known for work that integrates a strong sense of athleticism and technical training with idiosyncratic movements and a diverse range of movers\, including dancers ranging in age from 10 to 90+\, this is not your average dance performance! \nThe performance opens on Sat\, May 3 @ 7pm\, with a follow up performance on Sun\, May 4 @ 2pm. \nAll performances are held at the Louise H Kellogg Memorial Theater\, at the Pamela Trokanski Dance Workshop. \nTickets are available in advance and at the door: $20 – General Admission / $15 – Children\, Students\, & Adults 65+. \nFor more info and/or to purchase tickets\, please email office@trokanski.com or call (530)756-3949. \nThis concert has been funded\, in part\, by Douglas Neuhauser\, Kimberly Baxter\, and Thomas S. Nesbitt & Lisa DeAmicis.
URL:https://artsalliancedavis.org/event/ptdt-spring-concert-pressing-restart-2/
LOCATION:Louise H Kellogg Memorial Theater at the Pamela Trokanski Dance Workshop\, 2720 Del Rio Place\, Davis\, CA\, 95618\, United States
CATEGORIES:Bring the Kids,Community,Stage & Dance
ATTACH;FMTTYPE=image/jpeg:https://artsalliancedavis.org/wp-content/uploads/2025/05/Poster-2for-Monitor_Legs-Up-1-QbCUPN.tmp_.jpg
ORGANIZER;CN="Pamela Trokanski Dance Theatre":MAILTO:office@trokanski.com
END:VEVENT
BEGIN:VEVENT
DTSTART;TZID=America/Los_Angeles:20250504T190000
DTEND;TZID=America/Los_Angeles:20250504T200000
DTSTAMP:20260424T042650
CREATED:20250424T214926Z
LAST-MODIFIED:20250424T214926Z
UID:19130-1746385200-1746388800@artsalliancedavis.org
SUMMARY:Empyrean Ensemble – Works by Graduate Students
DESCRIPTION:Empyrean Ensemble\nSam Nichols\, director • Matilda Hofman\, resident conductor \nMusicians Playing\nJennifer Ellis\, harp\nMichael Seth Orland\, piano*\nChris Froh\, percussion*\n*core member \n*core member \nProgram \nMax Gibson: . . . shrouded deeply\, tender darkness holds thy hand . . .  \nPeter Chatterjee: In Palaces of Dreams \nBryndan Moondy: field trio\, three glimpses in anaglyph \nFree \nAbout Empyrean\nEnsemble-in-residence at UC Davis\, the Empyrean Ensemble presents engaging and eclectic programs\, inviting audiences to experience new musical sensations delivered with high artistry by its extraordinary players—among the finest new music performers in California.
URL:https://artsalliancedavis.org/event/empyrean-ensemble-works-by-graduate-students/
LOCATION:Ann E. Pitzer Center\, Ann E. Pitzer Center UC Davis Campus\, 754-2787
CATEGORIES:Music
ATTACH;FMTTYPE=image/jpeg:https://artsalliancedavis.org/wp-content/uploads/2025/04/2025-05-04-Empyrean-ceq8He.tmp_.jpg
END:VEVENT
BEGIN:VEVENT
DTSTART;TZID=America/Los_Angeles:20250509T190000
DTEND;TZID=America/Los_Angeles:20250509T200000
DTSTAMP:20260424T042650
CREATED:20250503T230537Z
LAST-MODIFIED:20250503T230537Z
UID:19286-1746817200-1746820800@artsalliancedavis.org
SUMMARY:UC Davis Sinfonietta
DESCRIPTION:UC Davis Sinfonietta with members of the UC Davis Symphony Orchestra \nChristian Baldini\, director and conductor \nProgram\nAnna Clyne: Within Her Arms \nLukas Foss: For Toru for Flute and Strings \nDean Kervin Boursiquot: As I Dream (PREMIERE) \nTrey Makler: wanting to trust moonflowers for Flute and Strings (PREMIERE) \nFree
URL:https://artsalliancedavis.org/event/uc-davis-sinfonietta/
LOCATION:Ann E. Pitzer Center\, Ann E. Pitzer Center UC Davis Campus\, 754-2787
CATEGORIES:Music
ATTACH;FMTTYPE=image/png:https://artsalliancedavis.org/wp-content/uploads/2025/05/Screenshot-2025-04-30-at-1.19.09-PM-7lxfKG.tmp_.png
END:VEVENT
END:VCALENDAR