BEGIN:VCALENDAR
VERSION:2.0
PRODID:-//Arts Alliance Davis - ECPv6.15.20//NONSGML v1.0//EN
CALSCALE:GREGORIAN
METHOD:PUBLISH
X-ORIGINAL-URL:https://artsalliancedavis.org
X-WR-CALDESC:Events for Arts Alliance Davis
REFRESH-INTERVAL;VALUE=DURATION:PT1H
X-Robots-Tag:noindex
X-PUBLISHED-TTL:PT1H
BEGIN:VTIMEZONE
TZID:America/Los_Angeles
BEGIN:DAYLIGHT
TZOFFSETFROM:-0800
TZOFFSETTO:-0700
TZNAME:PDT
DTSTART:20240310T100000
END:DAYLIGHT
BEGIN:STANDARD
TZOFFSETFROM:-0700
TZOFFSETTO:-0800
TZNAME:PST
DTSTART:20241103T090000
END:STANDARD
BEGIN:DAYLIGHT
TZOFFSETFROM:-0800
TZOFFSETTO:-0700
TZNAME:PDT
DTSTART:20250309T100000
END:DAYLIGHT
BEGIN:STANDARD
TZOFFSETFROM:-0700
TZOFFSETTO:-0800
TZNAME:PST
DTSTART:20251102T090000
END:STANDARD
BEGIN:DAYLIGHT
TZOFFSETFROM:-0800
TZOFFSETTO:-0700
TZNAME:PDT
DTSTART:20260308T100000
END:DAYLIGHT
BEGIN:STANDARD
TZOFFSETFROM:-0700
TZOFFSETTO:-0800
TZNAME:PST
DTSTART:20261101T090000
END:STANDARD
END:VTIMEZONE
BEGIN:VEVENT
DTSTART;TZID=America/Los_Angeles:20251106T120000
DTEND;TZID=America/Los_Angeles:20251106T130000
DTSTAMP:20260423T195735
CREATED:20251022T154826Z
LAST-MODIFIED:20251022T154826Z
UID:21038-1762430400-1762434000@artsalliancedavis.org
SUMMARY:Taproot New Music Festival: Opening Concert
DESCRIPTION:Featuring new contemporary music\, the Taproot New Music Festival begins with a free performance featuring Ensemble Dal Niente and the Empyrean Ensemble\, UC Davis ensemble-in-residence.
URL:https://artsalliancedavis.org/event/taproot-new-music-festival-opening-concert/
LOCATION:Ann E. Pitzer Center\, Ann E. Pitzer Center UC Davis Campus\, 754-2787
CATEGORIES:Music
ATTACH;FMTTYPE=image/png:https://artsalliancedavis.org/wp-content/uploads/2025/10/2025-11-06-taproot-dsc_0488-noon-concert-uT8M0r.png
END:VEVENT
BEGIN:VEVENT
DTSTART;TZID=America/Los_Angeles:20251106T193000
DTEND;TZID=America/Los_Angeles:20251106T200000
DTSTAMP:20260423T195735
CREATED:20251022T154936Z
LAST-MODIFIED:20251022T154936Z
UID:21044-1762457400-1762459200@artsalliancedavis.org
SUMMARY:Taproot New Music Festival: Armadillo Music
DESCRIPTION:The Taproot New Music Festival moves off the UC Davis campus for a special concert at Armadillo Music in downtown Davis. Cellist Thalia Moore performs Raven Chacon’s “Quiver.”
URL:https://artsalliancedavis.org/event/taproot-new-music-festival-armadillo-music/
LOCATION:Armadillo Music\, 207 F St.\, Davis\, CA
CATEGORIES:Music
ATTACH;FMTTYPE=image/png:https://artsalliancedavis.org/wp-content/uploads/2025/10/moore_thalia15_ch_h2_6655-rgb-X0clAN.png
END:VEVENT
BEGIN:VEVENT
DTSTART;TZID=America/Los_Angeles:20251107T193000
DTEND;TZID=America/Los_Angeles:20251107T210000
DTSTAMP:20260423T195735
CREATED:20251022T154957Z
LAST-MODIFIED:20251022T154957Z
UID:21049-1762543800-1762549200@artsalliancedavis.org
SUMMARY:Taproot New Music Festival: Ensemble Dal Niente
DESCRIPTION:Ensemble Dal Niente performs new and experimental chamber music with dedication\, virtuosity\, and an exploratory spirit. Flexible and adaptable\, Dal Niente presents an uncommonly broad range of contemporary music\, guiding listeners towards music that transforms existing ideas and subverts convention. Ensemble Dal Niente is presented by the Mondavi Center for the Performing Arts. \n  \nRegular: $27.50\, Faculty/Staff: $24\, Child (under 18): $15.50\, UC Davis student: $12.00
URL:https://artsalliancedavis.org/event/taproot-new-music-festival-ensemble-dal-niente/
LOCATION:Ann E. Pitzer Center\, Ann E. Pitzer Center UC Davis Campus\, 754-2787
CATEGORIES:Music
ATTACH;FMTTYPE=image/jpeg:https://artsalliancedavis.org/wp-content/uploads/2025/10/Dal-Niente-by-Alexander-Perelli-2022-Edited-1-NTwquP.jpg
END:VEVENT
BEGIN:VEVENT
DTSTART;TZID=America/Los_Angeles:20251108T193000
DTEND;TZID=America/Los_Angeles:20251108T210000
DTSTAMP:20260423T195735
CREATED:20251022T155018Z
LAST-MODIFIED:20251022T155018Z
UID:21055-1762630200-1762635600@artsalliancedavis.org
SUMMARY:Taproot New Music Festival: Ensemble Dal Niente concert #2
DESCRIPTION:Ensemble Dal Niente performs a second concert featuring new and experimental chamber music and an uncommonly broad range of contemporary music. Ensemble Dal Niente is presented by the Mondavi Center for the Performing Arts. \n  \nRegular: $27.50\, Faculty/Staff: $24\, Child (under 18): $15.50\, UC Davis student: $12.00
URL:https://artsalliancedavis.org/event/taproot-new-music-festival-ensemble-dal-niente-concert-2/
LOCATION:Ann E. Pitzer Center\, Ann E. Pitzer Center UC Davis Campus\, 754-2787
CATEGORIES:Music
ATTACH;FMTTYPE=image/jpeg:https://artsalliancedavis.org/wp-content/uploads/2025/10/Dal-Niente-by-Alexander-Perelli-2022-Edited-1-1-cFjfZj.jpg
END:VEVENT
BEGIN:VEVENT
DTSTART;TZID=America/Los_Angeles:20251115T190000
DTEND;TZID=America/Los_Angeles:20251115T201500
DTSTAMP:20260423T195735
CREATED:20251024T164117Z
LAST-MODIFIED:20251024T164117Z
UID:21718-1763233200-1763237700@artsalliancedavis.org
SUMMARY:PTDT Fall Concert – Verify You Are Human
DESCRIPTION:The Pamela Trokanski Dance Theatre invites the community to join them for the performance of their new work: Verify You Are Human… a thoughtful\, and sometimes humorous exploration of what it means to be human and self-aware in the ever-evolving world of technology\, social constructs\, and world views.\nJoining PTDT are the PTDT Apprentice Company\, Light Ballet Company\, and The Third Stage. Known for work that integrates a strong sense of athleticism and technical training with idiosyncratic movements and a diverse range of movers\, including dancers ranging in age from 10 to 90+\, this is not your average dance performance. \nPerformances will take place on:\nSaturday\, November 15 @ 7pm and Sunday\, November 16 @ 2pm\,\nat the Louise H Kellogg Memorial Theater at the Pamela Trokanski Dance Workshop\, 2720 Del Rio Place\, Davis. \nTickets are available in advance and at the door:\nGeneral Admission – $20\nChildren\, Students\, & Adults 65+ – $15 \nFor more info or to purchase tickets\, please contact office@trokanski.com / (530)756-3949 \nThis concert has been funded\, in part\, by Douglas Neuhauser\, Kimberly Baxter\, and Thomas S. Nesbitt & Lisa DeAmicis.
URL:https://artsalliancedavis.org/event/ptdt-fall-concert-verify-you-are-human/
LOCATION:Louise H Kellogg Memorial Theater at the Pamela Trokanski Dance Workshop\, 2720 Del Rio Place\, Davis\, CA\, 95618\, United States
CATEGORIES:Bring the Kids,Community,Stage & Dance
ATTACH;FMTTYPE=image/png:https://artsalliancedavis.org/wp-content/uploads/2025/10/FallConcert-2025_Verify-xAqKGh.png
ORGANIZER;CN="Pamela Trokanski Dance Theatre":MAILTO:office@trokanski.com
END:VEVENT
BEGIN:VEVENT
DTSTART;TZID=America/Los_Angeles:20251116T140000
DTEND;TZID=America/Los_Angeles:20251116T151500
DTSTAMP:20260423T195735
CREATED:20251024T164149Z
LAST-MODIFIED:20251024T164149Z
UID:21722-1763301600-1763306100@artsalliancedavis.org
SUMMARY:PTDT Fall Concert – Verify You Are Human
DESCRIPTION:The Pamela Trokanski Dance Theatre invites the community to join them for the performance of their new work: Verify You Are Human… a thoughtful\, and sometimes humorous exploration of what it means to be human and self-aware in the ever-evolving world of technology\, social constructs\, and world views.\nJoining PTDT are the PTDT Apprentice Company\, Light Ballet Company\, and The Third Stage. Known for work that integrates a strong sense of athleticism and technical training with idiosyncratic movements and a diverse range of movers\, including dancers ranging in age from 10 to 90+\, this is not your average dance performance. \nPerformances will take place on:\nSaturday\, November 15 @ 7pm and Sunday\, November 16 @ 2pm\,\nat the Louise H Kellogg Memorial Theater at the Pamela Trokanski Dance Workshop\, 2720 Del Rio Place\, Davis. \nTickets are available in advance and at the door:\nGeneral Admission – $20\nChildren\, Students\, & Adults 65+ – $15 \nFor more info or to purchase tickets\, please contact office@trokanski.com / (530)756-3949 \nThis concert has been funded\, in part\, by Douglas Neuhauser\, Kimberly Baxter\, and Thomas S. Nesbitt & Lisa DeAmicis.
URL:https://artsalliancedavis.org/event/ptdt-fall-concert-verify-you-are-human-2/
LOCATION:Louise H Kellogg Memorial Theater at the Pamela Trokanski Dance Workshop\, 2720 Del Rio Place\, Davis\, CA\, 95618\, United States
CATEGORIES:Bring the Kids,Community,Stage & Dance
ATTACH;FMTTYPE=image/png:https://artsalliancedavis.org/wp-content/uploads/2025/10/FallConcert-2025_Verify-xAqKGh.png
ORGANIZER;CN="Pamela Trokanski Dance Theatre":MAILTO:office@trokanski.com
END:VEVENT
END:VCALENDAR