BEGIN:VCALENDAR
VERSION:2.0
PRODID:-//Arts Alliance Davis - ECPv6.15.20//NONSGML v1.0//EN
CALSCALE:GREGORIAN
METHOD:PUBLISH
X-ORIGINAL-URL:https://artsalliancedavis.org
X-WR-CALDESC:Events for Arts Alliance Davis
REFRESH-INTERVAL;VALUE=DURATION:PT1H
X-Robots-Tag:noindex
X-PUBLISHED-TTL:PT1H
BEGIN:VTIMEZONE
TZID:America/Los_Angeles
BEGIN:DAYLIGHT
TZOFFSETFROM:-0800
TZOFFSETTO:-0700
TZNAME:PDT
DTSTART:20240310T100000
END:DAYLIGHT
BEGIN:STANDARD
TZOFFSETFROM:-0700
TZOFFSETTO:-0800
TZNAME:PST
DTSTART:20241103T090000
END:STANDARD
BEGIN:DAYLIGHT
TZOFFSETFROM:-0800
TZOFFSETTO:-0700
TZNAME:PDT
DTSTART:20250309T100000
END:DAYLIGHT
BEGIN:STANDARD
TZOFFSETFROM:-0700
TZOFFSETTO:-0800
TZNAME:PST
DTSTART:20251102T090000
END:STANDARD
BEGIN:DAYLIGHT
TZOFFSETFROM:-0800
TZOFFSETTO:-0700
TZNAME:PDT
DTSTART:20260308T100000
END:DAYLIGHT
BEGIN:STANDARD
TZOFFSETFROM:-0700
TZOFFSETTO:-0800
TZNAME:PST
DTSTART:20261101T090000
END:STANDARD
END:VTIMEZONE
BEGIN:VEVENT
DTSTART;TZID=America/Los_Angeles:20250612T173000
DTEND;TZID=America/Los_Angeles:20250612T200000
DTSTAMP:20260424T082941
CREATED:20250423T213704Z
LAST-MODIFIED:20250423T213704Z
UID:19103-1749749400-1749758400@artsalliancedavis.org
SUMMARY:Vegan Cooking Class with Wine Pairing
DESCRIPTION:Ticket includes: Class\, ingredients & equipment \nJoin us for an elegant culinary experience at our winery\, where plant-based cuisine meets fine wine. In this hands-on class\, you’ll cook alongside Chef Maggie—a ServSafe Certified Vegan Chef and Wellness Coach—learning to prepare vibrant\, seasonal vegan dishes from scratch. \nYour experience includes:– A 2-hour interactive vegan cooking class led by Chef Maggie– All ingredients and equipment provided– Beautifully printed recipe cards to recreate the dishes at home \nEnhance your evening with an optional 3-wine pairing for $20. Each wine has been carefully selected from our Black Bicycle Farms natural wines to complement the flavors of the dishes you’ll create. \nWhether you’re vegan\, veg-curious\, or simply a lover of exquisite food and wine\, this evening is one you don’t want to miss!
URL:https://artsalliancedavis.org/event/vegan-cooking-class-with-wine-pairing/
LOCATION:Great Bear Vineyards (Great Bear)\, 24800 County Rd 101A
CATEGORIES:Food & Drink
ATTACH;FMTTYPE=image/png:https://artsalliancedavis.org/wp-content/uploads/2025/04/Cooking-Class-Thumbnail-LmrRQT.tmp_.png
ORGANIZER;CN="Great Bear Vineyards":MAILTO:greatbearvineyards@gmail.com
END:VEVENT
END:VCALENDAR