BEGIN:VCALENDAR
VERSION:2.0
PRODID:-//Arts Alliance Davis - ECPv6.15.20//NONSGML v1.0//EN
CALSCALE:GREGORIAN
METHOD:PUBLISH
X-ORIGINAL-URL:https://artsalliancedavis.org
X-WR-CALDESC:Events for Arts Alliance Davis
REFRESH-INTERVAL;VALUE=DURATION:PT1H
X-Robots-Tag:noindex
X-PUBLISHED-TTL:PT1H
BEGIN:VTIMEZONE
TZID:America/Los_Angeles
BEGIN:DAYLIGHT
TZOFFSETFROM:-0800
TZOFFSETTO:-0700
TZNAME:PDT
DTSTART:20240310T100000
END:DAYLIGHT
BEGIN:STANDARD
TZOFFSETFROM:-0700
TZOFFSETTO:-0800
TZNAME:PST
DTSTART:20241103T090000
END:STANDARD
BEGIN:DAYLIGHT
TZOFFSETFROM:-0800
TZOFFSETTO:-0700
TZNAME:PDT
DTSTART:20250309T100000
END:DAYLIGHT
BEGIN:STANDARD
TZOFFSETFROM:-0700
TZOFFSETTO:-0800
TZNAME:PST
DTSTART:20251102T090000
END:STANDARD
BEGIN:DAYLIGHT
TZOFFSETFROM:-0800
TZOFFSETTO:-0700
TZNAME:PDT
DTSTART:20260308T100000
END:DAYLIGHT
BEGIN:STANDARD
TZOFFSETFROM:-0700
TZOFFSETTO:-0800
TZNAME:PST
DTSTART:20261101T090000
END:STANDARD
END:VTIMEZONE
BEGIN:VEVENT
DTSTART;TZID=America/Los_Angeles:20250214T180000
DTEND;TZID=America/Los_Angeles:20250214T200000
DTSTAMP:20260424T193716
CREATED:20250209T195412Z
LAST-MODIFIED:20250209T195412Z
UID:17507-1739556000-1739563200@artsalliancedavis.org
SUMMARY:Valentine’s Day Tasting for Two
DESCRIPTION:GREAT BEAR VINEYARDS. Sweep your Valentine off their feet with a romantic evening at Great Bear Vineyards. Enjoy a beautifully prepared charcuterie box for two\, paired with a delightful mini dessert bar to satisfy your sweet tooth. Each couple will receive a gorgeous rose (or an artfully crafted floral arrangement repurposed from our Galentine’s event—sustainable and elegant). Sip on a glass of our premium wine\, perfectly chosen to complement the mood & menu. 6p – 8p. $110. 
URL:https://artsalliancedavis.org/event/valentines-day-tasting-for-two/
LOCATION:Great Bear Vineyards (Great Bear)\, 24800 County Rd 101A
CATEGORIES:Food & Drink
ATTACH;FMTTYPE=image/jpeg:https://artsalliancedavis.org/wp-content/uploads/2025/02/vday-vpnQeq.tmp_.jpg
ORGANIZER;CN="Great Bear Vineyards":MAILTO:greatbearvineyards@gmail.com
END:VEVENT
BEGIN:VEVENT
DTSTART;TZID=America/Los_Angeles:20250215T120000
DTEND;TZID=America/Los_Angeles:20250215T170000
DTSTAMP:20260424T193716
CREATED:20250209T195449Z
LAST-MODIFIED:20250209T195449Z
UID:17515-1739620800-1739638800@artsalliancedavis.org
SUMMARY:Chocolate & Wine Pairing
DESCRIPTION:Join us for a Chocolate & Wine Pairing\, a special treat perfect for sharing with your Valentine or simply indulging yourself. Our expert wine educators will guide you through a delightful sensory experience\, exploring the sublime synergy between artisanal chocolates and our award-winning wines. Your tasting will include: four specially curated chocolates; three wines crafted from our estate-grown vines; a decadent port-style Dessert Wine. Once the guided tasting concludes\, extend your visit by purchasing a glass or bottle of your favorite wine. 12p – 5 p. $35.
URL:https://artsalliancedavis.org/event/chocolate-wine-pairing-6/
LOCATION:Great Bear Vineyards (Great Bear)\, 24800 County Rd 101A
CATEGORIES:Food & Drink
ATTACH;FMTTYPE=image/jpeg:https://artsalliancedavis.org/wp-content/uploads/2025/02/E2FF32F4-DA2E-48E8-89C7-17CD61BB5DBB_1_105_c-oLTqjI.tmp_.jpg
ORGANIZER;CN="Great Bear Vineyards":MAILTO:greatbearvineyards@gmail.com
END:VEVENT
BEGIN:VEVENT
DTSTART;TZID=America/Los_Angeles:20250215T180000
DTEND;TZID=America/Los_Angeles:20250215T200000
DTSTAMP:20260424T193716
CREATED:20250209T195454Z
LAST-MODIFIED:20250209T195454Z
UID:17517-1739642400-1739649600@artsalliancedavis.org
SUMMARY:Charcuterie & Live Piano
DESCRIPTION:GREAT BEAR VINEYARDS. End your Valentine’s weekend on a high note with a magical evening of indulgence\, live piano\, & the cozy charm of Great Bear Vineyards. Savor a delicious charcuterie selection for two\, thoughtfully paired with decadent chocolates to elevate the experience. Toast to your special bond with a glass of our exquisite wine\, perfectly matched to the evening’s flavors. Relax to the smooth sounds of live piano\, performed by the talented Karla\, providing the perfect soundtrack for a romantic and memorable evening. Tickets are $110 per couple\, with a 15% discount for members ($93.50). Availability is limited to 25 couples (50 people total)\, so secure your spot now. Our vineyard will be adorned with cozy\, romantic décor to create an intimate and inviting atmosphere. Make your Valentine’s weekend unforgettable with a night of fine wine\, delicious bites\, and romantic music. 6p – 8p. $110. 
URL:https://artsalliancedavis.org/event/charcuterie-live-piano/
LOCATION:Great Bear Vineyards (Great Bear)\, 24800 County Rd 101A
CATEGORIES:Food & Drink
ATTACH;FMTTYPE=image/jpeg:https://artsalliancedavis.org/wp-content/uploads/2025/02/Facebook-Event-Piano-Charcuterie-EewQWS.tmp_.jpg
ORGANIZER;CN="Great Bear Vineyards":MAILTO:greatbearvineyards@gmail.com
END:VEVENT
END:VCALENDAR