BEGIN:VCALENDAR
VERSION:2.0
PRODID:-//Arts Alliance Davis - ECPv6.15.20//NONSGML v1.0//EN
CALSCALE:GREGORIAN
METHOD:PUBLISH
X-ORIGINAL-URL:https://artsalliancedavis.org
X-WR-CALDESC:Events for Arts Alliance Davis
REFRESH-INTERVAL;VALUE=DURATION:PT1H
X-Robots-Tag:noindex
X-PUBLISHED-TTL:PT1H
BEGIN:VTIMEZONE
TZID:America/Los_Angeles
BEGIN:DAYLIGHT
TZOFFSETFROM:-0800
TZOFFSETTO:-0700
TZNAME:PDT
DTSTART:20230312T100000
END:DAYLIGHT
BEGIN:STANDARD
TZOFFSETFROM:-0700
TZOFFSETTO:-0800
TZNAME:PST
DTSTART:20231105T090000
END:STANDARD
BEGIN:DAYLIGHT
TZOFFSETFROM:-0800
TZOFFSETTO:-0700
TZNAME:PDT
DTSTART:20240310T100000
END:DAYLIGHT
BEGIN:STANDARD
TZOFFSETFROM:-0700
TZOFFSETTO:-0800
TZNAME:PST
DTSTART:20241103T090000
END:STANDARD
BEGIN:DAYLIGHT
TZOFFSETFROM:-0800
TZOFFSETTO:-0700
TZNAME:PDT
DTSTART:20250309T100000
END:DAYLIGHT
BEGIN:STANDARD
TZOFFSETFROM:-0700
TZOFFSETTO:-0800
TZNAME:PST
DTSTART:20251102T090000
END:STANDARD
END:VTIMEZONE
BEGIN:VEVENT
DTSTART;TZID=America/Los_Angeles:20240406T120000
DTEND;TZID=America/Los_Angeles:20240406T170000
DTSTAMP:20260424T181113
CREATED:20240307T141625Z
LAST-MODIFIED:20240307T141625Z
UID:11952-1712404800-1712422800@artsalliancedavis.org
SUMMARY:Music for Natalie!
DESCRIPTION:Davis Odd Fellows and Lyon Realty present Music for Natalie! 12-5 p.m. April 6th\, 2024. Free admission\, free music\, food trucks\, beer garden. This event is to commemorate fallen Davis Police Officer Natalie Corona and the Natalie Corona Davis Odd Fellows Memorial Scholarship. Music by Wealth of Nations\, Misner and Smith\, and 5 Star Alcatraz. Food trucks providing tasty treats! Beer donated by local breweries. 401 & 415 2nd St.\, Davis. See ya there! \n 
URL:https://artsalliancedavis.org/event/music-for-natalie-2/
LOCATION:Davis Odd Fellows
CATEGORIES:Bring the Kids,Community,Food & Drink,Music
ATTACH;FMTTYPE=image/png:https://artsalliancedavis.org/wp-content/uploads/2024/03/Natalie-Corona-FB-post-wc4J74.tmp_.png
ORGANIZER;CN="Davis Odd Fellows":MAILTO:davislodge@sbcglobal.net
END:VEVENT
END:VCALENDAR