BEGIN:VCALENDAR
VERSION:2.0
PRODID:-//Arts Alliance Davis - ECPv6.15.20//NONSGML v1.0//EN
CALSCALE:GREGORIAN
METHOD:PUBLISH
X-ORIGINAL-URL:https://artsalliancedavis.org
X-WR-CALDESC:Events for Arts Alliance Davis
REFRESH-INTERVAL;VALUE=DURATION:PT1H
X-Robots-Tag:noindex
X-PUBLISHED-TTL:PT1H
BEGIN:VTIMEZONE
TZID:America/Los_Angeles
BEGIN:DAYLIGHT
TZOFFSETFROM:-0800
TZOFFSETTO:-0700
TZNAME:PDT
DTSTART:20240310T100000
END:DAYLIGHT
BEGIN:STANDARD
TZOFFSETFROM:-0700
TZOFFSETTO:-0800
TZNAME:PST
DTSTART:20241103T090000
END:STANDARD
BEGIN:DAYLIGHT
TZOFFSETFROM:-0800
TZOFFSETTO:-0700
TZNAME:PDT
DTSTART:20250309T100000
END:DAYLIGHT
BEGIN:STANDARD
TZOFFSETFROM:-0700
TZOFFSETTO:-0800
TZNAME:PST
DTSTART:20251102T090000
END:STANDARD
BEGIN:DAYLIGHT
TZOFFSETFROM:-0800
TZOFFSETTO:-0700
TZNAME:PDT
DTSTART:20260308T100000
END:DAYLIGHT
BEGIN:STANDARD
TZOFFSETFROM:-0700
TZOFFSETTO:-0800
TZNAME:PST
DTSTART:20261101T090000
END:STANDARD
END:VTIMEZONE
BEGIN:VEVENT
DTSTART;TZID=America/Los_Angeles:20250403T070000
DTEND;TZID=America/Los_Angeles:20250403T210000
DTSTAMP:20260424T022151
CREATED:20250313T160754Z
LAST-MODIFIED:20250313T160754Z
UID:18217-1743663600-1743714000@artsalliancedavis.org
SUMMARY:Davis Odd Fellows Thursday Live!
DESCRIPTION:DAVIS  ODD FELLOWS. Davis Odd Fellows Thursday Live! present Jeffrey Halford and The Healers. Halford is a rock & roll lifer\, a Texas-born\, California-bred traditionalist trading in Americana mythologies. His solo album\, West Toward South\, serves them up not repurposed so much as distilled\, harking back to a time when outlaws had more style and panache. Our Thursday Live! concert series is donation only. Please give generously as all money goes to the musicians. 7a – 9a. Donations encouraged.
URL:https://artsalliancedavis.org/event/davis-odd-fellows-thursday-live-6/
LOCATION:Davis Odd Fellows
CATEGORIES:Music
ATTACH;FMTTYPE=image/jpeg:https://artsalliancedavis.org/wp-content/uploads/2025/03/Jeffrey-Halford-band-photo-8FpwEh.tmp_.jpg
ORGANIZER;CN="Davis Odd Fellows":MAILTO:davislodge@sbcglobal.net
END:VEVENT
END:VCALENDAR