BEGIN:VCALENDAR
VERSION:2.0
PRODID:-//Arts Alliance Davis - ECPv6.15.20//NONSGML v1.0//EN
CALSCALE:GREGORIAN
METHOD:PUBLISH
X-WR-CALNAME:Arts Alliance Davis
X-ORIGINAL-URL:https://artsalliancedavis.org
X-WR-CALDESC:Events for Arts Alliance Davis
REFRESH-INTERVAL;VALUE=DURATION:PT1H
X-Robots-Tag:noindex
X-PUBLISHED-TTL:PT1H
BEGIN:VTIMEZONE
TZID:America/Los_Angeles
BEGIN:DAYLIGHT
TZOFFSETFROM:-0800
TZOFFSETTO:-0700
TZNAME:PDT
DTSTART:20250309T100000
END:DAYLIGHT
BEGIN:STANDARD
TZOFFSETFROM:-0700
TZOFFSETTO:-0800
TZNAME:PST
DTSTART:20251102T090000
END:STANDARD
BEGIN:DAYLIGHT
TZOFFSETFROM:-0800
TZOFFSETTO:-0700
TZNAME:PDT
DTSTART:20260308T100000
END:DAYLIGHT
BEGIN:STANDARD
TZOFFSETFROM:-0700
TZOFFSETTO:-0800
TZNAME:PST
DTSTART:20261101T090000
END:STANDARD
BEGIN:DAYLIGHT
TZOFFSETFROM:-0800
TZOFFSETTO:-0700
TZNAME:PDT
DTSTART:20270314T100000
END:DAYLIGHT
BEGIN:STANDARD
TZOFFSETFROM:-0700
TZOFFSETTO:-0800
TZNAME:PST
DTSTART:20271107T090000
END:STANDARD
END:VTIMEZONE
BEGIN:VEVENT
DTSTART;TZID=America/Los_Angeles:20260120T180000
DTEND;TZID=America/Los_Angeles:20260120T190000
DTSTAMP:20260423T123928
CREATED:20251218T112103Z
LAST-MODIFIED:20251218T112103Z
UID:22807-1768932000-1768935600@artsalliancedavis.org
SUMMARY:Universal Justice Speaker Series
DESCRIPTION:Canton Davis\, part of the Davis Odd Fellows\, will host Yolo County Public Defender\, Tracie Olson in a talk titled “What We Do and Why It Matters.” The event is free and open to the public. The talk will begin at 6 pm\, with opportunities for questions and answers following. The doors will open at 5:30 and the event will be held at the Odd Fellows Hall at 415 2nd St. in Davis. The highest degree of Odd Fellowship is ‘Universal Justice’ and the Davis Odd Fellows believe in living their values. We hope you will join us for a great presentation on one facet of Universal Justice in our community!
URL:https://artsalliancedavis.org/event/universal-justice-speaker-series-2/
LOCATION:Odd Fellows Hall (Odd Fellows)\, 415 2nd St.\, Davis\, CA\, 95616\, United States
CATEGORIES:Books & Talks,Community
ATTACH;FMTTYPE=image/jpeg:https://artsalliancedavis.org/wp-content/uploads/2025/12/Tracie-Olson-Soc-Med-2-VvhcGU.jpg
ORGANIZER;CN="Davis Odd Fellows":MAILTO:davislodge@sbcglobal.net
END:VEVENT
END:VCALENDAR