BEGIN:VCALENDAR
VERSION:2.0
PRODID:-//Arts Alliance Davis - ECPv6.15.20//NONSGML v1.0//EN
CALSCALE:GREGORIAN
METHOD:PUBLISH
X-ORIGINAL-URL:https://artsalliancedavis.org
X-WR-CALDESC:Events for Arts Alliance Davis
REFRESH-INTERVAL;VALUE=DURATION:PT1H
X-Robots-Tag:noindex
X-PUBLISHED-TTL:PT1H
BEGIN:VTIMEZONE
TZID:America/Los_Angeles
BEGIN:DAYLIGHT
TZOFFSETFROM:-0800
TZOFFSETTO:-0700
TZNAME:PDT
DTSTART:20240310T100000
END:DAYLIGHT
BEGIN:STANDARD
TZOFFSETFROM:-0700
TZOFFSETTO:-0800
TZNAME:PST
DTSTART:20241103T090000
END:STANDARD
BEGIN:DAYLIGHT
TZOFFSETFROM:-0800
TZOFFSETTO:-0700
TZNAME:PDT
DTSTART:20250309T100000
END:DAYLIGHT
BEGIN:STANDARD
TZOFFSETFROM:-0700
TZOFFSETTO:-0800
TZNAME:PST
DTSTART:20251102T090000
END:STANDARD
BEGIN:DAYLIGHT
TZOFFSETFROM:-0800
TZOFFSETTO:-0700
TZNAME:PDT
DTSTART:20260308T100000
END:DAYLIGHT
BEGIN:STANDARD
TZOFFSETFROM:-0700
TZOFFSETTO:-0800
TZNAME:PST
DTSTART:20261101T090000
END:STANDARD
END:VTIMEZONE
BEGIN:VEVENT
DTSTART;TZID=America/Los_Angeles:20250219T191000
DTEND;TZID=America/Los_Angeles:20250219T204500
DTSTAMP:20260424T200916
CREATED:20250121T154102Z
LAST-MODIFIED:20250121T154102Z
UID:17217-1739992200-1739997900@artsalliancedavis.org
SUMMARY:Photography Club of Davis
DESCRIPTION:Laurie Friedman\, an award-winning photographer and world-traveler\, has over 100 stamps in her passports!  She usually doesn’t revisit a country as there are too many new places to go—but she enjoyed two countries so much that she wanted to return\, and one of them was Morocco.  (Come to the program to find out the identity of the second country.)\nWhen she saw an affordable\, comprehensive tour to Morocco\, visiting places she hadn’t seen on her first trip\, she signed up.  Please join us as we explore this varied and amazing country\, visiting capital cities\, roman ruins\, the Blue City of Chefchaouen\, the ancient city of Fez\, and the Merzouga Sand Seas on camel. \n 
URL:https://artsalliancedavis.org/event/photography-club-of-davis-10/
LOCATION:Mary L. Stephens Davis Branch Library Blanchard Room\, 315 E 14th St\, Davis\, CA\, 95616\, United States
CATEGORIES:Art
ATTACH;FMTTYPE=image/jpeg:https://artsalliancedavis.org/wp-content/uploads/2025/01/0D0A0418-92mXSs.tmp_.jpg
ORGANIZER;CN="Photography Club of Davis":MAILTO:photographyclubofdavis@gmail.com
END:VEVENT
END:VCALENDAR