BEGIN:VCALENDAR
VERSION:2.0
PRODID:-//Arts Alliance Davis - ECPv6.15.20//NONSGML v1.0//EN
CALSCALE:GREGORIAN
METHOD:PUBLISH
X-ORIGINAL-URL:https://artsalliancedavis.org
X-WR-CALDESC:Events for Arts Alliance Davis
REFRESH-INTERVAL;VALUE=DURATION:PT1H
X-Robots-Tag:noindex
X-PUBLISHED-TTL:PT1H
BEGIN:VTIMEZONE
TZID:America/Los_Angeles
BEGIN:DAYLIGHT
TZOFFSETFROM:-0800
TZOFFSETTO:-0700
TZNAME:PDT
DTSTART:20240310T100000
END:DAYLIGHT
BEGIN:STANDARD
TZOFFSETFROM:-0700
TZOFFSETTO:-0800
TZNAME:PST
DTSTART:20241103T090000
END:STANDARD
BEGIN:DAYLIGHT
TZOFFSETFROM:-0800
TZOFFSETTO:-0700
TZNAME:PDT
DTSTART:20250309T100000
END:DAYLIGHT
BEGIN:STANDARD
TZOFFSETFROM:-0700
TZOFFSETTO:-0800
TZNAME:PST
DTSTART:20251102T090000
END:STANDARD
BEGIN:DAYLIGHT
TZOFFSETFROM:-0800
TZOFFSETTO:-0700
TZNAME:PDT
DTSTART:20260308T100000
END:DAYLIGHT
BEGIN:STANDARD
TZOFFSETFROM:-0700
TZOFFSETTO:-0800
TZNAME:PST
DTSTART:20261101T090000
END:STANDARD
END:VTIMEZONE
BEGIN:VEVENT
DTSTART;VALUE=DATE:20250404
DTEND;VALUE=DATE:20250429
DTSTAMP:20260424T172155
CREATED:20250321T191609Z
LAST-MODIFIED:20250321T191609Z
UID:18338-1743724800-1745884799@artsalliancedavis.org
SUMMARY:The Artery Menagerie\, A Curated Show of Ceramic Animal Sculptures
DESCRIPTION:THE ARTERY. The Artery presents “The Artery Menagerie” in conjunction with CCACA\, the ceramic sculpture conference at the Natsoulas Gallery. The invitational exhibit of animal sculptures features twenty eight Northern California ceramic artists.  Many of these artists competed in our previous California Clay Competition. Wesley Wright\, a speaker at the CCACA\, is also represented in the show. Free.
URL:https://artsalliancedavis.org/event/the-artery-menagerie-a-curated-show-of-ceramic-animal-sculptures/
LOCATION:The Artery\, 207 G Street\, Davis\, ca\, 95616
CATEGORIES:Art
ATTACH;FMTTYPE=image/jpeg:https://artsalliancedavis.org/wp-content/uploads/2025/03/THE-ARTERY-MENAGERIE-scaled-FXie61.tmp_.jpg
END:VEVENT
BEGIN:VEVENT
DTSTART;TZID=America/Los_Angeles:20250404T170000
DTEND;TZID=America/Los_Angeles:20250404T200000
DTSTAMP:20260424T172155
CREATED:20250313T160831Z
LAST-MODIFIED:20250313T160831Z
UID:18220-1743786000-1743796800@artsalliancedavis.org
SUMMARY:Live Music & Food Truck
DESCRIPTION:GREAT BEAR WINERY. Join us for a night of great music brought to you by Mr. Q & food by Buenos Aires Grill! Ticket includes: Glass of Wine & Live Music Music by Mr. Q: We are honored to have The Mr. Q Band back at the winery playing songs like Sentimental Journey\, Don’t Get Around Much Anymore\, Bye Bye Blackbird\, Ain’t Misbehaving\, Fever\, Route 66\, & Summertime. Buenos Aires Grill serves authentic Argentinian food\, featuring empanadas and steak & chicken sandwiches. Soak in the atmosphere as you approach our enchanting Spanish colonial façade. As the road curves to the right\, you’ll find The Dance Hall and The Great Barn\, where you can relax either under cover or on the lawn. Friday 5-8pm. $15 \n 
URL:https://artsalliancedavis.org/event/live-music-food-truck-2/
LOCATION:Great Bear Vineyards (Great Bear)\, 24800 County Rd 101A
CATEGORIES:Food & Drink,Music
ATTACH;FMTTYPE=image/png:https://artsalliancedavis.org/wp-content/uploads/2025/03/Mr.-Q-Thumbnail-FncQ7H.tmp_.png
ORGANIZER;CN="Great Bear Vineyards":MAILTO:greatbearvineyards@gmail.com
END:VEVENT
BEGIN:VEVENT
DTSTART;TZID=America/Los_Angeles:20250405T114500
DTEND;TZID=America/Los_Angeles:20250405T123000
DTSTAMP:20260424T172155
CREATED:20250404T111436Z
LAST-MODIFIED:20250404T111436Z
UID:18736-1743853500-1743856200@artsalliancedavis.org
SUMMARY:Vineyard Walk
DESCRIPTION:Take a stroll through our beautiful vineyard with the Winemaker. Join us for an informative Vineyard Walk\, where you’ll learn about our sustainable & organic farming practices and the growth cycle of our vines. Learn how great wines start in the vineyards. This spring walk is timed to see budbreak and young shoots on the vines\, an abundance of wildflowers\, and if we are lucky\, young jackrabbits\, cottontails and wild turkeys. \nWhether you’re a nature lover or simply looking for a relaxing outdoor experience\, this is a wonderful way to connect with the land that we’re so passionate about. \nAdd a Wine Tasting: If you’d like to elevate your experience\, you can book a separate Signature or Reserve Wine Tasting starting at 12.30p. Alternatively simply relax over a glass of wine after your walk. Please wear sunscreen and closed toe shoes. Ground is uneven.
URL:https://artsalliancedavis.org/event/vineyard-walk/
LOCATION:Great Bear Vineyards (Great Bear)\, 24800 County Rd 101A
CATEGORIES:Food & Drink,Outside
ATTACH;FMTTYPE=image/jpeg:https://artsalliancedavis.org/wp-content/uploads/2025/04/24gbvwebsiteeventwalk-1738285808596-Y3jx0w.tmp_.jpg
ORGANIZER;CN="Great Bear Vineyards":MAILTO:greatbearvineyards@gmail.com
END:VEVENT
BEGIN:VEVENT
DTSTART;TZID=America/Los_Angeles:20250411T170000
DTEND;TZID=America/Los_Angeles:20250411T200000
DTSTAMP:20260424T172155
CREATED:20250313T161015Z
LAST-MODIFIED:20250313T161015Z
UID:18224-1744390800-1744401600@artsalliancedavis.org
SUMMARY:Live Music & Food Truck
DESCRIPTION:GREAT BEAR VALLEY. Soak in the atmosphere as you approach our enchanting Spanish colonial façade. As the road curves to the right\, you’ll find The Dance Hall and The Great Barn\, where you can relax either under cover or on the lawn. Music by The Sun Followers: Singing songs to break\, melt\, and mend the heart\, The Sun Followers are an acoustic vocal harmony duo from Chico\, California Fo0d by Andres Pizza: established in 2019\, The Andes Pizza is a family-run business that aims to offer a unique culinary experience to the masses by serving authentic wood-fired pizza. Tickets: Glass of wine and music only – #15: Glass of wine live music & personal pizza – $32. 5P – 8P.
URL:https://artsalliancedavis.org/event/live-music-food-truck-3/
LOCATION:Great Bear Vineyards (Great Bear)\, 24800 County Rd 101A
CATEGORIES:Food & Drink,Music
ATTACH;FMTTYPE=image/png:https://artsalliancedavis.org/wp-content/uploads/2025/03/The-Sun-Followers-Thumbnail-4b0Gwx.tmp_.png
ORGANIZER;CN="Great Bear Vineyards":MAILTO:greatbearvineyards@gmail.com
END:VEVENT
BEGIN:VEVENT
DTSTART;TZID=America/Los_Angeles:20250412T140000
DTEND;TZID=America/Los_Angeles:20250412T180000
DTSTAMP:20260424T172155
CREATED:20250321T191903Z
LAST-MODIFIED:20250321T191903Z
UID:18346-1744466400-1744480800@artsalliancedavis.org
SUMMARY:Black Maternal Health Week Event
DESCRIPTION:DAVIS VETERANS MEMORIAL THEATER. Communicare+Ole Health Centers is hosting our 4th annual Black Maternal Health Week event. The program starts at 2pm with light refreshments and tabling by local community organizations. The documentary\, Birthing Justice\, will begin at 3:30pm\, followed by a Q&A panel discussion with Black maternity care professionals & audience from 5-6pm. The film addresses the impact of racism on disparate outcomes for Black families & provides a mandate with examples for change.  The goal of the event is to bring together maternity care providers & community members to learn about one another’s experiences\, highlight community resources available to support Black families\, & work together to improve outcomes & birthing experiences for Black families in our community. 2p – 6p. Free.
URL:https://artsalliancedavis.org/event/black-maternal-health-week-event/
LOCATION:Davis Veterans Memorial Theatre\, 203 E. 14th Street\, Davis\, CA\, 95616\, United States
CATEGORIES:Community
ATTACH;FMTTYPE=image/jpeg:https://artsalliancedavis.org/wp-content/uploads/2025/03/BMHW2024Flyer-2-lEXXMO.tmp_.jpg
END:VEVENT
BEGIN:VEVENT
DTSTART;TZID=America/Los_Angeles:20250412T170000
DTEND;TZID=America/Los_Angeles:20250412T200000
DTSTAMP:20260424T172155
CREATED:20250405T114734Z
LAST-MODIFIED:20250405T114734Z
UID:18787-1744477200-1744488000@artsalliancedavis.org
SUMMARY:“UCD Picnic Day” Dinner at the Winery
DESCRIPTION:After a fun and festive UC Davis Picnic Day\, escape the crowds and unwind with a relaxing farm-to-fork dinner at Great Bear Vineyards—just 3 miles from downtown Davis. \nSettle in amidst the rustic charm of our organic vineyard\, where the golden hues of sunset set the scene for an unforgettable evening of delicious food\, award-winning wine\, and great company. Whether you’re an Aggie alum\, student\, or local looking for the perfect way to cap off the day\, we welcome you to sip\, savor\, and celebrate with us! \nSpring Farm-to-Fork Dinner Menu \nEnjoy a bountiful\, chef-prepared meal featuring locally sourced ingredients:\nMixed Greens Salad – Fresh seasonal ingredients from local farms\nCreamy Mashed Potatoes with sweet corn\nSeasonal Vegetables – Roasted to perfection\nGrilled Tri-Tip – Served with smoky BBQ sauce & creamed horseradish\nItalian Herb Chicken – Topped with fresh tomato bruschetta\nMediterranean Succotash – A hearty blend of chickpeas\, beans\, and garden vegetables\nBite-Sized Desserts – A sweet finish to your evening \nCompliment your dinner with our award winning wines available for purchase by the glass or bottle. \nGo Aggies!
URL:https://artsalliancedavis.org/event/ucd-picnic-day-dinner-at-the-winery/
LOCATION:Great Bear Vineyards (Great Bear)\, 24800 County Rd 101A
CATEGORIES:Community,Food & Drink,Outside
ATTACH;FMTTYPE=image/png:https://artsalliancedavis.org/wp-content/uploads/2025/04/Picnic-Day-Thumbnail-khswW9.tmp_.png
ORGANIZER;CN="Great Bear Vineyards":MAILTO:greatbearvineyards@gmail.com
END:VEVENT
BEGIN:VEVENT
DTSTART;TZID=America/Los_Angeles:20250412T170000
DTEND;TZID=America/Los_Angeles:20250412T200000
DTSTAMP:20260424T172155
CREATED:20250410T140424Z
LAST-MODIFIED:20250410T140424Z
UID:18873-1744477200-1744488000@artsalliancedavis.org
SUMMARY:“UCD Picnic Day” Live Music at the Winery
DESCRIPTION:Ticket includes live music & a glass of wine. \nAfter a fun and festive UC Davis Picnic Day\, escape the crowds and enjoy live music here at Great Bear Vineyards! \nSettle in amidst the rustic charm of our organic vineyard\, where the golden hues of sunset set the scene for an unforgettable evening of award-winning wine\, live music and great company. Whether you’re an Aggie alum\, student\, or local looking for the perfect way to cap off the day\, we welcome you to sip\, savor\, and celebrate with us! \nMusic by The Teds – Oldies but Goodies! Sing along as The Teds play your favorite classics—from “Stand By Me” and “Proud Mary” to “Can’t Buy Me Love\,” “La Bamba\,” and “Drift Away.”
URL:https://artsalliancedavis.org/event/ucd-picnic-day-live-music-at-the-winery/
LOCATION:Great Bear Vineyards (Great Bear)\, 24800 County Rd 101A
CATEGORIES:Community,Food & Drink,Music
ATTACH;FMTTYPE=image/png:https://artsalliancedavis.org/wp-content/uploads/2025/04/Picnic-Day-Music-Thumbnail-ZMfUpN.tmp_.png
ORGANIZER;CN="Great Bear Vineyards":MAILTO:greatbearvineyards@gmail.com
END:VEVENT
BEGIN:VEVENT
DTSTART;TZID=America/Los_Angeles:20250416T191000
DTEND;TZID=America/Los_Angeles:20250416T204500
DTSTAMP:20260424T172155
CREATED:20250313T161141Z
LAST-MODIFIED:20250313T161141Z
UID:18231-1744830600-1744836300@artsalliancedavis.org
SUMMARY:Photography Club of Davis Workshop
DESCRIPTION:BLAMCHARD ROOM of DAVIS LIBRARY. Award-winning photographer Sam Shaw to Lead Photography Club of Davis Workshop The Photography Club of Davis will meet on Wednesday\, April 16. from 7:10pm – 8:45pm . Guest speaker Sam Shaw will present two compelling topics. The first\, “Twilight Zone and Beyond\,” explores the artistry of photography during the captivating hours between sunset and sunrise. The second\, “Journey into AI\,” offers a concise and engaging introduction to artificial intelligence\, delving into what it truly is—and what it is not. The free workshop is open to the public. Information about the Photography Club of Davis is at https://photoclubofdavis.wordpress.com 7:10p – 8:45p. Free.
URL:https://artsalliancedavis.org/event/photography-club-of-davis-workshop/
LOCATION:Mary L. Stephens Davis Branch Library Blanchard Room\, 315 E 14th St\, Davis\, CA\, 95616\, United States
CATEGORIES:Art,Community
ATTACH;FMTTYPE=image/jpeg:https://artsalliancedavis.org/wp-content/uploads/2025/03/Sam-Shaw-CRE-0044-Coyote-Howl-YMHcnT.tmp_.jpg
ORGANIZER;CN="Photography Club of Davis":MAILTO:photographyclubofdavis@gmail.com
END:VEVENT
BEGIN:VEVENT
DTSTART;TZID=America/Los_Angeles:20250417T190000
DTEND;TZID=America/Los_Angeles:20250417T213000
DTSTAMP:20260424T172155
CREATED:20250327T212616Z
LAST-MODIFIED:20250327T212616Z
UID:18574-1744916400-1744925400@artsalliancedavis.org
SUMMARY:The Village Heart – an Evening of Authentic Connection
DESCRIPTION:THE OAKENSHIELD COTTAGE. You are invited to join us for an evening of heart-to-heart connection\, where we go beyond the surface & dive into the essence of our shared humanity. Whether you are seeking to make new friendships\, deepen existing relationships\, or just explore new ways of connecting\, The Village Heart offers a space for curiosity & exploration. Guided Connection Activities: These include moving through the space with others\, partner exercises\, & group activities that encourage meaningful interactions & new ways of relating to one another. Opportunities to Explore and Stretch Comfort Zones: Whether you are sharing\, listening or engaging in somatic practices\, every exercise is an invitation to stretch just beyond your comfort zone in a safe and supportive environment. Each participant is free to choose their level of engagement at all times & opt out of any exercise. Reflective Sharing and Group Dynamics: We’ll explore different ways of connecting in small groups or pairs\, always with the invitation to speak from the present moment & lean into what’s authentically true for you. Space is limited & early registration is recommended. 7p – 9:3-p. Tickets: $25 before April 14th/$35 after.
URL:https://artsalliancedavis.org/event/the-village-heart-an-evening-of-authentic-connection-3/
LOCATION:The Oakenshield Cottage\, 2417 Oakenshield Road\, Davis\, C\, 95616\, United States
CATEGORIES:Community
ATTACH;FMTTYPE=image/jpeg:https://artsalliancedavis.org/wp-content/uploads/2025/03/VH-April-Card-Square-1-tj2bZO.tmp_.jpg
END:VEVENT
BEGIN:VEVENT
DTSTART;TZID=America/Los_Angeles:20250419T090000
DTEND;TZID=America/Los_Angeles:20250419T120000
DTSTAMP:20260424T172155
CREATED:20250321T192101Z
LAST-MODIFIED:20250321T192101Z
UID:18354-1745053200-1745064000@artsalliancedavis.org
SUMMARY:Breakfast With the Bunny
DESCRIPTION:ODD FELLOWS LODGE. Join the Easter Bunny on Saturday\, April 19 at the Davis Odd Fellows Lodge for breakfast\, a parade\, an egg hunt\, & creative play & carnival! Families will enjoy a cold breakfast with the Easter Bunny at 9 a.m.\, including cereal\, muffins\, yogurt\, juice & fruit. At about 10 o’clock\, participants join the Bunny for a special parade through the farmers market toward the Community Church lawn to hunt for eggs! Following the hunt\, families return to the lodge until noon to enjoy fun activities including cookie decorating\, card decorating\, face painting\, guided drawings\, Play-Doh\, carnival games\, & more! All event proceeds go to the Davis Encampment Campership Fund. The benefit fund provides pool passes\, camping excursions\, Explorit passes\, and other experiences for underprivileged children throughout our community. 9a – 12p. $15.
URL:https://artsalliancedavis.org/event/breakfast-with-the-bunny-3/
LOCATION:Davis Odd Fellows
CATEGORIES:Bring the Kids,Food & Drink,Games
ATTACH;FMTTYPE=image/jpeg:https://artsalliancedavis.org/wp-content/uploads/2025/03/Breakfast-with-the-Bunny-Flyer-25-scaled-RktK12.tmp_.jpg
ORGANIZER;CN="Davis Odd Fellows":MAILTO:davislodge@sbcglobal.net
END:VEVENT
BEGIN:VEVENT
DTSTART;TZID=America/Los_Angeles:20250426T130000
DTEND;TZID=America/Los_Angeles:20250426T160000
DTSTAMP:20260424T172155
CREATED:20250410T140829Z
LAST-MODIFIED:20250410T140829Z
UID:18877-1745672400-1745683200@artsalliancedavis.org
SUMMARY:Davis Bike Garage Open House
DESCRIPTION:Come visit Davis’s friendly hub of bike information\, education\, inspiration\, and support for the cycling lifestyle. Join us at our new location and learn how we are helping people bike more and drive less. Free Davis Bike Maps and helmet fittings available!
URL:https://artsalliancedavis.org/event/davis-bike-garage-open-house/
LOCATION:Bike Garage Davis\, 606 Peña Drive #300
CATEGORIES:Bring the Kids,Community,Fitness,Outside
ATTACH;FMTTYPE=image/jpeg:https://artsalliancedavis.org/wp-content/uploads/2025/04/SavetheDate-scaled-WNs2DO.tmp_.jpg
ORGANIZER;CN="The Bike Campaign":MAILTO:funmaria@sbcglobal.net
END:VEVENT
END:VCALENDAR