BEGIN:VCALENDAR
VERSION:2.0
PRODID:-//Arts Alliance Davis - ECPv6.15.20//NONSGML v1.0//EN
CALSCALE:GREGORIAN
METHOD:PUBLISH
X-WR-CALNAME:Arts Alliance Davis
X-ORIGINAL-URL:https://artsalliancedavis.org
X-WR-CALDESC:Events for Arts Alliance Davis
REFRESH-INTERVAL;VALUE=DURATION:PT1H
X-Robots-Tag:noindex
X-PUBLISHED-TTL:PT1H
BEGIN:VTIMEZONE
TZID:America/Los_Angeles
BEGIN:DAYLIGHT
TZOFFSETFROM:-0800
TZOFFSETTO:-0700
TZNAME:PDT
DTSTART:20240310T100000
END:DAYLIGHT
BEGIN:STANDARD
TZOFFSETFROM:-0700
TZOFFSETTO:-0800
TZNAME:PST
DTSTART:20241103T090000
END:STANDARD
BEGIN:DAYLIGHT
TZOFFSETFROM:-0800
TZOFFSETTO:-0700
TZNAME:PDT
DTSTART:20250309T100000
END:DAYLIGHT
BEGIN:STANDARD
TZOFFSETFROM:-0700
TZOFFSETTO:-0800
TZNAME:PST
DTSTART:20251102T090000
END:STANDARD
BEGIN:DAYLIGHT
TZOFFSETFROM:-0800
TZOFFSETTO:-0700
TZNAME:PDT
DTSTART:20260308T100000
END:DAYLIGHT
BEGIN:STANDARD
TZOFFSETFROM:-0700
TZOFFSETTO:-0800
TZNAME:PST
DTSTART:20261101T090000
END:STANDARD
END:VTIMEZONE
BEGIN:VEVENT
DTSTART;TZID=America/Los_Angeles:20250501T173000
DTEND;TZID=America/Los_Angeles:20250501T193000
DTSTAMP:20260424T143639
CREATED:20250405T115246Z
LAST-MODIFIED:20250405T115246Z
UID:18794-1746120600-1746127800@artsalliancedavis.org
SUMMARY:Floral Arranging Experience
DESCRIPTION:Join us for a creative and relaxing evening of floral design\, delicious appetizers\, and great company. Learn how to arrange your own stunning spring bouquet while supporting a great cause!\n\n\n\nDATE: Thursday\, May 1\, 2025\nTIME: 5:30 PM – 7:30 PM\nLOCATION: US Bicycling Hall of Fame\, 303 Third Street\, Davis\n\n\nTICKETS: $75 per person\n\nCLICK HERE TO PURCHASE:\nhttps://yolocrisisnursery.ejoinme.org/…/Default.aspx\n\n\n\nINCLUDES: Hands-on floral arranging with local florist Sarah Larkin\, wine\, and appetizers.
URL:https://artsalliancedavis.org/event/floral-arranging-experience/
LOCATION:U.S. Bicycling Hall of Fame\, 303 3rd Street\, Davis\, 95616\, United States
CATEGORIES:Art,Community
ATTACH;FMTTYPE=image/jpeg:https://artsalliancedavis.org/wp-content/uploads/2018/10/orange-white-aad-logo.jpg
ORGANIZER;CN="Yolo Crisis Nursery":MAILTO:bboboia@yolocrisisnursery.org
END:VEVENT
BEGIN:VEVENT
DTSTART;TZID=America/Los_Angeles:20250503T114500
DTEND;TZID=America/Los_Angeles:20250503T123000
DTSTAMP:20260424T143639
CREATED:20250405T115318Z
LAST-MODIFIED:20250405T115318Z
UID:18797-1746272700-1746275400@artsalliancedavis.org
SUMMARY:Vineyard Walk
DESCRIPTION:Take a stroll through our beautiful vineyard with the Winemaker. Join us for an informative Vineyard Walk\, where you’ll learn about our sustainable & organic farming practices and the growth cycle of our vines. Learn how great wines start in the vineyards. This spring walk is timed to see budbreak and young shoots on the vines\, an abundance of wildflowers\, and if we are lucky\, young jackrabbits\, cottontails and wild turkeys. Includes a glass of wine. \nWhether you’re a nature lover or simply looking for a relaxing outdoor experience\, this is a wonderful way to connect with the land that we’re so passionate about. \nAdd a Wine Tasting: If you’d like to elevate your experience\, you can book a separate Signature or Reserve Wine Tasting starting at 12.30p. Please wear sunscreen and closed toe shoes. Ground is uneven.
URL:https://artsalliancedavis.org/event/vineyard-walk-2/
LOCATION:Great Bear Vineyards (Great Bear)\, 24800 County Rd 101A
CATEGORIES:Food & Drink,Outside
ATTACH;FMTTYPE=image/jpeg:https://artsalliancedavis.org/wp-content/uploads/2025/04/24gbvwebsiteeventwalk-1738285808596-1-Rnp078.tmp_.jpg
ORGANIZER;CN="Great Bear Vineyards":MAILTO:greatbearvineyards@gmail.com
END:VEVENT
BEGIN:VEVENT
DTSTART;TZID=America/Los_Angeles:20250509T180000
DTEND;TZID=America/Los_Angeles:20250509T203000
DTSTAMP:20260424T143639
CREATED:20250419T192223Z
LAST-MODIFIED:20250419T192223Z
UID:19023-1746813600-1746822600@artsalliancedavis.org
SUMMARY:The River Exhibition reception 2nd Friday ArtAbout
DESCRIPTION:Come meet the artist\, Jerry DeCamp at the 2nd Friday ArtAbout reception at The Paint Chip. “The River” exhibition is both kinetic and mesmerizing in color\, movement and light.  Free event supporting our local artists.
URL:https://artsalliancedavis.org/event/the-river-exhibition-reception-2nd-friday-artabout/
LOCATION:The Paint Chip\, 217 F Street\, Davis\, CA\, 95616\, United States
CATEGORIES:Art
ATTACH;FMTTYPE=image/jpeg:https://artsalliancedavis.org/wp-content/uploads/2025/04/Jerry-DeCamp-2-scaled-0iEmZc.tmp_.jpg
END:VEVENT
BEGIN:VEVENT
DTSTART;TZID=America/Los_Angeles:20250510T080000
DTEND;TZID=America/Los_Angeles:20250510T150000
DTSTAMP:20260424T143639
CREATED:20250311T152835Z
LAST-MODIFIED:20250311T152835Z
UID:18044-1746864000-1746889200@artsalliancedavis.org
SUMMARY:Annual Golf Tournament
DESCRIPTION:WILDHORSE GOLF COURSE. Tee Off for MOSAIC Children’s Museum! Swing for a cause at Wildhorse Golf Course on May 10. Love golf? Love helping kids? How about winning a Dodge RAM truck? Thanks to Hoblit Dealership\, we’re offering an exciting hole-in-one grand prize: a Dodge RAM truck! Gather your friends and sign up as a foursome\, threesome\, twosome\, or solo\, we’ll match you with a team. Enjoy great food & beverages\, all while helping MOSAIC Children’s Museum continue to inspire young minds through hands-on play & learning. 8a – 3p. $150.
URL:https://artsalliancedavis.org/event/annual-golf-tournament/
LOCATION:Wildhorse Golf Course
CATEGORIES:Athletics,Community,Featured,Outside,Sports
ATTACH;FMTTYPE=image/jpeg:https://artsalliancedavis.org/wp-content/uploads/2025/03/MOSAIC-2025-golf-tournament-flyer1-rw59K9.tmp_.jpg
ORGANIZER;CN="MOSAIC Children&#8217%3Bs Museum":MAILTO:wanda@mosaicchildrensmuseum.org
END:VEVENT
BEGIN:VEVENT
DTSTART;TZID=America/Los_Angeles:20250511T100000
DTEND;TZID=America/Los_Angeles:20250511T123000
DTSTAMP:20260424T143639
CREATED:20250410T141235Z
LAST-MODIFIED:20250410T141235Z
UID:18882-1746957600-1746966600@artsalliancedavis.org
SUMMARY:Mother’s Day Brunch
DESCRIPTION:$45 per adult | $20 for kids ages 5–12 \nJoin us for our special Mother’s Day Bunch at Great Bear Vineyards. Settle in with a glass of sparkling wine and enjoy a delicious array of breakfast favorites and seasonal specialties—served in the fresh air and blooming beauty of our award-winning winery. \nYour brunch includes: \nA glass of sparkling wine on arrival \nSeasonal fresh fruit bowl\nCranberry apple quinoa salad\nMediterranean orzo pasta salad\nBreakfast potatoes\nVegetable quiche\nHam\, cheese & potato quiche\nFrench toast\nBacon\nAssorted breakfast breads & pastries \nWhether you’re toasting with family or gathering with friends\, our Mother’s Day Brunch offers a joyful and relaxed way to celebrate the women who do it all. \nReservations required
URL:https://artsalliancedavis.org/event/mothers-day-brunch-2/
LOCATION:Great Bear Vineyards (Great Bear)\, 24800 County Rd 101A
CATEGORIES:Food & Drink,Outside
ATTACH;FMTTYPE=image/png:https://artsalliancedavis.org/wp-content/uploads/2025/04/Mothers-Day-Brunch-Thumbnail-TAjGKW.tmp_.png
ORGANIZER;CN="Great Bear Vineyards":MAILTO:greatbearvineyards@gmail.com
END:VEVENT
BEGIN:VEVENT
DTSTART;TZID=America/Los_Angeles:20250511T130000
DTEND;TZID=America/Los_Angeles:20250511T150000
DTSTAMP:20260424T143639
CREATED:20250410T141255Z
LAST-MODIFIED:20250410T141255Z
UID:18884-1746968400-1746975600@artsalliancedavis.org
SUMMARY:Mother’s Day Lunch
DESCRIPTION:$50 per adult | $20 for kids ages 5–12 \nJoin us for our special Mother’s Day Lunch. You’ll be welcomed with a glass of sparkling wine and treated to a fresh\, flavorful lunch menu designed to delight every palate—all enjoyed in the peaceful elegance of our scenic vineyard setting. \nYour lunch includes: \nA glass of sparkling wine on arrival \nSeasonal fresh fruit bowl\nCranberry apple quinoa salad\nMediterranean orzo pasta salad\nRoasted baby potatoes with fresh herbs\nSeasonal sautéed vegetables\nItalian herb grilled chicken with caprese\nFilet of beef in a Madeira sauce\nSalmon\nVegetarian zucchini boats (limited availability – please request when booking) \nAssorted bite-sized desserts \nThis is a beautiful way to share a heartfelt meal\, surrounded by nature\, family\, and wine. Let’s raise a glass to moms—cheers to love\, laughter\, and great food. \n🎟️ Reservations required
URL:https://artsalliancedavis.org/event/mothers-day-lunch/
LOCATION:Great Bear Vineyards (Great Bear)\, 24800 County Rd 101A
CATEGORIES:Food & Drink,Outside
ATTACH;FMTTYPE=image/png:https://artsalliancedavis.org/wp-content/uploads/2025/04/Mothers-Day-Lunch-Thumbnail-EROm1M.tmp_.png
ORGANIZER;CN="Great Bear Vineyards":MAILTO:greatbearvineyards@gmail.com
END:VEVENT
BEGIN:VEVENT
DTSTART;TZID=America/Los_Angeles:20250518T100000
DTEND;TZID=America/Los_Angeles:20250518T160000
DTSTAMP:20260424T143639
CREATED:20250507T113717Z
LAST-MODIFIED:20250507T113717Z
UID:19371-1747562400-1747584000@artsalliancedavis.org
SUMMARY:Day in Downtown
DESCRIPTION:Day in Downtown is a community event comprised of artists\, makers\, vintage clothing vendors\, Downtown brick and mortars\, and Davis non-profits. It will take place on Sunday\, May 18th from 10am to 4pm in the E Street Plaza Parking Lot. Admission is free\, and it is family friendly. Come check out what will soon become a Davis classic!
URL:https://artsalliancedavis.org/event/day-in-downtown/
LOCATION:E Street Plaza Parking Lot\, 228 E Street\, Davis\, 95616\, United States
CATEGORIES:Art,Bring the Kids,Community,Featured,Outside,Shopping
ATTACH;FMTTYPE=image/jpeg:https://artsalliancedavis.org/wp-content/uploads/2018/10/orange-white-aad-logo.jpg
ORGANIZER;CN="Yesterday Vintage":MAILTO:shop@yesterdaydavis.com
END:VEVENT
BEGIN:VEVENT
DTSTART;TZID=America/Los_Angeles:20250524T120000
DTEND;TZID=America/Los_Angeles:20250524T200000
DTSTAMP:20260424T143639
CREATED:20250503T231142Z
LAST-MODIFIED:20250503T231142Z
UID:19318-1748088000-1748116800@artsalliancedavis.org
SUMMARY:Black Family Day
DESCRIPTION:🎉 Black Family Day 2025 — May 24 | 12–8 PM | UC Davis Quad \nYou’re invited to Black Family Day 2025\, a vibrant celebration of Black culture\, community\, and legacy at UC Davis. Since its founding in 1970 by the Black Student Union\, this annual event has grown into a cherished tradition that brings together students\, families\, alumni\, and community members in joy and unity. \nJoin us on the UC Davis Quad for a full day of: \n\nLive performances by DJ KweKu\, Shabbal Dance\, Lady Mustangs\, Stingerettes\, Afro Vibes\, Meraki\, SAYS Youth Poetry Team\, Brandon O. Bailey\, NME Band\, and John Mackk \nFood and craft vendors featuring local businesses and delicious offerings \nA lively Children’s Fair with games and activities \nEngagement opportunities with student orgs and community groups \nAnd the return of NPHC’s Stompfest from 6–8 PM! \n\nThis is a family-friendly\, inclusive event that celebrates the richness and diversity of Blackness. All are welcome\, and the space is grounded in love\, respect\, and joy—with no tolerance for sexism\, homophobia\, transphobia\, or xenophobia. \nMark your calendars and come celebrate with us—there’s something for everyone!
URL:https://artsalliancedavis.org/event/black-family-day/
LOCATION:UC Davis Quad
CATEGORIES:Bring the Kids,Community,Food & Drink,Games,Music,Outside
ATTACH;FMTTYPE=image/jpeg:https://artsalliancedavis.org/wp-content/uploads/2025/05/BFD-flyer-w-john-mackk-1-5vW2hS.tmp_.jpg
END:VEVENT
BEGIN:VEVENT
DTSTART;TZID=America/Los_Angeles:20250531T110000
DTEND;TZID=America/Los_Angeles:20250531T150000
DTSTAMP:20260424T143639
CREATED:20250410T141715Z
LAST-MODIFIED:20250410T141715Z
UID:18888-1748689200-1748703600@artsalliancedavis.org
SUMMARY:Lavender Weekend
DESCRIPTION:Join us for a serene and fragrant weekend among the lavender fields at Great Bear Vineyards! Our Lavender Weekend is the perfect way to unwind\, enjoy the beauty of summer\, and treat your senses. \nHere’s what’s in bloom for you: \n\nStroll through our lavender fields in full bloom – perfect for dreamy photos!\nPick your own bunch or take home a fresh pre-picked lavender bouquet\nBrowse our selection of lavender soaps\, oils\, and other artisan products\nPurchase a stunning handmade lavender wreath for your home\nTaste and shop local honey & honey-infused treats\nEnjoy fresh seasonal fruit from local farms\n\nYour $10 ticket includes: \n\nA fresh bunch of lavender to take home\nA cup of honey & lavender ice cream—a refreshing\, floral delight!\n\nWhether you’re looking for a relaxing day out\, a unique experience with friends\, or the perfect Instagram moment\, Lavender Weekend is not to be missed. Come early—lavender waits for no one!
URL:https://artsalliancedavis.org/event/lavender-weekend/
LOCATION:Great Bear Vineyards (Great Bear)\, 24800 County Rd 101A
CATEGORIES:Food & Drink,Outside
ATTACH;FMTTYPE=image/png:https://artsalliancedavis.org/wp-content/uploads/2025/04/Lavender-Weekend-1-Thumbnail-sRxHZW.tmp_.png
ORGANIZER;CN="Great Bear Vineyards":MAILTO:greatbearvineyards@gmail.com
END:VEVENT
BEGIN:VEVENT
DTSTART;TZID=America/Los_Angeles:20250531T173000
DTEND;TZID=America/Los_Angeles:20250531T210000
DTSTAMP:20260424T143639
CREATED:20250407T130931Z
LAST-MODIFIED:20250407T130931Z
UID:18835-1748712600-1748725200@artsalliancedavis.org
SUMMARY:Lobster Boil at Great Bear Vineyards
DESCRIPTION:A Coastal Feast with Wine Country Soul\nSaturday\, May 31\, 5:30–9PM \nPrepare for a true spectacle of the senses at Great Bear Vineyards. In partnership with the renowned Napa Valley Lobster Company\, we’re hosting an unforgettable lobster boil—boiled fresh on-site and served in dramatic fashion down our long\, rustic farm tables. \nGuests will dine family-style\, cracking claws\, sharing stories\, and savoring whole Maine lobster alongside smoked sausage\, sweet corn\, herbed potatoes\, and more. The air will be rich with the scent of sea and spice\, laughter will echo under the golden sunset\, and our award-winning wines will flow freely throughout the evening. \nIt’s a feast for all the sense – eyes\, nose\, and taste buds—a celebration of food\, wine\, and community in a setting of casual elegance. \nArrive from 5.30PM to see the boil in progress and for drinks and appetizers then the feast starts at 6:30PM. \nTickets: $165\nIncludes full lobster dinner\, sides\, wine\, and a truly delicious experience.\nWine club members log into your account for a 15% discount.  \nSeating is limited — Reserve your seat at the table today.
URL:https://artsalliancedavis.org/event/lobster-boil-at-great-bear-vineyards/
LOCATION:Great Bear Vineyards (Great Bear)\, 24800 County Rd 101A
CATEGORIES:Community,Food & Drink,Outside
ATTACH;FMTTYPE=image/png:https://artsalliancedavis.org/wp-content/uploads/2025/04/Lobster-Boil-Thumbnail-yzLv4I.tmp_.png
ORGANIZER;CN="Great Bear Vineyards":MAILTO:greatbearvineyards@gmail.com
END:VEVENT
END:VCALENDAR