BEGIN:VCALENDAR
VERSION:2.0
PRODID:-//Arts Alliance Davis - ECPv6.15.20//NONSGML v1.0//EN
CALSCALE:GREGORIAN
METHOD:PUBLISH
X-ORIGINAL-URL:https://artsalliancedavis.org
X-WR-CALDESC:Events for Arts Alliance Davis
REFRESH-INTERVAL;VALUE=DURATION:PT1H
X-Robots-Tag:noindex
X-PUBLISHED-TTL:PT1H
BEGIN:VTIMEZONE
TZID:America/Los_Angeles
BEGIN:DAYLIGHT
TZOFFSETFROM:-0800
TZOFFSETTO:-0700
TZNAME:PDT
DTSTART:20240310T100000
END:DAYLIGHT
BEGIN:STANDARD
TZOFFSETFROM:-0700
TZOFFSETTO:-0800
TZNAME:PST
DTSTART:20241103T090000
END:STANDARD
BEGIN:DAYLIGHT
TZOFFSETFROM:-0800
TZOFFSETTO:-0700
TZNAME:PDT
DTSTART:20250309T100000
END:DAYLIGHT
BEGIN:STANDARD
TZOFFSETFROM:-0700
TZOFFSETTO:-0800
TZNAME:PST
DTSTART:20251102T090000
END:STANDARD
BEGIN:DAYLIGHT
TZOFFSETFROM:-0800
TZOFFSETTO:-0700
TZNAME:PDT
DTSTART:20260308T100000
END:DAYLIGHT
BEGIN:STANDARD
TZOFFSETFROM:-0700
TZOFFSETTO:-0800
TZNAME:PST
DTSTART:20261101T090000
END:STANDARD
END:VTIMEZONE
BEGIN:VEVENT
DTSTART;TZID=America/Los_Angeles:20250601T130000
DTEND;TZID=America/Los_Angeles:20250601T150000
DTSTAMP:20260424T132313
CREATED:20250313T162047Z
LAST-MODIFIED:20250313T162047Z
UID:18264-1748782800-1748790000@artsalliancedavis.org
SUMMARY:Paint & Sip
DESCRIPTION:GREAT BEAR VINEYARDS. Come & indulge your inner artist with our lavender painting class while sipping on a glass of Great Bear Vineyards wine! The class will be led by local artists\, Anne & Pooja\, & you will create a beautiful painting inspired by the lavender harvest at Great Bear Vineyards. 1p – 3p. $60 tickets includes materials & first glass of wine.
URL:https://artsalliancedavis.org/event/paint-sip-2/
LOCATION:Great Bear Vineyards (Great Bear)\, 24800 County Rd 101A
CATEGORIES:Art,Community,Food & Drink
ATTACH;FMTTYPE=image/png:https://artsalliancedavis.org/wp-content/uploads/2025/03/Paint-Sip-Thumbnail-rMpPXw.tmp_.png
ORGANIZER;CN="Great Bear Vineyards":MAILTO:greatbearvineyards@gmail.com
END:VEVENT
BEGIN:VEVENT
DTSTART;TZID=America/Los_Angeles:20250606T170000
DTEND;TZID=America/Los_Angeles:20250606T200000
DTSTAMP:20260424T132313
CREATED:20250313T162123Z
LAST-MODIFIED:20250313T162123Z
UID:18266-1749229200-1749240000@artsalliancedavis.org
SUMMARY:Live Music & Food Truck
DESCRIPTION:GREAT BEAR VINEYARD. Join us for a night of great music brought to you by Mr. Q & food by Buenos Aires Grill! Based in Sacramento\, Mr. Q band plays original Blues\, Jazz\, Americana & Jazz vocal. Buenos Aires Grill serves authentic Argentinian food\, featuring empanadas & steak & chicken sandwiches. Please support this local business & do not bring outside food. 5p – 8p. $15 tickets includes glass of wine & live music. 5p – 8p. $15 tickets includes a glass of wine and live music. 
URL:https://artsalliancedavis.org/event/live-music-food-truck-11/
LOCATION:Great Bear Vineyards (Great Bear)\, 24800 County Rd 101A
CATEGORIES:Community,Food & Drink,Music
ATTACH;FMTTYPE=image/png:https://artsalliancedavis.org/wp-content/uploads/2025/03/Mr.-Q-Thumbnail-2-2UspSv.tmp_.png
ORGANIZER;CN="Great Bear Vineyards":MAILTO:greatbearvineyards@gmail.com
END:VEVENT
BEGIN:VEVENT
DTSTART;TZID=America/Los_Angeles:20250611T180000
DTEND;TZID=America/Los_Angeles:20250611T200000
DTSTAMP:20260424T132313
CREATED:20250313T162215Z
LAST-MODIFIED:20250313T162215Z
UID:18274-1749664800-1749672000@artsalliancedavis.org
SUMMARY:Fit4Mom Yoga Night
DESCRIPTION:GREAT BEAR VINEYARDS. Back by popular demand\, Fit4Mom Davis-Woodland & Great Bear are teaming up to offer an evening with yoga and wine. Our talented Fit4Mom Davis-Woodland instructors\, Anais Foley-Kennedy & Maria Perez lead an easy to moderate Vinyasa flow set to groovy toons & tailored to your skill level. As yoga draws to a close\, we will read an inspirational\, original meditation from local writer\, Jessica Guerrieri. You can walk in the lavender fields\, set up a picnic\, or simply socialize with new and old friends. 6 – 8. $20.
URL:https://artsalliancedavis.org/event/fit4mom-yoga-night-2/
LOCATION:Great Bear Vineyards (Great Bear)\, 24800 County Rd 101A
CATEGORIES:Athletics,Community,Fitness,Food & Drink
ATTACH;FMTTYPE=image/png:https://artsalliancedavis.org/wp-content/uploads/2025/03/Fit4Mom-Yoga-Night-Thumbnail-1-SDsmOO.tmp_.png
ORGANIZER;CN="Great Bear Vineyards":MAILTO:greatbearvineyards@gmail.com
END:VEVENT
BEGIN:VEVENT
DTSTART;TZID=America/Los_Angeles:20250613T170000
DTEND;TZID=America/Los_Angeles:20250613T210000
DTSTAMP:20260424T132313
CREATED:20250405T120233Z
LAST-MODIFIED:20250405T120233Z
UID:18812-1749834000-1749848400@artsalliancedavis.org
SUMMARY:Graduation Dinner
DESCRIPTION:Celebrate graduation weekend with a buffet style farm-to-fork dinner at Great Bear Vineyards. Enjoy an evening of delicious food\, award-winning wine\, and live music in our picturesque vineyard setting. Wine will be available for purchase at $10 per glass or by the bottle at regular prices. We will have live music\, band to be confirmed. \nMenu: \n\nMixed greens salad with apricots & feta\nCranberry\, orange & mint orzo pasta\nSeasonal vegetables & roasted potatoes\nGrilled tri-tip with BBQ sauce & creamed horseradish\nItalian herb chicken with a seasonal fruit salsa\nMediterranean succotash (chickpeas\, beans\, carrots\, etc.)\nFresh fruit\nBrownies\n\nAll meals are served on compostable plates with eco-friendly silverware. \nReserve your spot now and make graduation weekend truly memorable!
URL:https://artsalliancedavis.org/event/graduation-dinner/
LOCATION:Great Bear Vineyards (Great Bear)\, 24800 County Rd 101A
CATEGORIES:Community,Food & Drink,Music,Outside
ATTACH;FMTTYPE=image/png:https://artsalliancedavis.org/wp-content/uploads/2025/04/Graduation-Thumbnail-1-LNOSmH.tmp_.png
ORGANIZER;CN="Great Bear Vineyards":MAILTO:greatbearvineyards@gmail.com
END:VEVENT
BEGIN:VEVENT
DTSTART;TZID=America/Los_Angeles:20250614T170000
DTEND;TZID=America/Los_Angeles:20250614T210000
DTSTAMP:20260424T132313
CREATED:20250405T120252Z
LAST-MODIFIED:20250405T120252Z
UID:18814-1749920400-1749934800@artsalliancedavis.org
SUMMARY:Graduation Dinner
DESCRIPTION:Celebrate graduation weekend with a buffet style farm-to-fork dinner at Great Bear Vineyards. Enjoy an evening of delicious food\, award-winning wine\, and live music in our picturesque vineyard setting. Wine will be available for purchase at $10 per glass or by the bottle at regular prices. We will have live music\, band to be confirmed. \nMenu: \n\nMixed greens salad with apricots & feta\nCranberry\, orange & mint orzo pasta\nSeasonal vegetables & roasted potatoes\nGrilled tri-tip with BBQ sauce & creamed horseradish\nItalian herb chicken with a seasonal fruit salsa\nMediterranean succotash (chickpeas\, beans\, carrots\, etc.)\nFresh fruit\nBrownies\n\nAll meals are served on compostable plates with eco-friendly silverware. \nReserve your spot now and make graduation weekend truly memorable!
URL:https://artsalliancedavis.org/event/graduation-dinner-2/
LOCATION:Great Bear Vineyards (Great Bear)\, 24800 County Rd 101A
CATEGORIES:Community,Food & Drink,Music,Outside
ATTACH;FMTTYPE=image/png:https://artsalliancedavis.org/wp-content/uploads/2025/04/Graduation-Thumbnail-2-UcfOZo.tmp_.png
ORGANIZER;CN="Great Bear Vineyards":MAILTO:greatbearvineyards@gmail.com
END:VEVENT
BEGIN:VEVENT
DTSTART;TZID=America/Los_Angeles:20250618T191000
DTEND;TZID=America/Los_Angeles:20250618T204500
DTSTAMP:20260424T132313
CREATED:20250513T141206Z
LAST-MODIFIED:20250513T141206Z
UID:19461-1750273800-1750279500@artsalliancedavis.org
SUMMARY:Photography Club of Davis Free Workshop
DESCRIPTION:The Photography Club of Davis will host a free photography workshop\, “Following the Light: The Importance of Personal Photographic Projects\,” on Wednesday\, June 18 at 7:10pm\, at the Davis Library Blanchard Room\, 314 E 14th St.\, Davis. \n\n\nThe workshop leader\, Seán Duggan\, is a fine art photographer and photographic educator. In this presentation\, Mr. Duggan explores the importance of the personal project as a vehicle for creative exploration\, mastering specific photography techniques\, and fostering personal growth. Working within the structure of a project or series can benefit photographers of all experience levels\, but it can be particularly helpful to new photographers\, who are still discovering and refining their voice and style. Drawing on his personal experiences as a photographer and photographic educator\, Mr. Duggan illustrates the concepts in his presentation with images from several of his own personal projects created over the past 35 years and made with a wide range of cameras and imaging techniques. \n\n\nMr. Duggan uses a variety of cameras in his work\, including vintage twin lens reflex cameras\, plastic toy cameras\, a wooden pinhole camera\, as well as modern mirrorless digital cameras and an iPhone. As the photography content lead on the Adobe Learn team\, he creates and curates educational content for Adobe’s digital imaging products. He has over 20 online courses on photography\, Photoshop\, and mobile image making at LinkedIn Learning\, where he hosted the popular series Mobile Photography Weekly from 2016 to 2021. He has taught workshops at the Maine Media Workshops\, the Santa Fe Photographic Workshops\, the Palm Beach Photographic Centre\, and the Focus on Nature workshops in Iceland. He is the author or co-author of several books on Photoshop and digital imaging including The Creative Digital Darkroom\, Photoshop Masking & Compositing and The Enthusiasts Guide to iPhone Photography. His website is seanduggan.com.
URL:https://artsalliancedavis.org/event/photography-club-of-davis-free-workshop/
LOCATION:Mary L. Stephens Davis Branch Library Blanchard Room\, 315 E 14th St\, Davis\, CA\, 95616\, United States
CATEGORIES:Art,Community
ATTACH;FMTTYPE=image/jpeg:https://artsalliancedavis.org/wp-content/uploads/2025/05/Duggan-mohawk_boy_at_the_lake-2200px-Cr-ni086l.tmp_.jpg
ORGANIZER;CN="Photography Club of Davis":MAILTO:photographyclubofdavis@gmail.com
END:VEVENT
BEGIN:VEVENT
DTSTART;TZID=America/Los_Angeles:20250620T170000
DTEND;TZID=America/Los_Angeles:20250620T200000
DTSTAMP:20260424T132313
CREATED:20250322T200252Z
LAST-MODIFIED:20250322T200252Z
UID:18368-1750438800-1750449600@artsalliancedavis.org
SUMMARY:Live Music & Food Truck
DESCRIPTION:GREAT BEAR VINEYARDS. Groove to the sounds of Odd Man Out while enjoying a kebab from the Sahara food truck! We are excited to welcome Odd Man Out back to the winery. Odd Man Out has become a Yolo County musical institution over the past 20 years\, playing a mix of music from the ’60s and ’70 while also sprinkling in a few original songs that are right at home with the classics.  Sahara Kebab Food Truck will be at the winery this evening providing kebabs & shawarma. Please support this local business & do not bring outside food. 5p – 8p. $15 ticket includes a glass of wine and live music.
URL:https://artsalliancedavis.org/event/live-music-food-truck-12/
LOCATION:Great Bear Vineyards (Great Bear)\, 24800 County Rd 101A
CATEGORIES:Community,Food & Drink,Music
ATTACH;FMTTYPE=image/png:https://artsalliancedavis.org/wp-content/uploads/2025/03/Odd-Man-Out-Thumbnail-Ecxef7.tmp_.png
ORGANIZER;CN="Great Bear Vineyards":MAILTO:greatbearvineyards@gmail.com
END:VEVENT
BEGIN:VEVENT
DTSTART;TZID=America/Los_Angeles:20250627T170000
DTEND;TZID=America/Los_Angeles:20250627T200000
DTSTAMP:20260424T132313
CREATED:20250329T223010Z
LAST-MODIFIED:20250329T223010Z
UID:18662-1751043600-1751054400@artsalliancedavis.org
SUMMARY:Live Music & Food Truck
DESCRIPTION:GREAT BEAR VINEYARD. Join us for a night of great music brought to you by the Teds Band & food by Cousins Maine Lobster! We are excited to welcome back The Teds Band to the winery! They are a band of 4\, playing favorite oldies suited for those who want to kick back & enjoy as well as upbeat danceable tunes. Cousins Maine Lobster Food Truck will be out at the winery offering delicious chowders & seafood sandwiches. Please support this local business and do not bring outside food. 5p – 8p. $15 tickets include a glass of wine & live music. 5p – 8p. $15 tickets include a glass of wine and live music. 
URL:https://artsalliancedavis.org/event/live-music-food-truck-13/
LOCATION:Great Bear Vineyards (Great Bear)\, 24800 County Rd 101A
CATEGORIES:Community,Food & Drink,Music
ATTACH;FMTTYPE=image/png:https://artsalliancedavis.org/wp-content/uploads/2025/03/Teds-Band-Thumbnail-1-d56Pjh.tmp_.png
ORGANIZER;CN="Great Bear Vineyards":MAILTO:greatbearvineyards@gmail.com
END:VEVENT
END:VCALENDAR