BEGIN:VCALENDAR
VERSION:2.0
PRODID:-//Arts Alliance Davis - ECPv6.15.20//NONSGML v1.0//EN
CALSCALE:GREGORIAN
METHOD:PUBLISH
X-WR-CALNAME:Arts Alliance Davis
X-ORIGINAL-URL:https://artsalliancedavis.org
X-WR-CALDESC:Events for Arts Alliance Davis
REFRESH-INTERVAL;VALUE=DURATION:PT1H
X-Robots-Tag:noindex
X-PUBLISHED-TTL:PT1H
BEGIN:VTIMEZONE
TZID:America/Los_Angeles
BEGIN:DAYLIGHT
TZOFFSETFROM:-0800
TZOFFSETTO:-0700
TZNAME:PDT
DTSTART:20240310T100000
END:DAYLIGHT
BEGIN:STANDARD
TZOFFSETFROM:-0700
TZOFFSETTO:-0800
TZNAME:PST
DTSTART:20241103T090000
END:STANDARD
BEGIN:DAYLIGHT
TZOFFSETFROM:-0800
TZOFFSETTO:-0700
TZNAME:PDT
DTSTART:20250309T100000
END:DAYLIGHT
BEGIN:STANDARD
TZOFFSETFROM:-0700
TZOFFSETTO:-0800
TZNAME:PST
DTSTART:20251102T090000
END:STANDARD
BEGIN:DAYLIGHT
TZOFFSETFROM:-0800
TZOFFSETTO:-0700
TZNAME:PDT
DTSTART:20260308T100000
END:DAYLIGHT
BEGIN:STANDARD
TZOFFSETFROM:-0700
TZOFFSETTO:-0800
TZNAME:PST
DTSTART:20261101T090000
END:STANDARD
END:VTIMEZONE
BEGIN:VEVENT
DTSTART;TZID=America/Los_Angeles:20250822T170000
DTEND;TZID=America/Los_Angeles:20250822T200000
DTSTAMP:20260424T105551
CREATED:20250821T141845Z
LAST-MODIFIED:20250821T141845Z
UID:19568-1755882000-1755892800@artsalliancedavis.org
SUMMARY:Live Music & Food Truck
DESCRIPTION:Ticket includes: Glass of Wine & Live Music \nEnjoy the sounds of the Folk Music Folks while indulging in delicious seafood from Cousins Maine Lobster! \nMusic by the Folk Music Folks : An eight person ensemble that includes fiddles\, marimba\, accordion\, percussion and guitars: bass\, rhythm and dobro. The Folks Music folks play folk tunes from around the world! \nFood by Cousins Maine Lobster: Cousins Maine Lobster Food Truck will be out at the winery offering delicious chowders and seafood sandwiches. Please support this local business and do not bring outside food.
URL:https://artsalliancedavis.org/event/live-music-food-truck-17/
LOCATION:Great Bear Vineyards (Great Bear)\, 24800 County Rd 101A
CATEGORIES:Food & Drink,Music
ATTACH;FMTTYPE=image/png:https://artsalliancedavis.org/wp-content/uploads/2025/08/Folk-Music-Folks-Thumbnail-VumUK8.png
ORGANIZER;CN="Great Bear Vineyards":MAILTO:greatbearvineyards@gmail.com
END:VEVENT
BEGIN:VEVENT
DTSTART;TZID=America/Los_Angeles:20250829T170000
DTEND;TZID=America/Los_Angeles:20250829T200000
DTSTAMP:20260424T105551
CREATED:20250821T142155Z
LAST-MODIFIED:20250821T142155Z
UID:19678-1756486800-1756497600@artsalliancedavis.org
SUMMARY:Live Music & Food Truck
DESCRIPTION:Ticket includes: Glass of Wine & Live Music \nRelax to the melodies of Loshandra Ostrava while enjoying your meal from a local food truck! \nMusic by Loshandra Ostrava : A talented pianist\, Loshandra Ostrava specializes in playing original jazz/classical/new age style music on acoustic piano. \nFood by Local Food Truck (TBD): Keep an eye out! We will update with more details as soon as we have confirmed which food truck will be on site.
URL:https://artsalliancedavis.org/event/live-music-food-truck-18/
LOCATION:Great Bear Vineyards (Great Bear)\, 24800 County Rd 101A
CATEGORIES:Food & Drink,Music
ATTACH;FMTTYPE=image/png:https://artsalliancedavis.org/wp-content/uploads/2025/08/Loshandra-Ostrava-Thumbnail-BSbP2b.png
ORGANIZER;CN="Great Bear Vineyards":MAILTO:greatbearvineyards@gmail.com
END:VEVENT
BEGIN:VEVENT
DTSTART;TZID=America/Los_Angeles:20250831T100000
DTEND;TZID=America/Los_Angeles:20250831T141500
DTSTAMP:20260424T105551
CREATED:20250826T153352Z
LAST-MODIFIED:20250826T153352Z
UID:20754-1756634400-1756649700@artsalliancedavis.org
SUMMARY:SwimAmerica-Davis POP UP SWIM LESSONS
DESCRIPTION:Pop-Up Swim Lessons at SwimAmerica-Davis – One Day Only! \nLooking for a fast\, flexible way to get your child in the water? Join us for Pop-Up Swim Lessons on Saturday\, August 31st\, from 10:00 AM – 2:15 PM. \nThese special 30-minute lessons are designed for swimmers of all levels (1–10). It’s the perfect chance to: \n\n\nGive your child a confidence boost before school starts \n\n\nStrengthen essential water safety skills \n\n\nExperience SwimAmerica-Davis without the ongoing enrollment \n\n\nSpaces are limited\, and spots will go quickly. Secure your lesson today at swimamericadavis.com or by calling us directly. \nDon’t miss this opportunity to make a splash!
URL:https://artsalliancedavis.org/event/swimamerica-davis-pop-up-swim-lessons/
LOCATION:2121 2nd Street Suite 101A\, Davis\, CA 95618\, 2121 2nd Street\, Suite 101A\, Davis\, 95618\, United States
CATEGORIES:Athletics,Sports
ATTACH;FMTTYPE=image/jpeg:https://artsalliancedavis.org/wp-content/uploads/2025/08/Build-A-Brand-In-Just-5-Days-6-1-4jsSY6.jpg
ORGANIZER;CN="SwimAmerica-Davis":MAILTO:frontdesk@swimamericadavis.com
END:VEVENT
END:VCALENDAR