BEGIN:VCALENDAR
VERSION:2.0
PRODID:-//Arts Alliance Davis - ECPv6.15.20//NONSGML v1.0//EN
CALSCALE:GREGORIAN
METHOD:PUBLISH
X-ORIGINAL-URL:https://artsalliancedavis.org
X-WR-CALDESC:Events for Arts Alliance Davis
REFRESH-INTERVAL;VALUE=DURATION:PT1H
X-Robots-Tag:noindex
X-PUBLISHED-TTL:PT1H
BEGIN:VTIMEZONE
TZID:America/Los_Angeles
BEGIN:DAYLIGHT
TZOFFSETFROM:-0800
TZOFFSETTO:-0700
TZNAME:PDT
DTSTART:20240310T100000
END:DAYLIGHT
BEGIN:STANDARD
TZOFFSETFROM:-0700
TZOFFSETTO:-0800
TZNAME:PST
DTSTART:20241103T090000
END:STANDARD
BEGIN:DAYLIGHT
TZOFFSETFROM:-0800
TZOFFSETTO:-0700
TZNAME:PDT
DTSTART:20250309T100000
END:DAYLIGHT
BEGIN:STANDARD
TZOFFSETFROM:-0700
TZOFFSETTO:-0800
TZNAME:PST
DTSTART:20251102T090000
END:STANDARD
BEGIN:DAYLIGHT
TZOFFSETFROM:-0800
TZOFFSETTO:-0700
TZNAME:PDT
DTSTART:20260308T100000
END:DAYLIGHT
BEGIN:STANDARD
TZOFFSETFROM:-0700
TZOFFSETTO:-0800
TZNAME:PST
DTSTART:20261101T090000
END:STANDARD
END:VTIMEZONE
BEGIN:VEVENT
DTSTART;TZID=America/Los_Angeles:20250905T170000
DTEND;TZID=America/Los_Angeles:20250905T200000
DTSTAMP:20260424T094011
CREATED:20250821T142437Z
LAST-MODIFIED:20250821T142437Z
UID:19759-1757091600-1757102400@artsalliancedavis.org
SUMMARY:Live Music & Food Truck
DESCRIPTION:Ticket includes: Glass of Wine & Live Music \nKick off your weekend with music from the Mr. Q Band and delicious food from a local food truck! \nMusic by Mr. Q Band : We are honored to have The Mr. Q Band back at the winery playing songs like Sentimental Journey\, Don’t Get Around Much Anymore\, Bye Bye Blackbird\, Ain’t Misbehaving\, Fever\, Route 66\, & Summertime. \nFood by Local Food Truck (TBD): Keep an eye out! We will update with more details as soon as we have confirmed which food truck will be on site.
URL:https://artsalliancedavis.org/event/live-music-food-truck-19/
LOCATION:Great Bear Vineyards (Great Bear)\, 24800 County Rd 101A
CATEGORIES:Food & Drink,Music
ATTACH;FMTTYPE=image/png:https://artsalliancedavis.org/wp-content/uploads/2025/08/Mr.-Q-Thumbnail-j5QPV2.png
ORGANIZER;CN="Great Bear Vineyards":MAILTO:greatbearvineyards@gmail.com
END:VEVENT
BEGIN:VEVENT
DTSTART;TZID=America/Los_Angeles:20250906T120000
DTEND;TZID=America/Los_Angeles:20250906T170000
DTSTAMP:20260424T094011
CREATED:20250821T142514Z
LAST-MODIFIED:20250821T142514Z
UID:19778-1757160000-1757178000@artsalliancedavis.org
SUMMARY:Chocolate & Wine Pairing
DESCRIPTION:🍷🍫 Wine & Chocolate Pairing Experience\nSaturday\, September 6 | 12–5pm \nEmbark on a decadent flavor journey at Great Bear Vineyards. We’ve curated a luxurious tasting flight of four award-winning wines\, each paired with rich\, handcrafted chocolates selected to complement and elevate every sip. ✨ \nWhether you’re a seasoned connoisseur or simply curious\, this indulgent experience invites you to:\n🍷 Savor the elegance of our estate-grown wines\n🍫 Explore the art of pairing bold reds and delicate whites with fine chocolates\n🧠 Pick up delicious pairing insights—or simply relax and enjoy the magic \nBring a friend\, claim a cozy table under the shade or in our charming Dance Hall\, and let the afternoon unfold in layers of flavor\, texture\, and pure indulgence.
URL:https://artsalliancedavis.org/event/chocolate-wine-pairing-7/
LOCATION:Great Bear Vineyards (Great Bear)\, 24800 County Rd 101A
CATEGORIES:Food & Drink
ATTACH;FMTTYPE=image/png:https://artsalliancedavis.org/wp-content/uploads/2025/08/Chocolate-Wine-Pairing-2-hrohxb.png
ORGANIZER;CN="Great Bear Vineyards":MAILTO:greatbearvineyards@gmail.com
END:VEVENT
BEGIN:VEVENT
DTSTART;TZID=America/Los_Angeles:20250907T120000
DTEND;TZID=America/Los_Angeles:20250907T150000
DTSTAMP:20260424T094011
CREATED:20250821T142521Z
LAST-MODIFIED:20250821T142521Z
UID:19786-1757246400-1757257200@artsalliancedavis.org
SUMMARY:Chocolate & Wine Pairing
DESCRIPTION:🍷🍫 Wine & Chocolate Pairing Experience\nSunday\, September 7 | 12–3pm \nEmbark on a decadent flavor journey at Great Bear Vineyards. We’ve curated a luxurious tasting flight of four award-winning wines\, each paired with rich\, handcrafted chocolates selected to complement and elevate every sip. ✨ \nWhether you’re a seasoned connoisseur or simply curious\, this indulgent experience invites you to:\n🍷 Savor the elegance of our estate-grown wines\n🍫 Explore the art of pairing bold reds and delicate whites with fine chocolates\n🧠 Pick up delicious pairing insights—or simply relax and enjoy the magic \nBring a friend\, claim a cozy table under the shade or in our charming Dance Hall\, and let the afternoon unfold in layers of flavor\, texture\, and pure indulgence.
URL:https://artsalliancedavis.org/event/chocolate-wine-pairing-8/
LOCATION:Great Bear Vineyards (Great Bear)\, 24800 County Rd 101A
CATEGORIES:Food & Drink
ATTACH;FMTTYPE=image/png:https://artsalliancedavis.org/wp-content/uploads/2025/08/Chocolate-Wine-Pairing-3-jgLapG.png
ORGANIZER;CN="Great Bear Vineyards":MAILTO:greatbearvineyards@gmail.com
END:VEVENT
BEGIN:VEVENT
DTSTART;TZID=America/Los_Angeles:20250910T180000
DTEND;TZID=America/Los_Angeles:20250910T200000
DTSTAMP:20260424T094011
CREATED:20250822T143720Z
LAST-MODIFIED:20250822T143720Z
UID:19838-1757527200-1757534400@artsalliancedavis.org
SUMMARY:Fit4Mom Yoga Night
DESCRIPTION:Second Wednesday of each month from 6 to 8:00PM \nBack by popular demand\, Fit4Mom Davis-Woodland and Great Bear are teaming up to offer an evening with yoga and wine. Our talented Fit4Mom Davis-Woodland instructors\, Anais Foley-Kennedy and Maria Perez lead an easy to moderate Vinyasa flow set to groovy tunes and tailored to your skill level. As yoga draws to a close\, we will read an inspirational\, original meditation from local writer\, Jessica Guerrieri. Then we invite you to sit down and relax as Great Bear pours you a glass of their delicious wine. You can walk in the lavender fields\, set up a picnic\, or simply socialize with new and old friends. \nA workout and wine are the stuff summer dreams are made of. We can’t wait for you to join us! \nSuggestions for what to bring: \n\nYoga mat\nTowel\nWater\nMoney/ card to purchase an extra glass (or bottle) of wine\nFood items for a picnic\nLight jacket or sweater\n\nORGANIZER: \nAllison Olson \nOwner\, FIT4MOM Davis-Woodland \n925-285-6514 \ndavis-woodland.fit4mom.com
URL:https://artsalliancedavis.org/event/fit4mom-yoga-night-4/
LOCATION:Great Bear Vineyards (Great Bear)\, 24800 County Rd 101A
CATEGORIES:Fitness,Food & Drink
ATTACH;FMTTYPE=image/png:https://artsalliancedavis.org/wp-content/uploads/2025/08/Fit4Mom-Yoga-Night-Thumbnail-1-FKRAXz.png
ORGANIZER;CN="Great Bear Vineyards":MAILTO:greatbearvineyards@gmail.com
END:VEVENT
BEGIN:VEVENT
DTSTART;TZID=America/Los_Angeles:20250912T170000
DTEND;TZID=America/Los_Angeles:20250912T200000
DTSTAMP:20260424T094011
CREATED:20250822T143843Z
LAST-MODIFIED:20250822T143843Z
UID:19886-1757696400-1757707200@artsalliancedavis.org
SUMMARY:Live Music & Wood-Fired Pizza
DESCRIPTION:Ticket includes: Glass of Wine & Live Music with option to purchase ticket that includes personal wood-fired Pizza.  \nGlass of Wine and Live Music Only- $15.00 \nGlass of Wine\, Live Music & Personal Wood-Fired Pizza- $32.00 \nEnjoy the musical stylings of the Teds Band with a personal wood-fired pizza and some wine! \nMusic by the Teds Band : We are excited to welcome back The Teds Band to the winery! They are a band of 4\, playing favorite oldies suited for those who want to kick back and enjoy as well as upbeat danceable tunes. \nFood by Andes Pizza: Established in 2019\, The Andes Pizza is a family-run business that aims to offer a unique culinary experience to the masses by serving authentic wood-fired pizza.
URL:https://artsalliancedavis.org/event/live-music-wood-fired-pizza/
LOCATION:Great Bear Vineyards (Great Bear)\, 24800 County Rd 101A
CATEGORIES:Food & Drink,Music
ATTACH;FMTTYPE=image/png:https://artsalliancedavis.org/wp-content/uploads/2025/08/Pizza-Wine-Thumbnail-7n5MCN.png
ORGANIZER;CN="Great Bear Vineyards":MAILTO:greatbearvineyards@gmail.com
END:VEVENT
BEGIN:VEVENT
DTSTART;TZID=America/Los_Angeles:20250913T120000
DTEND;TZID=America/Los_Angeles:20250913T170000
DTSTAMP:20260424T094011
CREATED:20250822T143910Z
LAST-MODIFIED:20250822T143910Z
UID:19899-1757764800-1757782800@artsalliancedavis.org
SUMMARY:Cheese & Wine Pairing
DESCRIPTION:🧀🍷 Wine & Cheese Pairing Experience\nSaturday\, September 13 | 12–5pm \nIndulge your senses in an afternoon of delicious discovery at Great Bear Vineyards. This special Wine & Cheese Pairing Experience features a curated flight of four of our award-winning wines\, each artfully paired with a premium artisan cheese to highlight and enhance the flavors of both. \nWhether you’re a devoted foodie\, a curious wine lover\, or simply in the mood for a decadent treat\, this is your opportunity to:\n🍷 Savor the unique profiles of our handcrafted wines\n🧀 Explore the nuances of perfect wine & cheese harmony\n💡 Learn fun\, easy pairing tips—or just sit back and enjoy the ride \nBring your favorite people\, settle into a shady spot\, and let the flavors unfold. The pairing offers a hearty and satisfying snack with a focus on flavor synergy. Additional wine and snacks will be available for purchase if you’d like to linger a little longer.
URL:https://artsalliancedavis.org/event/cheese-wine-pairing/
LOCATION:Great Bear Vineyards (Great Bear)\, 24800 County Rd 101A
CATEGORIES:Food & Drink
ATTACH;FMTTYPE=image/png:https://artsalliancedavis.org/wp-content/uploads/2025/08/Cheese-Wine-Pairing-Thumbnail-2-Qik8j7.png
ORGANIZER;CN="Great Bear Vineyards":MAILTO:greatbearvineyards@gmail.com
END:VEVENT
BEGIN:VEVENT
DTSTART;TZID=America/Los_Angeles:20250914T120000
DTEND;TZID=America/Los_Angeles:20250914T150000
DTSTAMP:20260424T094011
CREATED:20250822T143930Z
LAST-MODIFIED:20250822T143930Z
UID:19908-1757851200-1757862000@artsalliancedavis.org
SUMMARY:Cheese & Wine Pairing
DESCRIPTION:🧀🍷 Wine & Cheese Pairing Experience\nSunday\, September 14 | 12–3pm \nIndulge your senses in an afternoon of delicious discovery at Great Bear Vineyards. This special Wine & Cheese Pairing Experience features a curated flight of four of our award-winning wines\, each artfully paired with a premium artisan cheese to highlight and enhance the flavors of both. \nWhether you’re a devoted foodie\, a curious wine lover\, or simply in the mood for a decadent treat\, this is your opportunity to:\n🍷 Savor the unique profiles of our handcrafted wines\n🧀 Explore the nuances of perfect wine & cheese harmony\n💡 Learn fun\, easy pairing tips—or just sit back and enjoy the ride \nBring your favorite people\, settle into a shady spot\, and let the flavors unfold. The pairing offers a hearty and satisfying snack with a focus on flavor synergy. Additional wine and snacks will be available for purchase if you’d like to linger a little longer.
URL:https://artsalliancedavis.org/event/cheese-wine-pairing-2/
LOCATION:Great Bear Vineyards (Great Bear)\, 24800 County Rd 101A
CATEGORIES:Food & Drink
ATTACH;FMTTYPE=image/png:https://artsalliancedavis.org/wp-content/uploads/2025/08/Cheese-Wine-Pairing-Thumbnail-3-NBm2cW.png
ORGANIZER;CN="Great Bear Vineyards":MAILTO:greatbearvineyards@gmail.com
END:VEVENT
BEGIN:VEVENT
DTSTART;TZID=America/Los_Angeles:20250914T130000
DTEND;TZID=America/Los_Angeles:20250914T150000
DTSTAMP:20260424T094011
CREATED:20250822T143936Z
LAST-MODIFIED:20250822T143936Z
UID:19910-1757854800-1757862000@artsalliancedavis.org
SUMMARY:Paint & Sip
DESCRIPTION:Sunday\, September 14th arrive at 1pm take home your work of art! \nCome and indulge your inner artist with our olive tree painting class while sipping on a glass of Great Bear Vineyards wine! \nThe class will be led by local artists\, Anne and Pooja\, and you will create a beautiful painting inspired by the olive oil trees here at Great Bear Vineyards. \nEvent Details: \n\nDate: Sunday\, September 14\nTime: 1-3pm\nTickets: $60 (includes all paints\, canvas\, and your first glass of wine)\nAdditional wine available for purchase by the glass or bottle.\n\nPooja Sreekakula and Anne Bennett are the founders of Children Create\, a mobile art studio business here in Davis. For more information about them and their classes\, visit www.childrencreate.org
URL:https://artsalliancedavis.org/event/paint-sip-3/
LOCATION:Great Bear Vineyards (Great Bear)\, 24800 County Rd 101A
CATEGORIES:Art,Food & Drink
ATTACH;FMTTYPE=image/png:https://artsalliancedavis.org/wp-content/uploads/2025/08/Paint-Sip-Thumbnail-2-00syd9.png
ORGANIZER;CN="Great Bear Vineyards":MAILTO:greatbearvineyards@gmail.com
END:VEVENT
BEGIN:VEVENT
DTSTART;TZID=America/Los_Angeles:20250917T190000
DTEND;TZID=America/Los_Angeles:20250917T210000
DTSTAMP:20260424T094011
CREATED:20250822T144034Z
LAST-MODIFIED:20250822T144034Z
UID:19946-1758135600-1758142800@artsalliancedavis.org
SUMMARY:Photography Club of Davis Meeting
DESCRIPTION:The Photography Club of Davis kicks off its 2025 fall season with a free\, public meeting for photographers of all skill levels.
URL:https://artsalliancedavis.org/event/photography-club-of-davis-meeting-7/
LOCATION:Sudwerk Brewing Co.\, 2001 2nd St\, Davis\, CA\, 95618\, United States
CATEGORIES:Art,Community
ATTACH;FMTTYPE=image/jpeg:https://artsalliancedavis.org/wp-content/uploads/2025/08/4F0D2592-4005-4E1B-822E-1A70FFF8D901-rRIQ16.jpg
ORGANIZER;CN="Photography Club of Davis":MAILTO:photographyclubofdavis@gmail.com
END:VEVENT
BEGIN:VEVENT
DTSTART;TZID=America/Los_Angeles:20250919T170000
DTEND;TZID=America/Los_Angeles:20250919T200000
DTSTAMP:20260424T094011
CREATED:20250822T144154Z
LAST-MODIFIED:20250822T144154Z
UID:19991-1758301200-1758312000@artsalliancedavis.org
SUMMARY:Live Music & Food Truck
DESCRIPTION:Ticket includes: Glass of Wine & Live Music \nStart your weekend off right with live music from the talented Ericka Davis and delicious food from Soul Ona Roll! \nMusic by Ericka Davis : As two long time members of one of Sacramento’s premier cover band Kiss N’ Tell\, Ericka Davis & Rob McCord bring their extensive knowledge of chart topping hits from multiple era’s to a more stripped down acoustic format\, bringing a lively\, super fun yet intimate vibe. \nFood by Soul Ona Roll: Soul Ona Roll Food Truck will be out at the winery offering Cajun and Creole-inspired classics. Please support this local business and do not bring outside food.
URL:https://artsalliancedavis.org/event/live-music-food-truck-20/
LOCATION:Great Bear Vineyards (Great Bear)\, 24800 County Rd 101A
CATEGORIES:Food & Drink,Music
ATTACH;FMTTYPE=image/png:https://artsalliancedavis.org/wp-content/uploads/2025/08/Ericka-Davis-Thumbnail-Visit-Yolo-7fA9LG.png
ORGANIZER;CN="Great Bear Vineyards":MAILTO:greatbearvineyards@gmail.com
END:VEVENT
BEGIN:VEVENT
DTSTART;TZID=America/Los_Angeles:20250920T120000
DTEND;TZID=America/Los_Angeles:20250920T170000
DTSTAMP:20260424T094011
CREATED:20250822T144231Z
LAST-MODIFIED:20250822T144231Z
UID:20007-1758369600-1758387600@artsalliancedavis.org
SUMMARY:Donut & Wine Pairing
DESCRIPTION:🍩🍷 Wine & Donut Pairing Experience\nSaturday\, September 20 | 12–5pm \nDonuts + wine? Oh yes—we’ve done the delicious research\, and the results are seriously surprising (and outrageously good). Join us for a playful and indulgent tasting where unexpected pairings shine and your sweet tooth takes center stage! \n✨ Our suggested pairings include:\n🥂 Sparkling Brut or Mimosa – Classic Glazed\n🌸 Sparkling Rosé – Cherry or Red Jelly\n🍋 White Dessert Wine – Lemon\, Coconut\, or Maple\n🍫 Ruby Port-Style Dessert Wine – Chocolate or Maple \nYou’ll receive a flight of these 4 wines and your choice of 4 whole donuts—hand-picked to create magical moments of flavor. Want to share the love? Grab one donut pairing and separate wine tastings ($20pp) for your friends—everyone gets to play. \nWe’ll guide you through the pairings\, but feel free to mix\, match\, and discover your own perfect combo. Then vote on your favorites—we’re all ears (and taste buds)! \nBring your sweet tooth\, your curiosity\, and a few fellow food lovers for an afternoon of fun\, flavor\, and a few surprises.
URL:https://artsalliancedavis.org/event/donut-wine-pairing-2/
LOCATION:Great Bear Vineyards (Great Bear)\, 24800 County Rd 101A
CATEGORIES:Food & Drink
ATTACH;FMTTYPE=image/png:https://artsalliancedavis.org/wp-content/uploads/2025/08/Donuts-Wine-Pairing-Thumbnail-78TtH4.png
ORGANIZER;CN="Great Bear Vineyards":MAILTO:greatbearvineyards@gmail.com
END:VEVENT
BEGIN:VEVENT
DTSTART;TZID=America/Los_Angeles:20250921T120000
DTEND;TZID=America/Los_Angeles:20250921T150000
DTSTAMP:20260424T094011
CREATED:20250822T144238Z
LAST-MODIFIED:20250822T144238Z
UID:20015-1758456000-1758466800@artsalliancedavis.org
SUMMARY:Donut & Wine Pairing
DESCRIPTION:🍩🍷 Wine & Donut Pairing Experience\nSunday\, September 21 | 12–3pm \nDonuts + wine? Oh yes—we’ve done the delicious research\, and the results are seriously surprising (and outrageously good). Join us for a playful and indulgent tasting where unexpected pairings shine and your sweet tooth takes center stage! \n✨ Our suggested pairings include:\n🥂 Sparkling Brut or Mimosa – Classic Glazed\n🌸 Sparkling Rosé – Cherry or Red Jelly\n🍋 White Dessert Wine – Lemon\, Coconut\, or Maple\n🍫 Ruby Port-Style Dessert Wine – Chocolate or Maple \nYou’ll receive a flight of these 4 wines and your choice of 4 whole donuts—hand-picked to create magical moments of flavor. Want to share the love? Grab one donut pairing and separate wine tastings ($20pp) for your friends—everyone gets to play. \nWe’ll guide you through the pairings\, but feel free to mix\, match\, and discover your own perfect combo. Then vote on your favorites—we’re all ears (and taste buds)! \nBring your sweet tooth\, your curiosity\, and a few fellow food lovers for an afternoon of fun\, flavor\, and a few surprises.
URL:https://artsalliancedavis.org/event/donut-wine-pairing-3/
LOCATION:Great Bear Vineyards (Great Bear)\, 24800 County Rd 101A
CATEGORIES:Food & Drink
ATTACH;FMTTYPE=image/png:https://artsalliancedavis.org/wp-content/uploads/2025/08/Donut-Wine-Pairing-Thumbnail-2-zU7K02.png
ORGANIZER;CN="Great Bear Vineyards":MAILTO:greatbearvineyards@gmail.com
END:VEVENT
BEGIN:VEVENT
DTSTART;TZID=America/Los_Angeles:20250926T170000
DTEND;TZID=America/Los_Angeles:20250926T200000
DTSTAMP:20260424T094011
CREATED:20250822T144451Z
LAST-MODIFIED:20250822T144451Z
UID:20081-1758906000-1758916800@artsalliancedavis.org
SUMMARY:Live Music & Food Truck
DESCRIPTION:Ticket includes: Glass of wine and live music \nJoin us for a night of relaxing tunes from Two Alley Town and tasty lobster from Cousins Maine Lobster food truck! \n\n\nMusic by Two Alley Town: Two Alley Town are a small jazz combo playing a popular assortment of well known jazz standards mixed with soft rock and blues favorites.  The group includes long time local musicians Jim Hilliard on bass and trombone\, John Rominger on keyboard and vocals\, and guest vocalist Staci Montgomery.  Laid back and casual\, Two Alley Town has an appeal for all age groups and music lovers. \nFood by Cousins Maine Lobster: Cousins Maine Lobster Food Truck will be out at the winery offering delicious chowders and seafood sandwiches. Please support this local business and do not bring outside food. The local food truck will arrive by 5pm and live music starts at 6pm. Arrive early to secure a seat!
URL:https://artsalliancedavis.org/event/live-music-food-truck-21/
LOCATION:Great Bear Vineyards (Great Bear)\, 24800 County Rd 101A
CATEGORIES:Food & Drink,Music
ATTACH;FMTTYPE=image/png:https://artsalliancedavis.org/wp-content/uploads/2025/08/Two-Alley-Town-Thumbnail-l8G4F3.png
ORGANIZER;CN="Great Bear Vineyards":MAILTO:greatbearvineyards@gmail.com
END:VEVENT
END:VCALENDAR