BEGIN:VCALENDAR
VERSION:2.0
PRODID:-//Arts Alliance Davis - ECPv6.15.20//NONSGML v1.0//EN
CALSCALE:GREGORIAN
METHOD:PUBLISH
X-WR-CALNAME:Arts Alliance Davis
X-ORIGINAL-URL:https://artsalliancedavis.org
X-WR-CALDESC:Events for Arts Alliance Davis
REFRESH-INTERVAL;VALUE=DURATION:PT1H
X-Robots-Tag:noindex
X-PUBLISHED-TTL:PT1H
BEGIN:VTIMEZONE
TZID:America/Los_Angeles
BEGIN:DAYLIGHT
TZOFFSETFROM:-0800
TZOFFSETTO:-0700
TZNAME:PDT
DTSTART:20240310T100000
END:DAYLIGHT
BEGIN:STANDARD
TZOFFSETFROM:-0700
TZOFFSETTO:-0800
TZNAME:PST
DTSTART:20241103T090000
END:STANDARD
BEGIN:DAYLIGHT
TZOFFSETFROM:-0800
TZOFFSETTO:-0700
TZNAME:PDT
DTSTART:20250309T100000
END:DAYLIGHT
BEGIN:STANDARD
TZOFFSETFROM:-0700
TZOFFSETTO:-0800
TZNAME:PST
DTSTART:20251102T090000
END:STANDARD
BEGIN:DAYLIGHT
TZOFFSETFROM:-0800
TZOFFSETTO:-0700
TZNAME:PDT
DTSTART:20260308T100000
END:DAYLIGHT
BEGIN:STANDARD
TZOFFSETFROM:-0700
TZOFFSETTO:-0800
TZNAME:PST
DTSTART:20261101T090000
END:STANDARD
END:VTIMEZONE
BEGIN:VEVENT
DTSTART;TZID=America/Los_Angeles:20251002T173000
DTEND;TZID=America/Los_Angeles:20251002T200000
DTSTAMP:20260424T081821
CREATED:20250822T144613Z
LAST-MODIFIED:20250822T144613Z
UID:20124-1759426200-1759435200@artsalliancedavis.org
SUMMARY:Mediterranean Cooking Class & Wine
DESCRIPTION:🌿 Mediterranean Cooking Class 🌿 \nJoin us for a flavorful journey through the Mediterranean!\nIn this hands-on class\, you’ll not only master basic knife skills\, but also gain essential cooking knowledge inspired by the region’s rich culinary traditions and nutritional benefits. \nWhat you’ll learn:\n✅ How to make hummus\, beet hummus\, and baba ganoush from scratch\n✅ The secret to creating perfectly sweet and vibrant beet hummus\n✅ How to prepare crispy\, delicious falafel\n✅ Tips on using olive oil and regional ingredients for authentic flavor \nEverything will be served with fresh vegetables\, locally made olive oil\, and warm pita bread.\nStarter: Marinated olives\nDessert: Sweet\, plump dates \n\n🍽️ Menu: \n\nOlives (starter)\nHummus\nBeet Hummus\nBaba Ghanoush\nFalafel\nFresh vegetables (carrots\, cucumber\, tomatoes\, lettuce)\nPita bread\nDates (dessert)\n\nTicket includes: Class\, ingredients & equipment \nJoin us for an elegant culinary experience at our winery\, where plant-based cuisine meets fine wine. In this hands-on class\, you’ll cook alongside Chef Maggie—a ServSafe Certified Vegan Chef and Wellness Coach—learning to prepare vibrant\, seasonal vegan dishes from scratch. \nYour experience includes:– A 2-hour interactive vegan cooking class led by Chef Maggie– All ingredients and equipment provided– Beautifully printed recipe cards to recreate the dishes at home
URL:https://artsalliancedavis.org/event/mediterranean-cooking-class-wine/
LOCATION:Great Bear Vineyards (Great Bear)\, 24800 County Rd 101A
CATEGORIES:Food & Drink
ATTACH;FMTTYPE=image/png:https://artsalliancedavis.org/wp-content/uploads/2025/08/Cooking-Class-Thumbnail-sxZC6J.png
ORGANIZER;CN="Great Bear Vineyards":MAILTO:greatbearvineyards@gmail.com
END:VEVENT
BEGIN:VEVENT
DTSTART;TZID=America/Los_Angeles:20251003T170000
DTEND;TZID=America/Los_Angeles:20251003T200000
DTSTAMP:20260424T081821
CREATED:20250822T144730Z
LAST-MODIFIED:20250822T144730Z
UID:20163-1759510800-1759521600@artsalliancedavis.org
SUMMARY:Live Music & Food Truck
DESCRIPTION:Ticket includes: Glass of Wine & Live Music \nGroove to the sounds of Mr. Q while indulging in the exotic flavors of Buenos Aires Grill! \nMusic by Mr. Q Band : We are honored to have The Mr. Q Band back at the winery playing songs like Sentimental Journey\, Don’t Get Around Much Anymore\, Bye Bye Blackbird\, Ain’t Misbehaving\, Fever\, Route 66\, & Summertime. \nFood by Buenos Aires Grill: We are excited to welcome Buenos Aires Grill out to the winery this evening! Buenos Aires Grill serves authentic Argentinian food\, featuring empanadas and steak & chicken sandwiches. Please support this local business and do not bring outside food. \nAbout the Property: \nAs you arrive and park alongside the driveway\, the first thing you’ll see is our beautiful organic vineyard\, surrounded by wildflowers and often visited by jackrabbits and birds. Soak in the atmosphere as you approach our enchanting Spanish colonial façade. As the road curves to the right\, you’ll find The Dance Hall and The Great Barn\, where you can relax either under cover or on the lawn. \nPlease Note: \n\nNo outside alcohol is allowed on the property.\nVariety of local cheeses\, salami\, olives and other light bites are available for purchase.\nYou’re welcome to bring your own picnic food and enjoy it in our designated picnic area during regular open hours—except when we have food trucks on-site. On those days\, we encourage you to support our amazing local food vendors!\nOur property is smoke- and vape-free.\nWe welcome service animals\, but please leave other pets at home.\nPlease leave your glass on the table at the end of your visit—souvenir glasses are available for purchase at $10 each.
URL:https://artsalliancedavis.org/event/live-music-food-truck-22/
LOCATION:Great Bear Vineyards (Great Bear)\, 24800 County Rd 101A
CATEGORIES:Food & Drink,Music
ATTACH;FMTTYPE=image/png:https://artsalliancedavis.org/wp-content/uploads/2025/08/Mr.-Q-Thumbnail-1-ky5Qxb.png
ORGANIZER;CN="Great Bear Vineyards":MAILTO:greatbearvineyards@gmail.com
END:VEVENT
BEGIN:VEVENT
DTSTART;TZID=America/Los_Angeles:20251008T180000
DTEND;TZID=America/Los_Angeles:20251008T200000
DTSTAMP:20260424T081821
CREATED:20250822T144830Z
LAST-MODIFIED:20250822T144830Z
UID:20201-1759946400-1759953600@artsalliancedavis.org
SUMMARY:Fit4Mom Yoga Night
DESCRIPTION:Second Wednesday of each month from 6 to 8:00PM \nBack by popular demand\, Fit4Mom Davis-Woodland and Great Bear are teaming up to offer an evening with yoga and wine. Our talented Fit4Mom Davis-Woodland instructors\, Anais Foley-Kennedy and Maria Perez lead an easy to moderate Vinyasa flow set to groovy tunes and tailored to your skill level. As yoga draws to a close\, we will read an inspirational\, original meditation from local writer\, Jessica Guerrieri. Then we invite you to sit down and relax as Great Bear pours you a glass of their delicious wine. You can walk in the lavender fields\, set up a picnic\, or simply socialize with new and old friends. \nA workout and wine are the stuff summer dreams are made of. We can’t wait for you to join us! \nSuggestions for what to bring: \n\nYoga mat\nTowel\nWater\nMoney/ card to purchase an extra glass (or bottle) of wine\nFood items for a picnic\nLight jacket or sweater\n\nORGANIZER: \nAllison Olson \nOwner\, FIT4MOM Davis-Woodland \n925-285-6514 \ndavis-woodland.fit4mom.com
URL:https://artsalliancedavis.org/event/fit4mom-yoga-night-5/
LOCATION:Great Bear Vineyards (Great Bear)\, 24800 County Rd 101A
CATEGORIES:Fitness,Food & Drink
ATTACH;FMTTYPE=image/png:https://artsalliancedavis.org/wp-content/uploads/2025/08/Fit4Mom-Yoga-Night-Thumbnail-2tylRj.png
ORGANIZER;CN="Great Bear Vineyards":MAILTO:greatbearvineyards@gmail.com
END:VEVENT
BEGIN:VEVENT
DTSTART;TZID=America/Los_Angeles:20251010T170000
DTEND;TZID=America/Los_Angeles:20251010T200000
DTSTAMP:20260424T081821
CREATED:20250822T144854Z
LAST-MODIFIED:20250822T144854Z
UID:20217-1760115600-1760126400@artsalliancedavis.org
SUMMARY:Live Music & Wood-Fired Pizza
DESCRIPTION:Ticket includes: Glass of Wine & Live Music with option to purchase ticket that includes personal wood-fired Pizza.  \nGlass of Wine and Live Music Only- $15.00 \nGlass of Wine\, Live Music & Personal Wood-Fired Pizza- $32.00 \nEnjoy the soothing melodies of Cathy West-Packard with a personal wood-fired pizza and some wine! \nMusic by Cathy West-Packard: Cathy has been performing with ensembles\, choirs\, and musical theatre groups virtually her whole life. In 2021\, she started singing as a soloist and just last year released her debut album “Rich in Love”. Cathy’s eclectic taste in music shines through in all of her performances\, and tonight will be no exception. \n\nWhile studying jazz and classical music at SJDC and CSUS\, Arlyn Anderson shared the stage with many famous musicians. He has been performing professionally for over 20 years throughout Northern California and more. Playing a variety of music styles\, he currently performs solo\, with his own trios\, quartets\, and various other groups\, including R&B and big bands.\n\n\n\nThis dynamic Sacramento-based duo will delight listeners with Cathy’s rich vocal stylings accompanied by Arlyn’s jazzy improv. \n\n\nFood by Andes Pizza: Established in 2019\, The Andes Pizza is a family-run business that aims to offer a unique culinary experience to the masses by serving authentic wood-fired pizza.
URL:https://artsalliancedavis.org/event/live-music-wood-fired-pizza-2/
LOCATION:Great Bear Vineyards (Great Bear)\, 24800 County Rd 101A
CATEGORIES:Food & Drink,Music
ATTACH;FMTTYPE=image/png:https://artsalliancedavis.org/wp-content/uploads/2025/08/10-10-Thumbnail-jpoKp2.png
ORGANIZER;CN="Great Bear Vineyards":MAILTO:greatbearvineyards@gmail.com
END:VEVENT
BEGIN:VEVENT
DTSTART;TZID=America/Los_Angeles:20251017T170000
DTEND;TZID=America/Los_Angeles:20251017T200000
DTSTAMP:20260424T081821
CREATED:20250825T151810Z
LAST-MODIFIED:20250825T151810Z
UID:20388-1760720400-1760731200@artsalliancedavis.org
SUMMARY:Live Music & Food Truck
DESCRIPTION:Live Music & Food Truck with Carte Blanche & Soul Ona RollFriday\, October 17 | 5–8pm \nTicket includes: Glass of Wine & Live Music \nKick off your weekend with the acoustic duo Carte Blanche and tasty cajun comfort food from Soul Ona Roll! \nMusic by Carte Blanche : We excited to welcome the pop/jazz/latin/world acoustic duo “Carte Blanche”! A unique multilingual world fusion quartet where Brazilian rhythms meet jazz standards\, flamenco guitar and\, French swing. \nFood by Soul Ona Roll: Soul Ona Roll Food Truck will be out at the winery offering Cajun and Creole-inspired classics. Please support this local business and do not bring outside food.
URL:https://artsalliancedavis.org/event/live-music-food-truck-23/
LOCATION:Great Bear Vineyards (Great Bear)\, 24800 County Rd 101A
CATEGORIES:Food & Drink,Music
ATTACH;FMTTYPE=image/png:https://artsalliancedavis.org/wp-content/uploads/2025/08/Carte-Blanche-Thumbnail-q9868J.png
ORGANIZER;CN="Great Bear Vineyards":MAILTO:greatbearvineyards@gmail.com
END:VEVENT
BEGIN:VEVENT
DTSTART;TZID=America/Los_Angeles:20251018T170000
DTEND;TZID=America/Los_Angeles:20251018T200000
DTSTAMP:20260424T081821
CREATED:20250825T151831Z
LAST-MODIFIED:20250825T151831Z
UID:20401-1760806800-1760817600@artsalliancedavis.org
SUMMARY:Yolo Food & Wine Affair at Great Bear
DESCRIPTION:🍷✨ Yolo Food & Wine Affair at Great Bear Vineyards ✨🍇Saturday\, October 18 | 5:30pm \nJoin us for an unforgettable evening celebrating the very best of Yolo County’s wine and culinary scene—all in the breathtaking setting of our vineyards! 🌿🍷 \nThis elegant affair will feature thirteen top Yolo County wineries\, each pouring their finest 90+ point\, Best of Class\, Double Gold\, and limited-production wines. Pair each sip with delicious bites from local chefs (menu reveal coming soon!) as you stroll the vineyard grounds and take in the golden hour glow. 🌅 \n🍇 What to Expect:• Award-winning wines from 13 local wineries• Gourmet small bites from celebrated local chefs• A stunning vineyard backdrop steeped in Yolo County’s agricultural and winemaking heritage \n🍷 Participating Wineries Include:Berryessa Gap • Capay Valley • Elevation Ten • Great Bear • Grindstone • Heringer Estates • Matchbook • Julietta • Séka Hills • Simas Family • Silt • Taber Ranch • Turkovich Family Wines \n🎟️ Tickets are limited—don’t wait!21+ only. Please bring a valid photo ID and your ticket receipt (printed or screenshot) for check-in. \nTickets are non-refundable and non-transferable.
URL:https://artsalliancedavis.org/event/yolo-food-wine-affair-at-great-bear/
LOCATION:Great Bear Vineyards (Great Bear)\, 24800 County Rd 101A
CATEGORIES:Food & Drink,Music
ATTACH;FMTTYPE=image/png:https://artsalliancedavis.org/wp-content/uploads/2025/08/Yolo-Food-Wine-Affair-Thumbnail-vqH4W1.png
ORGANIZER;CN="Great Bear Vineyards":MAILTO:greatbearvineyards@gmail.com
END:VEVENT
BEGIN:VEVENT
DTSTART;TZID=America/Los_Angeles:20251024T170000
DTEND;TZID=America/Los_Angeles:20251024T200000
DTSTAMP:20260424T081821
CREATED:20250825T152031Z
LAST-MODIFIED:20250825T152031Z
UID:20467-1761325200-1761336000@artsalliancedavis.org
SUMMARY:Live Music & Food Truck
DESCRIPTION:Ticket includes: Glass of Wine & Live Music \nKick off your weekend with music from The Sun Followers while indulging in delicious seafood from Cousins Maine Lobster food truck! \nMusic by The Sun Followers: Singing songs to break\, melt\, and mend the heart\, The Sun Followers are an acoustic vocal harmony duo from Chico\, California. \nFood by Cousins Maine Lobster:  Cousins Maine Lobster Food Truck will be out at the winery offering delicious chowders and seafood sandwiches. Please support this local business and do not bring outside food.
URL:https://artsalliancedavis.org/event/live-music-food-truck-24/
LOCATION:Great Bear Vineyards (Great Bear)\, 24800 County Rd 101A
CATEGORIES:Food & Drink,Music
ATTACH;FMTTYPE=image/png:https://artsalliancedavis.org/wp-content/uploads/2025/08/The-Sun-Followers-Thumbnail-fXkQzo.png
ORGANIZER;CN="Great Bear Vineyards":MAILTO:greatbearvineyards@gmail.com
END:VEVENT
BEGIN:VEVENT
DTSTART;TZID=America/Los_Angeles:20251025T140000
DTEND;TZID=America/Los_Angeles:20251025T180000
DTSTAMP:20260424T081821
CREATED:20251017T185132Z
LAST-MODIFIED:20251017T185132Z
UID:20938-1761400800-1761415200@artsalliancedavis.org
SUMMARY:Art Farm 2025
DESCRIPTION:On Saturday\, October 25\, 2025 from 2-6pm\, YoloArts will be hosting Art Farm\, a fun art fest celebration\, on the grounds of the Gibson House. We welcome you to support the creative expressions of local artists and delight in exhibitions\, demonstrations\, live music from Roadhouse 5 and an artisan market. Also enjoy gourmet food tastings from notable local farms and restaurants\, along with the best of Yolo County wine\, beer\, and spirits. \nThe YoloArts’ Art Farm event supports the Art & Ag Project\, exhibiting artists\, and program partner the Yolo Land Trust. We are excited to creatively connect artists\, farmers\, and the community to celebrate local arts and farmland in Yolo County. \nYou can enjoy Art Farm in different ways: \nSelect one farmland inspired original work of art from the Art Harvest exhibition by purchasing a Shovel Ticket\, which also includes food and drink tastings for 4. \nSavor local food and drink in the olive orchard by purchasing a Premium Ticket. \nSample for free the exhibitions\, bid on the silent auction\, stroll the artisan market\, and listen to the music of Roadhouse 5. \nTo purchase Shovel and Premium tickets and register to bid on silent auction artwork\, please visit: https://events.handbid.com/auctions/art-farm-2025 \nTo learn more about Art Farm\, please visit: https://yoloarts.org/art-farm/ \nWe hope to see you at Art Farm this year!
URL:https://artsalliancedavis.org/event/art-farm-2025/
LOCATION:The Barn Gallery\, 512 Gibson Road\, Woodland\, CA\, United States
CATEGORIES:Art,Community,Food & Drink,Music,Outside
ATTACH;FMTTYPE=image/jpeg:https://artsalliancedavis.org/wp-content/uploads/2025/10/Art-Farm-2025-XKFO1J.jpg
ORGANIZER;CN="YoloArts":MAILTO:jpurnell@yoloarts.org
END:VEVENT
BEGIN:VEVENT
DTSTART;TZID=America/Los_Angeles:20251031T170000
DTEND;TZID=America/Los_Angeles:20251031T200000
DTSTAMP:20260424T081821
CREATED:20251029T185041Z
LAST-MODIFIED:20251029T185041Z
UID:21858-1761930000-1761940800@artsalliancedavis.org
SUMMARY:Live Music & Wood-Fired Pizza
DESCRIPTION:Live Music & Food Truck with the David Kyle Trio & Italian Brother’s Pizza \nFriday\, October 31 | 5-8pm \nTicket includes: Glass of Wine & Live Music. Pizza to be purchased directly from Italian Brother’s Pizza. \nEnjoy the haunting melodies of the David Kyle Trio’s Halloween themed performance with a personal wood-fired pizza and some wine! The food truck will begin serving food at 5pm\, and live music is from 6-7:30pm. \nMusic by the David Kyle Trio: The David Kyle Trio brings a rich blend of soulful\, jazz-style piano and smooth accompaniment\, creating an atmosphere that’s both elegant and inviting. This Friday evening\, the set will include spooky and haunting vibes to set the Halloween mood! \nFood by Italian Brothers Pizza: The Italian Brothers Pizza Woodfire Mobile Catering food truck offers authentic wood-fired pizza made with fresh\, high-quality ingredients. Choose from a variety of classic and specialty pizzas\, all cooked to perfection in a traditional wood-fired oven.
URL:https://artsalliancedavis.org/event/live-music-wood-fired-pizza-3/
LOCATION:Great Bear Vineyards (Great Bear)\, 24800 County Rd 101A
CATEGORIES:Food & Drink,Music
ATTACH;FMTTYPE=image/png:https://artsalliancedavis.org/wp-content/uploads/2025/10/10-31-Halloween-Slider-B5VTmG.png
ORGANIZER;CN="Great Bear Vineyards":MAILTO:greatbearvineyards@gmail.com
END:VEVENT
END:VCALENDAR