BEGIN:VCALENDAR
VERSION:2.0
PRODID:-//Arts Alliance Davis - ECPv6.15.20//NONSGML v1.0//EN
CALSCALE:GREGORIAN
METHOD:PUBLISH
X-ORIGINAL-URL:https://artsalliancedavis.org
X-WR-CALDESC:Events for Arts Alliance Davis
REFRESH-INTERVAL;VALUE=DURATION:PT1H
X-Robots-Tag:noindex
X-PUBLISHED-TTL:PT1H
BEGIN:VTIMEZONE
TZID:America/Los_Angeles
BEGIN:DAYLIGHT
TZOFFSETFROM:-0800
TZOFFSETTO:-0700
TZNAME:PDT
DTSTART:20240310T100000
END:DAYLIGHT
BEGIN:STANDARD
TZOFFSETFROM:-0700
TZOFFSETTO:-0800
TZNAME:PST
DTSTART:20241103T090000
END:STANDARD
BEGIN:DAYLIGHT
TZOFFSETFROM:-0800
TZOFFSETTO:-0700
TZNAME:PDT
DTSTART:20250309T100000
END:DAYLIGHT
BEGIN:STANDARD
TZOFFSETFROM:-0700
TZOFFSETTO:-0800
TZNAME:PST
DTSTART:20251102T090000
END:STANDARD
BEGIN:DAYLIGHT
TZOFFSETFROM:-0800
TZOFFSETTO:-0700
TZNAME:PDT
DTSTART:20260308T100000
END:DAYLIGHT
BEGIN:STANDARD
TZOFFSETFROM:-0700
TZOFFSETTO:-0800
TZNAME:PST
DTSTART:20261101T090000
END:STANDARD
END:VTIMEZONE
BEGIN:VEVENT
DTSTART;TZID=America/Los_Angeles:20251206T120000
DTEND;TZID=America/Los_Angeles:20251206T200000
DTSTAMP:20260424T042507
CREATED:20251110T111312Z
LAST-MODIFIED:20251110T111312Z
UID:22147-1765022400-1765051200@artsalliancedavis.org
SUMMARY:Death or Glory Tattoo Presents: Toys for Tats ’25 & Holiday Maker’s Market
DESCRIPTION:Bring a new\, unwrapped toy with receipt of purchase of $50 or more and receive a free tattoo! \nThis event is our annual toy drive event held at Death or Glory Tattoo in downtown Davis. In addition to a day of fun-filled tattoos\, we are hosting a holiday “Maker’s Market” on our patio for those who may want to pick something extra up for themselves or their loved ones. Our resident tattooers along with others talented artists in our community come together for this day of giving.
URL:https://artsalliancedavis.org/event/death-or-glory-tattoo-presents-toys-for-tats-25-holiday-makers-market/
LOCATION:Death or Glory Tattoo\, 219 E Street\, Davis\, CA\, 95616\, United States
CATEGORIES:Art,Community,Shopping
ATTACH;FMTTYPE=image/png:https://artsalliancedavis.org/wp-content/uploads/2025/11/T4t-logo-XEgFGB.png
ORGANIZER;CN="Death or Glory Tattoo &amp%3B Piercing":MAILTO:deathorglorydavis@gmail.com
END:VEVENT
BEGIN:VEVENT
DTSTART;TZID=America/Los_Angeles:20251219T170000
DTEND;TZID=America/Los_Angeles:20251219T200000
DTSTAMP:20260424T042507
CREATED:20251212T225048Z
LAST-MODIFIED:20251212T225048Z
UID:22692-1766163600-1766174400@artsalliancedavis.org
SUMMARY:Live Music & Food Truck
DESCRIPTION:Live Music & Food Truck with Katt & Cousins Maine Lobster\nFriday\, December 19 | 5–8pm \nTicket includes: Glass of Wine & Live Music \nEnjoy the tunes from the talented Katt\, while enjoying scrumptious seafood from Cousins Maine Lobster! The food truck will begin serving food at 5pm\, and live music is from 6-7:30pm. \nMusic by Katt: We are excited to welcome Katt to Great Bear for the first time! A Pop/Latin Pop recording artist and singer/songwriter\, Katt has headlined for the Fremont Festival of Arts. \nFood by Cousins Maine Lobster: Cousins Maine Lobster Food Truck will be out at the winery offering delicious chowders and seafood sandwiches. Please support this local business and do not bring outside food.
URL:https://artsalliancedavis.org/event/live-music-food-truck-27/
LOCATION:Great Bear Vineyards (Great Bear)\, 24800 County Rd 101A
CATEGORIES:Food & Drink,Music
ATTACH;FMTTYPE=image/png:https://artsalliancedavis.org/wp-content/uploads/2025/12/Katt-Thumbnail-dLXs55.png
ORGANIZER;CN="Great Bear Vineyards":MAILTO:greatbearvineyards@gmail.com
END:VEVENT
END:VCALENDAR