BEGIN:VCALENDAR
VERSION:2.0
PRODID:-//Arts Alliance Davis - ECPv6.15.20//NONSGML v1.0//EN
CALSCALE:GREGORIAN
METHOD:PUBLISH
X-ORIGINAL-URL:https://artsalliancedavis.org
X-WR-CALDESC:Events for Arts Alliance Davis
REFRESH-INTERVAL;VALUE=DURATION:PT1H
X-Robots-Tag:noindex
X-PUBLISHED-TTL:PT1H
BEGIN:VTIMEZONE
TZID:America/Los_Angeles
BEGIN:DAYLIGHT
TZOFFSETFROM:-0800
TZOFFSETTO:-0700
TZNAME:PDT
DTSTART:20250309T100000
END:DAYLIGHT
BEGIN:STANDARD
TZOFFSETFROM:-0700
TZOFFSETTO:-0800
TZNAME:PST
DTSTART:20251102T090000
END:STANDARD
BEGIN:DAYLIGHT
TZOFFSETFROM:-0800
TZOFFSETTO:-0700
TZNAME:PDT
DTSTART:20260308T100000
END:DAYLIGHT
BEGIN:STANDARD
TZOFFSETFROM:-0700
TZOFFSETTO:-0800
TZNAME:PST
DTSTART:20261101T090000
END:STANDARD
BEGIN:DAYLIGHT
TZOFFSETFROM:-0800
TZOFFSETTO:-0700
TZNAME:PDT
DTSTART:20270314T100000
END:DAYLIGHT
BEGIN:STANDARD
TZOFFSETFROM:-0700
TZOFFSETTO:-0800
TZNAME:PST
DTSTART:20271107T090000
END:STANDARD
END:VTIMEZONE
BEGIN:VEVENT
DTSTART;TZID=America/Los_Angeles:20260110T120000
DTEND;TZID=America/Los_Angeles:20260110T170000
DTSTAMP:20260424T030207
CREATED:20260110T194858Z
LAST-MODIFIED:20260110T194858Z
UID:23117-1768046400-1768064400@artsalliancedavis.org
SUMMARY:Olio Nuovo Olive & Cheese Box Pairing
DESCRIPTION:🫒 Olio Nuovo Olive & Cheese Box 🧀\nSaturday\, January 10th | 12–5pm\nTicket includes Olio Nuovo Olive & Cheese Box\nOptional add-on: glass of wine for $15 🍷 \nIt’s Olio Nuovo season—and if you know\, you know. Join us at Great Bear Vineyards to celebrate this just-pressed\, ultra-fresh olive oil at its most vibrant and delicious. \nOur Olio Nuovo is bold\, grassy\, and beautifully alive—glowing green with aromas of fresh-cut herbs\, artichoke\, and green almond. On the palate it’s silky yet peppery\, with that signature gentle bite that lingers (hello antioxidants 👋). This is olive oil at peak freshness: expressive\, nourishing\, and meant to be enjoyed right now. \nYour Olive & Cheese Box is thoughtfully curated to let the oil shine:\nMarin French Cheese Company Round – creamy\, soft\, and lightly tangy\nRustic bread for generous dipping\nSweet apricots & fig jam to balance the oil’s lively edge \nSimple. Communal. Utterly satisfying. \nPair it with a glass of Great Bear wine\, grab a sunny spot\, and savor Olio Nuovo the way it’s meant to be experienced—fresh\, expressive\, and shared at the table. A delicious way to slow down and taste the season 🫒✨ \nLimited availability—this is a fleeting seasonal treat you don’t want to miss.
URL:https://artsalliancedavis.org/event/olio-nuovo-olive-cheese-box-pairing/
LOCATION:Great Bear Vineyards (Great Bear)\, 24800 County Rd 101A
CATEGORIES:Food & Drink
ATTACH;FMTTYPE=image/png:https://artsalliancedavis.org/wp-content/uploads/2026/01/1-10-26-Thumbnail-dsiRew.png
ORGANIZER;CN="Great Bear Vineyards":MAILTO:greatbearvineyards@gmail.com
END:VEVENT
BEGIN:VEVENT
DTSTART;TZID=America/Los_Angeles:20260115T191000
DTEND;TZID=America/Los_Angeles:20260115T204500
DTSTAMP:20260424T030207
CREATED:20251218T112029Z
LAST-MODIFIED:20251218T112029Z
UID:22804-1768504200-1768509900@artsalliancedavis.org
SUMMARY:Photography Club of Davis
DESCRIPTION:The Photography Club of Davis will meet on Thursday\, January 15\, at 7:10pm in the Blanchard Room of the Mary L. Stephens Library at 314 East 14th Street in Davis. The meeting will feature a photo critique of member-submitted images. Critiques tend to be positive learning experiences for both submitters and the general audience. Participants discuss “why does this image work” as well as “why does this image not work” and how the image may be improved. Attendees also learn about the techniques involved. The Photography Club of Davis meets every month on the third Thursday of the month (except July and August) and welcomes members of the public to attend. \n“This event is not sponsored by Yolo County Library and the presence of this group in the meeting room does not constitute Yolo County Library’s endorsement of the policies or beliefs of this group.”
URL:https://artsalliancedavis.org/event/photography-club-of-davis-14/
LOCATION:Mary L. Stephens Davis Branch Library Blanchard Room\, 315 E 14th St\, Davis\, CA\, 95616\, United States
CATEGORIES:Art
ATTACH;FMTTYPE=image/jpeg:https://artsalliancedavis.org/wp-content/uploads/2025/12/lanterns-8EXGfL.jpg
ORGANIZER;CN="Photography Club of Davis":MAILTO:photographyclubofdavis@gmail.com
END:VEVENT
BEGIN:VEVENT
DTSTART;TZID=America/Los_Angeles:20260116T170000
DTEND;TZID=America/Los_Angeles:20260116T200000
DTSTAMP:20260424T030207
CREATED:20260110T194958Z
LAST-MODIFIED:20260110T194958Z
UID:23119-1768582800-1768593600@artsalliancedavis.org
SUMMARY:Friday Evening at the Winery
DESCRIPTION:🍷 January Friday Evenings at Great Bear Vineyards 🍷\nJanuary 16th | 5–8pm\nTicket includes your first glass of wine \nKick off your weekends the cozy way. Join us for relaxed winter Friday nights at Great Bear Vineyards—perfect for unwinding\, catching up\, and savoring great wine as the sun goes down. \nWhile live music takes a seasonal breather in January & February\, our tasting room stays open from 5–8pm with plenty of wine\, warm vibes\, and space to linger. Enjoy wine by the glass or bottle\, wine tastings\, and snacks available for purchase. You’re also welcome to bring your own picnic or favorite “to-go” dinner and make it an easy\, unhurried evening at the vineyard. \nWhether you’re easing into the new year or just craving a laid-back Friday night out\, these winter evenings are all about good wine\, good company\, and a little Great Bear magic. \nWinter Hours:\n• Thursday: 5–8pm\n• Friday: noon–8pm\n• Saturday: noon–5pm \nGrab a friend\, grab a glass\, and start your weekend with us 🍷✨
URL:https://artsalliancedavis.org/event/friday-evening-at-the-winery/
LOCATION:Great Bear Vineyards (Great Bear)\, 24800 County Rd 101A
CATEGORIES:Food & Drink
ATTACH;FMTTYPE=image/png:https://artsalliancedavis.org/wp-content/uploads/2026/01/1-16-26-Thumbnail-IFY7r6.png
ORGANIZER;CN="Great Bear Vineyards":MAILTO:greatbearvineyards@gmail.com
END:VEVENT
BEGIN:VEVENT
DTSTART;TZID=America/Los_Angeles:20260117T120000
DTEND;TZID=America/Los_Angeles:20260117T170000
DTSTAMP:20260424T030207
CREATED:20260110T195025Z
LAST-MODIFIED:20260110T195025Z
UID:23121-1768651200-1768669200@artsalliancedavis.org
SUMMARY:Olio Nuovo Olive & Cheese Box Pairing
DESCRIPTION:🫒 Olio Nuovo Olive & Cheese Box 🧀\nSaturday\, January 17th | 12–5pm\nTicket includes Olio Nuovo Olive & Cheese Box\nOptional add-on: glass of wine for $15 🍷 \nIt’s Olio Nuovo season—and if you know\, you know. Join us at Great Bear Vineyards to celebrate this just-pressed\, ultra-fresh olive oil at its most vibrant and delicious. \nOur Olio Nuovo is bold\, grassy\, and beautifully alive—glowing green with aromas of fresh-cut herbs\, artichoke\, and green almond. On the palate it’s silky yet peppery\, with that signature gentle bite that lingers (hello antioxidants 👋). This is olive oil at peak freshness: expressive\, nourishing\, and meant to be enjoyed right now. \nYour Olive & Cheese Box is thoughtfully curated to let the oil shine: \nMarin French Cheese Company Round – creamy\, soft\, and lightly tangy \nRustic bread for generous dipping \nSweet apricots & fig jam to balance the oil’s lively edge \nSimple. Communal. Utterly satisfying. \nPair it with a glass of Great Bear wine\, grab a sunny spot\, and savor Olio Nuovo the way it’s meant to be experienced—fresh\, expressive\, and shared at the table. A delicious way to slow down and taste the season 🫒✨ \nLimited availability—this is a fleeting seasonal treat you don’t want to miss.
URL:https://artsalliancedavis.org/event/olio-nuovo-olive-cheese-box-pairing-2/
LOCATION:Great Bear Vineyards (Great Bear)\, 24800 County Rd 101A
CATEGORIES:Food & Drink
ATTACH;FMTTYPE=image/png:https://artsalliancedavis.org/wp-content/uploads/2026/01/1-17-26-Thumbnail-Iel1zp.png
ORGANIZER;CN="Great Bear Vineyards":MAILTO:greatbearvineyards@gmail.com
END:VEVENT
BEGIN:VEVENT
DTSTART;TZID=America/Los_Angeles:20260123T170000
DTEND;TZID=America/Los_Angeles:20260123T200000
DTSTAMP:20260424T030207
CREATED:20260110T195134Z
LAST-MODIFIED:20260110T195134Z
UID:23125-1769187600-1769198400@artsalliancedavis.org
SUMMARY:Live Music & Food Truck
DESCRIPTION:🎷🍷 Live Music & Food Truck at Great Bear Vineyards🍷🎷\nFriday\, January 23 | 5–8pm \nEase into your Friday evening with great wine\, smooth jazz\, and a really good cause. Join us at Great Bear Vineyards to support the J St Jazz Cats\, a talented local group of young musicians. Event is from 5-8pm with the musical performance scheduled from 6-7:30pm. \n🎟 Your ticket includes your first glass of wine\, then feel free to explore wine by the glass or bottle\, enjoy a tasting\, and grab snacks available for purchase. Want to keep it super relaxed? You’re welcome to bring your own picnic or favorite “to-go” food and settle in for an easy\, unhurried evening at the vineyard. \n✨ A portion of all ticket proceeds goes directly to supporting these amazing student musicians—so every sip does a little good. \n☀️ Sunny-Day Bonus!\nIf the weather decides to show off\, we’ll level things up with a pop-up food truck. Keep an eye on our social media and website for sunny-weather updates. \nGood wine. Great music. Supporting local youth. That’s a Friday night we can all feel good about. 🍇🎶
URL:https://artsalliancedavis.org/event/live-music-food-truck-28/
LOCATION:Great Bear Vineyards (Great Bear)\, 24800 County Rd 101A
CATEGORIES:Games,Music
ATTACH;FMTTYPE=image/png:https://artsalliancedavis.org/wp-content/uploads/2026/01/1-23-26-Thumbnail-555v0h.png
ORGANIZER;CN="Great Bear Vineyards":MAILTO:greatbearvineyards@gmail.com
END:VEVENT
BEGIN:VEVENT
DTSTART;TZID=America/Los_Angeles:20260124T120000
DTEND;TZID=America/Los_Angeles:20260124T170000
DTSTAMP:20260424T030207
CREATED:20260120T222147Z
LAST-MODIFIED:20260120T222147Z
UID:23332-1769256000-1769274000@artsalliancedavis.org
SUMMARY:Olio Nuovo Olive & Cheese Box Pairing
DESCRIPTION:🫒 Olio Nuovo Olive & Cheese Box 🧀\nSaturday\, January 17th | 12–5pm\nTicket includes Olio Nuovo Olive & Cheese Box\nOptional add-on: glass of wine for $15 🍷\nIt’s Olio Nuovo season—and if you know\, you know. Join us at Great Bear Vineyards to celebrate this just-pressed\, ultra-fresh olive oil at its most vibrant and delicious.\nOur Olio Nuovo is bold\, grassy\, and beautifully alive—glowing green with aromas of fresh-cut herbs\, artichoke\, and green almond. On the palate it’s silky yet peppery\, with that signature gentle bite that lingers (hello antioxidants 👋). This is olive oil at peak freshness: expressive\, nourishing\, and meant to be enjoyed right now.\nYour Olive & Cheese Box is thoughtfully curated to let the oil shine:\nMarin French Cheese Company Round – creamy\, soft\, and lightly tangy\nRustic bread for generous dipping\nSweet apricots & fig jam to balance the oil’s lively edge\nSimple. Communal. Utterly satisfying.\nPair it with a glass of Great Bear wine\, grab a sunny spot\, and savor Olio Nuovo the way it’s meant to be experienced—fresh\, expressive\, and shared at the table. A delicious way to slow down and taste the season 🫒✨\nLimited availability—this is a fleeting seasonal treat you don’t want to miss.
URL:https://artsalliancedavis.org/event/olio-nuovo-olive-cheese-box-pairing-3/
LOCATION:Great Bear Vineyards (Great Bear)\, 24800 County Rd 101A
CATEGORIES:Food & Drink
ATTACH;FMTTYPE=image/png:https://artsalliancedavis.org/wp-content/uploads/2026/01/1-24-26-Thumbnail-UTE6IQ.png
ORGANIZER;CN="Great Bear Vineyards":MAILTO:greatbearvineyards@gmail.com
END:VEVENT
BEGIN:VEVENT
DTSTART;TZID=America/Los_Angeles:20260130T170000
DTEND;TZID=America/Los_Angeles:20260130T200000
DTSTAMP:20260424T030207
CREATED:20260115T205259Z
LAST-MODIFIED:20260115T205259Z
UID:23205-1769792400-1769803200@artsalliancedavis.org
SUMMARY:Friday Evening at the Winery
DESCRIPTION:🍷 January Friday Evenings at Great Bear Vineyards ✨\nFriday\, January 30th | 5–8pm\nTicket includes your first glass of wine \nEase into the new year with cozy\, relaxed Friday nights at Great Bear Vineyards. While live music takes a seasonal pause in January & February\, our tasting room stays open late for wine\, conversation\, and end-of-week unwinding—no rush\, no pressure\, just good vibes. \nEnjoy wine by the glass or bottle\, wine tastings\, and snacks available for purchase. Feel free to bring your own picnic or favorite “to-go” dinner\, grab a seat\, and settle in for an easy\, unhurried evening among the vines. \n☀️ Sunny-Day Bonus!\nIf winter surprises us with a bright\, beautiful day\, we’ll lean into it with a pop-up food truck and live music. Keep an eye on our social media and website for sunny-weather announcements. \nWhether you’re resetting after the holidays\, catching up with friends\, or simply craving a laid-back Friday night out\, January evenings at Great Bear are all about good wine\, good company\, and a little winter magic 🍷❄️✨
URL:https://artsalliancedavis.org/event/friday-evening-at-the-winery-2/
LOCATION:Great Bear Vineyards (Great Bear)\, 24800 County Rd 101A
CATEGORIES:Food & Drink
ATTACH;FMTTYPE=image/png:https://artsalliancedavis.org/wp-content/uploads/2026/01/1-30-26-Thumbnail-n49dTO.png
ORGANIZER;CN="Great Bear Vineyards":MAILTO:greatbearvineyards@gmail.com
END:VEVENT
END:VCALENDAR