BEGIN:VCALENDAR
VERSION:2.0
PRODID:-//Arts Alliance Davis - ECPv6.15.20//NONSGML v1.0//EN
CALSCALE:GREGORIAN
METHOD:PUBLISH
X-WR-CALNAME:Arts Alliance Davis
X-ORIGINAL-URL:https://artsalliancedavis.org
X-WR-CALDESC:Events for Arts Alliance Davis
REFRESH-INTERVAL;VALUE=DURATION:PT1H
X-Robots-Tag:noindex
X-PUBLISHED-TTL:PT1H
BEGIN:VTIMEZONE
TZID:America/Los_Angeles
BEGIN:DAYLIGHT
TZOFFSETFROM:-0800
TZOFFSETTO:-0700
TZNAME:PDT
DTSTART:20250309T100000
END:DAYLIGHT
BEGIN:STANDARD
TZOFFSETFROM:-0700
TZOFFSETTO:-0800
TZNAME:PST
DTSTART:20251102T090000
END:STANDARD
BEGIN:DAYLIGHT
TZOFFSETFROM:-0800
TZOFFSETTO:-0700
TZNAME:PDT
DTSTART:20260308T100000
END:DAYLIGHT
BEGIN:STANDARD
TZOFFSETFROM:-0700
TZOFFSETTO:-0800
TZNAME:PST
DTSTART:20261101T090000
END:STANDARD
BEGIN:DAYLIGHT
TZOFFSETFROM:-0800
TZOFFSETTO:-0700
TZNAME:PDT
DTSTART:20270314T100000
END:DAYLIGHT
BEGIN:STANDARD
TZOFFSETFROM:-0700
TZOFFSETTO:-0800
TZNAME:PST
DTSTART:20271107T090000
END:STANDARD
END:VTIMEZONE
BEGIN:VEVENT
DTSTART;TZID=America/Los_Angeles:20260501T170000
DTEND;TZID=America/Los_Angeles:20260501T200000
DTSTAMP:20260424T001259
CREATED:20260410T192406Z
LAST-MODIFIED:20260410T192406Z
UID:24705-1777654800-1777665600@artsalliancedavis.org
SUMMARY:Wine\, Live Music & Food Truck
DESCRIPTION:🌮🎷 Live Music & Food Truck Night at Great Bear Vineyards 🎷🍷\nFriday\, May 1 | 5–8pm\nTicket Includes: Glass of Wine & Live Music\nKick off your weekend with smooth jazz\, incredible tacos\, and vineyard vibes at Great Bear! ✨\n🎷 The Potential Jazz Ensemble will be setting the tone from 6–7:30pm with a vibrant\, soulful performance. This talented group blends classic jazz roots with fresh\, creative energy—featuring saxophone\, bass\, guitar\, piano\, and drums for a rich\, dynamic sound you won’t want to miss.\n🌮 Come hungry! Maiz Mexican Food will be onsite from 5–8pm\, serving up authentic\, family-made Mexican favorites—from tacos and quesadillas to huaraches\, all packed with bold flavor and signature smoked meats.\nYour ticket includes a glass of wine\, with more available by the glass or bottle as you relax\, sip\, and soak in the sounds of the evening.\n✨ Food Truck: 5–8pm\n🎶 Live Music: 6–7:30pm\nGreat music\, delicious food\, and a beautiful vineyard setting—the perfect recipe for a Friday night. Grab your friends and join us! \n  \n 
URL:https://artsalliancedavis.org/event/wine-live-music-food-truck/
LOCATION:Great Bear Vineyards (Great Bear)\, 24800 County Rd 101A
CATEGORIES:Food & Drink,Music
ATTACH;FMTTYPE=image/png:https://artsalliancedavis.org/wp-content/uploads/2026/04/Potential-Jazz-Ensemble-Thumbnail-KxWrXO.png
ORGANIZER;CN="Great Bear Vineyards":MAILTO:greatbearvineyards@gmail.com
END:VEVENT
BEGIN:VEVENT
DTSTART;TZID=America/Los_Angeles:20260502T120000
DTEND;TZID=America/Los_Angeles:20260502T170000
DTSTAMP:20260424T001259
CREATED:20260412T195436Z
LAST-MODIFIED:20260412T195436Z
UID:24733-1777723200-1777741200@artsalliancedavis.org
SUMMARY:The Olive Oil Experience Box
DESCRIPTION:🫒🍷 The Olive Oil Experience Box at Great Bear Vineyards 🍷🫒\nSaturday\, May 2 | 12–5pm\nTicket Includes: Olive Oil\, Cheese Box & Glass of Wine\nMore than a meal… this is a flavor-filled tasting journey. ✨\nJoin us at the vineyard for a deliciously curated Olive Oil Experience Box\, where our handcrafted olive oil takes center stage—paired with a selection of sweet and savory bites designed to highlight just how magical great olive oil can be.\n🥖 Rustic bread for dipping\n🧀 Marin cheese\n🍑 Apricots & fresh strawberries\n🍯 Honey for a touch of sweetness\n🍰 And a perfectly indulgent olive oil cake to finish\nEach box is paired with a glass of wine\, making this the perfect way to relax\, picnic\, and savor the afternoon among the vines.\n🌿 Whether you’re a foodie\, a wine lover\, or just looking for a unique vineyard experience\, this is one you won’t want to miss.\n👉 Order in advance to avoid disappointment!\n💫 Wine Club members—don’t forget to log in for your exclusive discount at checkout.\nCome sip\, dip\, and savor with us!
URL:https://artsalliancedavis.org/event/the-olive-oil-experience-box/
LOCATION:Great Bear Vineyards (Great Bear)\, 24800 County Rd 101A
CATEGORIES:Food & Drink
ATTACH;FMTTYPE=image/png:https://artsalliancedavis.org/wp-content/uploads/2026/04/5-2-26-Thumbnail-P7UfRA.png
ORGANIZER;CN="Great Bear Vineyards":MAILTO:greatbearvineyards@gmail.com
END:VEVENT
BEGIN:VEVENT
DTSTART;TZID=America/Los_Angeles:20260503T120000
DTEND;TZID=America/Los_Angeles:20260503T170000
DTSTAMP:20260424T001259
CREATED:20260331T162439Z
LAST-MODIFIED:20260331T162439Z
UID:24535-1777809600-1777827600@artsalliancedavis.org
SUMMARY:Pence Gallery Garden Tour
DESCRIPTION:Pence Gallery Garden Tour\nSunday\, May 3\, 2026 | Noon – 5 PM \nStroll through five gardens throughout Davis on the Pence Gallery Garden Tour on May 3\, savoring the beauty of spring and learning about gardening from Yolo County Master Gardeners. View local artists Leslie Allen\, Patrick Cosgrove\, Raquel Cox\, Misuk Goltz\, Kristina Kernytska\, Marlene Lee\, and Barbara Smithson paint outdoors in the gardens. At the Pence\, enjoy three stunning art exhibits by regional artists\, and a free snack bag (limited to the first 150). Don’t miss the last day of our Garden Art Sale taking place inside the gallery from April 24 – May 3 this year\, including stepping stones\, planters\, sculpture for outside display\, and more! \nTickets available April 3:\n$30 Pence Members\, $35 non-Members\, $40 day of event at Pence & www.pencegallery.org\, and Redwood Barn. Tickets purchased online through our website will be ready for pick up at the Pence the following business day. Please note that tickets are limited for purchase on the day of the event\, and we encourage you to purchase them ahead of time. \nSponsors:\nThe Artist Tree\, Kim Eichorn\, Deborah Dunham & Charles Cunningham\, MAK Design + Build\, Kit & Bonnie Lam\, Nancy Roe\, Anne & Dave Hawke\, Pam Marrone & Michael Rogers\, Mary Brooks\, Michael Glassman\, Deedra & Jerry Johnson\, Roy Kaplan & Janet Saunders\, Redwood Barn\, Roger & Claudia Salquist\, Mike & Judy Davis\, Cynthia Gerber\, Newsbeat\, Barbara & Craig Smithson\, Kathy & Henry Thornhill\, and Hedgerow Farms. \nProceeds from the Garden Tour support the mission of the Pence Gallery\, a nonprofit art organization\, which served more than 19\,000 people last year. \nImage: Beth Savidge\, “Native Sunflower”
URL:https://artsalliancedavis.org/event/pence-gallery-garden-tour/
LOCATION:Pence Gallery\, 212 D St\, Davis\, CA\, United States
CATEGORIES:Art,Community,Outside
ATTACH;FMTTYPE=image/jpeg:https://artsalliancedavis.org/wp-content/uploads/2026/03/GT-2026-jpeg-v4I8NE.jpg
ORGANIZER;CN="Pence Gallery":MAILTO:pencesocialmedia@gmail.com
END:VEVENT
BEGIN:VEVENT
DTSTART;TZID=America/Los_Angeles:20260506T183000
DTEND;TZID=America/Los_Angeles:20260506T204500
DTSTAMP:20260424T001259
CREATED:20260414T203934Z
LAST-MODIFIED:20260414T203934Z
UID:24784-1778092200-1778100300@artsalliancedavis.org
SUMMARY:Hope Café
DESCRIPTION:So much is happening in our country and the world right now that is heartbreaking. Everything feels less stable and less safe. It’s hard to listen to the news without dissolving into a pool of anxiety. Harder still to find moments of joy\, or grace. \nI-House wants to change that. So we’ve invited artist Jesikah Maria Ross to dream up another interactive\, art-filled gathering that brings folks together to play\, share stories and lift each other up. It’s called Hope Café. She piloted the event last year\, and we think our community could use another one right about now. \nAt Hope Café you’ll get some time away from the news cycle and instead experience:\n– Local artists jazzing up the space with music and poetry\n– Lighthearted activities that spark curiosity and delight\n– Conversations that build connection in creative\, human ways \nMay’s Hope Café features world jazz duo Nick Carvajal and Jim Frink\, as well as the youth acapella quartet Davis Local Vocals—Evie Barnett\, Ruby Schwerin\, Charlotte DelFavero\, and Matthew Vallero. \nAll of it unfolds in a warm\, welcoming space – complete with snacks! You’ll leave feeling recharged and inspired. \nSo if you are looking to step out of the doom-loop we seem to be living in\, lean into some self-care or just want to make new friends\, then join us for Hope Café. \nSliding Scale: $10-$20. Choose the price right for you
URL:https://artsalliancedavis.org/event/hope-cafe-3/
LOCATION:International House Davis\, 10 College Park\, Davis\, CA\, 95616\, United States
CATEGORIES:Community,Music
ATTACH;FMTTYPE=image/png:https://artsalliancedavis.org/wp-content/uploads/2026/04/Hope-Cafe-5.6.26-Flyer-1-yAv5NY.png
ORGANIZER;CN="International House Davis":MAILTO:shahzana@ihousedavis.org
END:VEVENT
BEGIN:VEVENT
DTSTART;TZID=America/Los_Angeles:20260509T090000
DTEND;TZID=America/Los_Angeles:20260509T170000
DTSTAMP:20260424T001259
CREATED:20260324T141454Z
LAST-MODIFIED:20260324T141454Z
UID:24446-1778317200-1778346000@artsalliancedavis.org
SUMMARY:Willow Basketry: Weave a Gathering Basket
DESCRIPTION:Basketry is a time-honored craft rooted in place\, patience\, and practice. In this hands-on workshop led by Samantha Iacobello\, participants will learn the basics of “Stick and Strand” style basketry and create a 10” Berry Basket with a handle. Your finished basket will be perfect for garden harvests\, trips to the farmers market\, or gathering forest school treasures. Participants will have the opportunity to work with willow varieties sourced by Samantha from local watersheds\, including ‘Creek Willow\,’ ‘Sandbar Willow\,’ and ‘Purple Osier Willow’ along with cultivars and landrace varieties grown in her gardens. \nAll tools and materials will be provided. This workshop requires hand strength\, the ability to do repetitive hand movements\, and comfort sitting on the ground for extended periods of time. \nParticipants are encouraged to bring a cushion or low lawn chair for seating\, as well as a favorite utility or pocket knife if you have one. Please bring your own lunch\, snacks\, and drinking water – we will be enjoying a lunch break together halfway through the day. \nSliding scale cost of $70-$100 (pay what you can). Ages 12+ welcome. Only 10 spots available! \n 
URL:https://artsalliancedavis.org/event/willow-basketry-weave-a-gathering-basket/
LOCATION:CA
CATEGORIES:Community,Outside
ATTACH;FMTTYPE=image/png:https://artsalliancedavis.org/wp-content/uploads/2026/03/Willow-Basketry_TheDirt-8H0Jx2.png
ORGANIZER;CN="Davis Forest School":MAILTO:programs@davisforestschool.org
END:VEVENT
BEGIN:VEVENT
DTSTART;TZID=America/Los_Angeles:20260510T103000
DTEND;TZID=America/Los_Angeles:20260510T123000
DTSTAMP:20260424T001259
CREATED:20260209T154642Z
LAST-MODIFIED:20260209T154642Z
UID:23628-1778409000-1778416200@artsalliancedavis.org
SUMMARY:Mother’s Day Brunch
DESCRIPTION:🌸🥂 Mother’s Day Brunch at Great Bear Vineyards 🥂🌸\nSunday\, May 10 | 10:30 am – 12:30 pm\n$35 per person | $20 for kids ages 3–10 \nTreat Mom to a morning she’ll truly savor 💕 Join us at Great Bear Vineyards for a joyful Mother’s Day Brunch surrounded by spring blooms\, vineyard views\, and live music. Settle in with a glass of sparkling wine or a mimosa. \n🍽 Brunch Menu Includes:\n• Seasonal fresh fruit bowl\n• Cranberry apple quinoa salad\n• Mediterranean orzo pasta salad\n• Breakfast potatoes\n• Vegetable quiche\n• Ham\, cheese & potato quiche\n• French toast\n• Bacon\n• Assorted breakfast breads & pastries \n🥂 Optional Additions:\n• Glass of sparkling wine or mimosa — $10\n• Bottle of Chardonnay\, Rosé\, or Red Blend (The Duet)\n• Bottle of Sparkling Rosé — $57.50 \nWhether you’re celebrating Mom\, Grandma\, or all the incredible women in your life\, this is an easygoing\, delicious way to say thank you—with great food\, beautiful music\, and plenty of time to linger. \n💐 Space is limited—reserve your spot and make this Mother’s Day one to remember!
URL:https://artsalliancedavis.org/event/mothers-day-brunch-3/
LOCATION:Great Bear Vineyards (Great Bear)\, 24800 County Rd 101A
CATEGORIES:Food & Drink
ATTACH;FMTTYPE=image/png:https://artsalliancedavis.org/wp-content/uploads/2026/02/5-10-26-Brunch-Thumbnail-JhAnR6.png
ORGANIZER;CN="Great Bear Vineyards":MAILTO:greatbearvineyards@gmail.com
END:VEVENT
BEGIN:VEVENT
DTSTART;TZID=America/Los_Angeles:20260510T133000
DTEND;TZID=America/Los_Angeles:20260510T153000
DTSTAMP:20260424T001259
CREATED:20260209T154652Z
LAST-MODIFIED:20260209T154652Z
UID:23631-1778419800-1778427000@artsalliancedavis.org
SUMMARY:Mother’s Day Lunch
DESCRIPTION:🌷🍷 Mother’s Day Lunch at Great Bear Vineyards 🍷🌷\nSunday\, May 10 | 1:30–3:30pm\n$40 per person \nTreat Mom to an afternoon she’ll truly savor 💕 Celebrate Mother’s Day with a relaxed\, elegant lunch surrounded by vineyard views\, springtime beauty\, and the people she loves most. \n✨ Begin with a welcome glass of sparkling wine or mimosa (optional)\, then settle in for a generous\, beautifully prepared lunch designed to delight every palate. \n🎶 Enjoy live music by Duet Allegro\, featuring Spanish guitar and classical violin—perfectly setting the mood for a warm\, joyful afternoon. \n🍽 Mother’s Day Lunch Menu Includes:\nSeasonal Fresh Fruit Bowl\nCranberry Apple Quinoa Salad\nMediterranean Orzo Pasta Salad\nRoasted Baby Potatoes with Fresh Herbs\nSeasonal Sautéed Vegetables\nItalian Herb Grilled Chicken with Caprese\nFilet of Beef in Madeira Sauce\nSalmon\nVegetarian Zucchini Boats (limited availability—please request when booking)\nAssorted Bite-Sized Desserts \n🍷 Optional Wine Additions:\nGlass of Sparkling Wine or Mimosa – $10\nBottle of Chardonnay\, Rosé\, or Red Blend The Duet\nBottle of Sparkling Rosé – $57.50 \nReservations required to ensure a delightful dining experience. \nThis is a beautiful way to slow down\, share a meal\, and celebrate the incredible moms in our lives—surrounded by nature\, family\, music\, and award-winning wine. 🌿✨ \nLet’s raise a glass to Mom! \n🌸 Celebrate spring\, family\, and friendship at Great Bear Vineyards—because Mom deserves a day as special as she is.
URL:https://artsalliancedavis.org/event/mothers-day-lunch-2/
LOCATION:Great Bear Vineyards (Great Bear)\, 24800 County Rd 101A
CATEGORIES:Food & Drink
ATTACH;FMTTYPE=image/png:https://artsalliancedavis.org/wp-content/uploads/2026/02/5-10-26-Lunch-Thumbnail-c5K5Ki.png
ORGANIZER;CN="Great Bear Vineyards":MAILTO:greatbearvineyards@gmail.com
END:VEVENT
BEGIN:VEVENT
DTSTART;TZID=America/Los_Angeles:20260521T191000
DTEND;TZID=America/Los_Angeles:20260521T204500
DTSTAMP:20260424T001259
CREATED:20260410T192727Z
LAST-MODIFIED:20260410T192727Z
UID:24712-1779390600-1779396300@artsalliancedavis.org
SUMMARY:Photography Club of Davis
DESCRIPTION:The Photography Club of Davis will meet on Thursday\, May 21\, at 7:10pm in the Blanchard Room of the Mary L. Stephens Library at 314 East 14th Street in Davis. The meeting will feature a photo critique of member-submitted images. Critiques tend to be positive learning experiences for both submitters and the general audience. Participants discuss “why does this image work” as well as “why does this image not work” and how the image may be improved. Attendees also learn about the techniques involved. The Photography Club of Davis meets every month on the third Thursday of the month (except July and August) and welcomes members of the public to attend. More information at https://photoclubofdavis.wordpress.com \n“This event is not sponsored by Yolo County Library and the presence of this group in the meeting room does not constitute Yolo County Library’s endorsement of the policies or beliefs of this group.” \n  \n 
URL:https://artsalliancedavis.org/event/photography-club-of-davis-18/
LOCATION:Mary L. Stephens Davis Branch Library Blanchard Room\, 315 E 14th St\, Davis\, CA\, 95616\, United States
CATEGORIES:Art,Community
ATTACH;FMTTYPE=image/png:https://artsalliancedavis.org/wp-content/uploads/2026/04/streetcar-PgwuUW.png
ORGANIZER;CN="Photography Club of Davis":MAILTO:photographyclubofdavis@gmail.com
END:VEVENT
END:VCALENDAR