BEGIN:VCALENDAR
VERSION:2.0
PRODID:-//Arts Alliance Davis - ECPv6.15.20//NONSGML v1.0//EN
CALSCALE:GREGORIAN
METHOD:PUBLISH
X-WR-CALNAME:Arts Alliance Davis
X-ORIGINAL-URL:https://artsalliancedavis.org
X-WR-CALDESC:Events for Arts Alliance Davis
REFRESH-INTERVAL;VALUE=DURATION:PT1H
X-Robots-Tag:noindex
X-PUBLISHED-TTL:PT1H
BEGIN:VTIMEZONE
TZID:America/Los_Angeles
BEGIN:DAYLIGHT
TZOFFSETFROM:-0800
TZOFFSETTO:-0700
TZNAME:PDT
DTSTART:20250309T100000
END:DAYLIGHT
BEGIN:STANDARD
TZOFFSETFROM:-0700
TZOFFSETTO:-0800
TZNAME:PST
DTSTART:20251102T090000
END:STANDARD
BEGIN:DAYLIGHT
TZOFFSETFROM:-0800
TZOFFSETTO:-0700
TZNAME:PDT
DTSTART:20260308T100000
END:DAYLIGHT
BEGIN:STANDARD
TZOFFSETFROM:-0700
TZOFFSETTO:-0800
TZNAME:PST
DTSTART:20261101T090000
END:STANDARD
BEGIN:DAYLIGHT
TZOFFSETFROM:-0800
TZOFFSETTO:-0700
TZNAME:PDT
DTSTART:20270314T100000
END:DAYLIGHT
BEGIN:STANDARD
TZOFFSETFROM:-0700
TZOFFSETTO:-0800
TZNAME:PST
DTSTART:20271107T090000
END:STANDARD
END:VTIMEZONE
BEGIN:VEVENT
DTSTART;TZID=America/Los_Angeles:20260424T170000
DTEND;TZID=America/Los_Angeles:20260424T200000
DTSTAMP:20260423T225844
CREATED:20260408T182609Z
LAST-MODIFIED:20260408T182609Z
UID:24666-1777050000-1777060800@artsalliancedavis.org
SUMMARY:Live Music & Food Truck
DESCRIPTION:🍷🎶 Live Music & Food Truck Night at Great Bear Vineyards 🎶🥙\nFriday\, April 24 | 5–8pm\nTicket Includes: Glass of Wine & Live Music\nKick back and start your weekend the Great Bear way—with a glass of wine in hand and vineyard views all around. ✨\nWe’ve got another beautiful Friday evening lined up featuring live music from the Wealth of Nations Duo\, bringing their signature laid-back\, feel-good sound to the vineyard. From Grateful Dead favorites to classic rock\, R&B\, and original songs\, their set is the perfect soundtrack for a relaxing night under the open sky. 🎸\n🥙 Come hungry! GyroStop will be onsite serving up fresh\, flavorful Mediterranean favorites—think gyro sandwiches\, falafel\, hummus\, and more—all crafted by Chef Ty and perfect for pairing with your favorite estate-grown wines.\nSip\, relax\, and settle in for an easygoing evening of great music\, delicious food\, and even better company.\n✨ The perfect way to unwind and welcome the weekend—we can’t wait to see you there!
URL:https://artsalliancedavis.org/event/live-music-food-truck-31/
LOCATION:Great Bear Vineyards (Great Bear)\, 24800 County Rd 101A
CATEGORIES:Food & Drink,Music
ATTACH;FMTTYPE=image/png:https://artsalliancedavis.org/wp-content/uploads/2026/04/4-24-26-Thumbnail-TrZVRX.png
ORGANIZER;CN="Great Bear Vineyards":MAILTO:greatbearvineyards@gmail.com
END:VEVENT
BEGIN:VEVENT
DTSTART;TZID=America/Los_Angeles:20260425T120000
DTEND;TZID=America/Los_Angeles:20260425T170000
DTSTAMP:20260423T225844
CREATED:20260408T182640Z
LAST-MODIFIED:20260408T182640Z
UID:24668-1777118400-1777136400@artsalliancedavis.org
SUMMARY:Wine Ramble Weekend
DESCRIPTION:🍷🚗 Yolo County Wine Ramble Weekend at Great Bear Vineyards 🚗🍷\nSaturday\, April 25 | 12–5pm\nTicket Includes: BOGO Wine Tastings\nGet ready to ramble\, sip\, and discover the hidden gems of Yolo County wine country! 🌿✨\nWith your Yolo County Wine Ramble ticket\, you and a guest can enjoy buy one\, get one FREE wine tastings at Great Bear Vineyards and 11 other participating wineries. That means two Signature Tastings for the price of one—yes\, please! 🍷🍷\nMake Great Bear one of your must-stop destinations for the day:\n🎶 Live music at the vineyard (band announcement coming soon!)\n🍕 Italian Brother’s Pizza serving up fresh\, wood-fired deliciousness\n🍷 Award-winning estate wines in a relaxed\, scenic setting\n🍇 The Great Bear Tasting Experience:\nSettle into our rustic tasting room or peaceful garden and enjoy a guided flight of five estate-grown wines. Our friendly wine educators will serve you tableside\, share the story behind each pour\, and make your visit both memorable and delicious.\n✨ Whether you’re a seasoned wine lover or just looking for a fun day out with friends\, this is your chance to explore\, taste\, and fall in love with Yolo County wines.\n🎟 Grab your tickets here:\nhttps://www.cellarpass.com/…/wine-ramble-weekend-2026…\nRound up your friends\, plan your route\, and come ramble with us!
URL:https://artsalliancedavis.org/event/wine-ramble-weekend/
LOCATION:Great Bear Vineyards (Great Bear)\, 24800 County Rd 101A
CATEGORIES:Food & Drink,Music
ATTACH;FMTTYPE=image/png:https://artsalliancedavis.org/wp-content/uploads/2026/04/4-25-26-Wine-Ramble-Thumbnail-dEIQbu.png
ORGANIZER;CN="Great Bear Vineyards":MAILTO:greatbearvineyards@gmail.com
END:VEVENT
BEGIN:VEVENT
DTSTART;TZID=America/Los_Angeles:20260425T170000
DTEND;TZID=America/Los_Angeles:20260425T200000
DTSTAMP:20260423T225844
CREATED:20260201T124650Z
LAST-MODIFIED:20260201T124650Z
UID:23545-1777136400-1777147200@artsalliancedavis.org
SUMMARY:Coconut Grove Davis High School Band Fundraiser
DESCRIPTION:🎶🍷 Coconut Grove – Davis High School Band Fundraiser 🍷🎶\nSaturday\, April 25 | 5:00–8:00 pm \nGet ready for an upbeat evening of music\, food\, wine\, and community—all for a great cause!\nJoin us at Great Bear Vineyards for the Coconut Grove DHS Band Fundraiser\, an energetic night supporting our local Davis High School band program. Enjoy live performances from an incredible lineup of young musicians\, including the Jazz\, Concert & Symphonic Bands\, plus the DJUSD Jr. High Jazz Band and the Davis All-City Band. It’s a true celebration of talent\, teamwork\, and hometown pride 🎺🥁 \n🎟 Ticket Includes: \nAdult Tickets:\n• Live band performances\n• One glass of wine\n• Two raffle tickets \nMinor Tickets:\n• Live band performances\n• Non-alcoholic beverage\n• Two raffle tickets \n🍴 Hungry? We’ve got you covered! \nGrab dinner from fantastic local favorites on-site:\n• Cousins Maine Lobster\n• Italian Brothers Pizza\n• Sahara Kebabs \nSip our estate-grown wines\, enjoy the music-filled vineyard vibes\, and enter our raffle featuring prizes donated by local businesses. Best of all\, a portion of every ticket directly supports these talented young musicians and their future performances. \nCome out\, bring your friends and family\, and help us make some noise for music education 🎶\nWe can’t wait to see you there!
URL:https://artsalliancedavis.org/event/coconut-grove-davis-high-school-band-fundraiser/
LOCATION:Great Bear Vineyards (Great Bear)\, 24800 County Rd 101A
CATEGORIES:Community,Food & Drink,Music
ATTACH;FMTTYPE=image/png:https://artsalliancedavis.org/wp-content/uploads/2026/02/4-25-26-Thumbnail-DuJa1l.png
ORGANIZER;CN="Great Bear Vineyards":MAILTO:greatbearvineyards@gmail.com
END:VEVENT
BEGIN:VEVENT
DTSTART;TZID=America/Los_Angeles:20260426T120000
DTEND;TZID=America/Los_Angeles:20260426T150000
DTSTAMP:20260423T225844
CREATED:20260408T182719Z
LAST-MODIFIED:20260408T182719Z
UID:24670-1777204800-1777215600@artsalliancedavis.org
SUMMARY:Wine Ramble Weekend
DESCRIPTION:🍷🚗 Yolo County Wine Ramble Weekend at Great Bear Vineyards 🚗🍷\nSunday\, April 26 | 12–3pm\nTicket Includes: BOGO Wine Tastings\nKeep the weekend going and ramble your way through Yolo County wine country! 🌿✨ Make Great Bear Vineyards one of your must-visit stops and discover what you’ve been missing.\nWith your Wine Ramble ticket\, you and a guest enjoy buy one\, get one FREE wine tastings at Great Bear and 11 other participating wineries—so yes\, that’s two Signature Tastings for the price of one. 🍷🍷\n🎶🍽 What’s Happening at Great Bear:\n🎸 Live music by Last Station West\, an acoustic-forward band playing rock\, blues\, country\, & folk music. Their unique sound will have you out of your seat and dancing!\n🥟 Buenos Aires Grill serving up their delicious empanadas\n🍷 Award-winning estate wines in a relaxed vineyard setting\n🍇 The Great Bear Tasting Experience:\nUnwind in our rustic tasting room or peaceful garden while enjoying a guided flight of five estate-grown wines. Our knowledgeable team will serve you tableside\, share the story behind each pour\, and make your tasting both fun and memorable.\n✨ Gather your friends\, plan your route\, and make a day of it—this is your chance to sip\, explore\, and celebrate the best of Yolo County wines.\n🎟 Get your tickets here:\nhttps://www.cellarpass.com/…/wine-ramble-weekend-2026…\nWe can’t wait to welcome you for an afternoon of wine\, music\, and good vibes!
URL:https://artsalliancedavis.org/event/wine-ramble-weekend-2/
LOCATION:Great Bear Vineyards (Great Bear)\, 24800 County Rd 101A
CATEGORIES:Food & Drink,Music
ATTACH;FMTTYPE=image/png:https://artsalliancedavis.org/wp-content/uploads/2026/04/4-26-26-Thumbnail-Oa4uX1.png
ORGANIZER;CN="Great Bear Vineyards":MAILTO:greatbearvineyards@gmail.com
END:VEVENT
BEGIN:VEVENT
DTSTART;TZID=America/Los_Angeles:20260428T163000
DTEND;TZID=America/Los_Angeles:20260428T190000
DTSTAMP:20260423T225844
CREATED:20260320T125751Z
LAST-MODIFIED:20260320T125751Z
UID:24321-1777393800-1777402800@artsalliancedavis.org
SUMMARY:Echoes of Resilience: Unveiling Stories of Devastation\, Survival\, and Hope
DESCRIPTION:Zeru Foundation\, in collaboration with International House Davis\, presents Echoes of Resilience\, a traveling multimedia exhibition centered on the lived experiences of survivors of the 2023 Türkiye–Syria earthquakes.\nDeveloped through fieldwork in earthquake-affected regions of Türkiye\, the exhibition brings together oral narratives\, photography\, music\, personal artifacts\, and visual art to document stories of loss\, survival\, and rebuilding. The exhibition also includes educational materials exploring the impacts of trauma and pathways toward healing.\nOn display as part of the Roots & Routes series at International House Davis\, the exhibition invites visitors to reflect on themes of migration\, displacement\, belonging\, and the meaning of home. \nThe exhibition includes: \n– Guided walk-throughs highlighting personal stories and broader themes of identity and migration\n– “We Are Still Here” a participatory installation by Talebeyiz Biz\, a youth-led cooperative supporting creative expression among young people in earthquake-affected communities.\n– A community dialogue session facilitated by Zeru Foundation and I-House Davis.\n– At its core\, the exhibition asks: How do individuals and communities rebuild after profound disruption? And how can art and storytelling support healing and resilience?\nThis exhibition is presented in conjunction with the symposium “The 2023 Türkiye–Syria Earthquakes: Three Years Later” hosted by UC Davis Global Affairs.
URL:https://artsalliancedavis.org/event/echoes-of-resilience-unveiling-stories-of-devastation-survival-and-hope/
LOCATION:International House Davis\, 10 College Park\, Davis\, CA\, 95616\, United States
CATEGORIES:Art,Community,Featured,Music
ATTACH;FMTTYPE=image/png:https://artsalliancedavis.org/wp-content/uploads/2026/03/WT-2026-Echoes-of-Resilience-4.28.26-Flyer-1-DavZoj.png
ORGANIZER;CN="International House Davis":MAILTO:shahzana@ihousedavis.org
END:VEVENT
BEGIN:VEVENT
DTSTART;TZID=America/Los_Angeles:20260428T163000
DTEND;TZID=America/Los_Angeles:20260428T190000
DTSTAMP:20260423T225844
CREATED:20260323T135626Z
LAST-MODIFIED:20260323T135626Z
UID:24390-1777393800-1777402800@artsalliancedavis.org
SUMMARY:Echoes of Resilience: Unveiling Stories of Devastation\, Survival\, and Hope
DESCRIPTION:Zeru Foundation\, in collaboration with International House Davis\, presents Echoes of Resilience\, a traveling multimedia exhibition centered on the lived experiences of survivors of the 2023 Türkiye–Syria earthquakes.\nDeveloped through fieldwork in earthquake-affected regions of Türkiye\, the exhibition brings together oral narratives\, photography\, music\, personal artifacts\, and visual art to document stories of loss\, survival\, and rebuilding. The exhibition also includes educational materials exploring the impacts of trauma and pathways toward healing.\nOn display as part of the Roots & Routes series at International House Davis\, the exhibition invites visitors to reflect on themes of migration\, displacement\, belonging\, and the meaning of home. \nThe exhibition includes: \n– Guided walk-throughs highlighting personal stories and broader themes of identity and migration\n– “We Are Still Here” a participatory installation by Talebeyiz Biz\, a youth-led cooperative supporting creative expression among young people in earthquake-affected communities.\n– A community dialogue session facilitated by Zeru Foundation and I-House Davis.\n– At its core\, the exhibition asks: How do individuals and communities rebuild after profound disruption? And how can art and storytelling support healing and resilience?\nThis exhibition is presented in conjunction with the symposium “The 2023 Türkiye–Syria Earthquakes: Three Years Later” hosted by UC Davis Global Affairs. \n 
URL:https://artsalliancedavis.org/event/echoes-of-resilience-unveiling-stories-of-devastation-survival-and-hope-2/
LOCATION:International House Davis\, 10 College Park\, Davis\, CA\, 95616\, United States
CATEGORIES:Art,Community,Featured,Music
ATTACH;FMTTYPE=image/png:https://artsalliancedavis.org/wp-content/uploads/2026/03/WT-2026-Echoes-of-Resilience-4.28.26-Flyer-2-qXP7Zl.png
ORGANIZER;CN="International House Davis":MAILTO:shahzana@ihousedavis.org
END:VEVENT
END:VCALENDAR