BEGIN:VCALENDAR
VERSION:2.0
PRODID:-//Arts Alliance Davis - ECPv6.15.20//NONSGML v1.0//EN
CALSCALE:GREGORIAN
METHOD:PUBLISH
X-ORIGINAL-URL:https://artsalliancedavis.org
X-WR-CALDESC:Events for Arts Alliance Davis
REFRESH-INTERVAL;VALUE=DURATION:PT1H
X-Robots-Tag:noindex
X-PUBLISHED-TTL:PT1H
BEGIN:VTIMEZONE
TZID:America/Los_Angeles
BEGIN:DAYLIGHT
TZOFFSETFROM:-0800
TZOFFSETTO:-0700
TZNAME:PDT
DTSTART:20250309T100000
END:DAYLIGHT
BEGIN:STANDARD
TZOFFSETFROM:-0700
TZOFFSETTO:-0800
TZNAME:PST
DTSTART:20251102T090000
END:STANDARD
BEGIN:DAYLIGHT
TZOFFSETFROM:-0800
TZOFFSETTO:-0700
TZNAME:PDT
DTSTART:20260308T100000
END:DAYLIGHT
BEGIN:STANDARD
TZOFFSETFROM:-0700
TZOFFSETTO:-0800
TZNAME:PST
DTSTART:20261101T090000
END:STANDARD
BEGIN:DAYLIGHT
TZOFFSETFROM:-0800
TZOFFSETTO:-0700
TZNAME:PDT
DTSTART:20270314T100000
END:DAYLIGHT
BEGIN:STANDARD
TZOFFSETFROM:-0700
TZOFFSETTO:-0800
TZNAME:PST
DTSTART:20271107T090000
END:STANDARD
END:VTIMEZONE
BEGIN:VEVENT
DTSTART;TZID=America/Los_Angeles:20260302T120000
DTEND;TZID=America/Los_Angeles:20260302T160000
DTSTAMP:20260423T144618
CREATED:20251212T225940Z
LAST-MODIFIED:20251212T225940Z
UID:22725-1772452800-1772467200@artsalliancedavis.org
SUMMARY:Village Homes: A Radical Plan
DESCRIPTION:“Village Homes: A Radical Plan” celebrates the 50th anniversary of an innovative west Davis neighborhood community. Curated by Professor Timothy McNeil and guest curator Adrienne McGraw\, the installation showcases the vision\, concepts\, and development behind the project and its goals. This ground-breaking exhibition will feature original objects\, archival photographs\, plans and drawings\, a part-built section of a typical 1970s house in Village Homes recreating a living space and demonstrating the passive solar features\, and an interactive three-dimensional site plan of the neighborhood’s unique landscape. Other highlights include a 30-minute documentary film about the community.
URL:https://artsalliancedavis.org/event/village-homes-a-radical-plan-29/
LOCATION:UC Davis Design Museum\, Cruess Hall\, #124\, Davis\, 95616\, United States
CATEGORIES:Community
ATTACH;FMTTYPE=image/jpeg:https://artsalliancedavis.org/wp-content/uploads/2025/12/Aerial-view-of-Village-Homes-late-1970s-phot-from-Judy-Corbett-Archive-scaled-komRbD.jpg
END:VEVENT
BEGIN:VEVENT
DTSTART;TZID=America/Los_Angeles:20260303T120000
DTEND;TZID=America/Los_Angeles:20260303T160000
DTSTAMP:20260423T144618
CREATED:20251212T225941Z
LAST-MODIFIED:20251212T225941Z
UID:22726-1772539200-1772553600@artsalliancedavis.org
SUMMARY:Village Homes: A Radical Plan
DESCRIPTION:“Village Homes: A Radical Plan” celebrates the 50th anniversary of an innovative west Davis neighborhood community. Curated by Professor Timothy McNeil and guest curator Adrienne McGraw\, the installation showcases the vision\, concepts\, and development behind the project and its goals. This ground-breaking exhibition will feature original objects\, archival photographs\, plans and drawings\, a part-built section of a typical 1970s house in Village Homes recreating a living space and demonstrating the passive solar features\, and an interactive three-dimensional site plan of the neighborhood’s unique landscape. Other highlights include a 30-minute documentary film about the community.
URL:https://artsalliancedavis.org/event/village-homes-a-radical-plan-30/
LOCATION:UC Davis Design Museum\, Cruess Hall\, #124\, Davis\, 95616\, United States
CATEGORIES:Community
ATTACH;FMTTYPE=image/jpeg:https://artsalliancedavis.org/wp-content/uploads/2025/12/Aerial-view-of-Village-Homes-late-1970s-phot-from-Judy-Corbett-Archive-scaled-komRbD.jpg
END:VEVENT
BEGIN:VEVENT
DTSTART;TZID=America/Los_Angeles:20260304T120000
DTEND;TZID=America/Los_Angeles:20260304T160000
DTSTAMP:20260423T144618
CREATED:20251212T225957Z
LAST-MODIFIED:20251212T225957Z
UID:22727-1772625600-1772640000@artsalliancedavis.org
SUMMARY:Village Homes: A Radical Plan
DESCRIPTION:“Village Homes: A Radical Plan” celebrates the 50th anniversary of an innovative west Davis neighborhood community. Curated by Professor Timothy McNeil and guest curator Adrienne McGraw\, the installation showcases the vision\, concepts\, and development behind the project and its goals. This ground-breaking exhibition will feature original objects\, archival photographs\, plans and drawings\, a part-built section of a typical 1970s house in Village Homes recreating a living space and demonstrating the passive solar features\, and an interactive three-dimensional site plan of the neighborhood’s unique landscape. Other highlights include a 30-minute documentary film about the community.
URL:https://artsalliancedavis.org/event/village-homes-a-radical-plan-31/
LOCATION:UC Davis Design Museum\, Cruess Hall\, #124\, Davis\, 95616\, United States
CATEGORIES:Community
ATTACH;FMTTYPE=image/jpeg:https://artsalliancedavis.org/wp-content/uploads/2025/12/Aerial-view-of-Village-Homes-late-1970s-phot-from-Judy-Corbett-Archive-scaled-komRbD.jpg
END:VEVENT
BEGIN:VEVENT
DTSTART;TZID=America/Los_Angeles:20260305T120000
DTEND;TZID=America/Los_Angeles:20260305T160000
DTSTAMP:20260423T144618
CREATED:20251212T230015Z
LAST-MODIFIED:20251212T230015Z
UID:22728-1772712000-1772726400@artsalliancedavis.org
SUMMARY:Village Homes: A Radical Plan
DESCRIPTION:“Village Homes: A Radical Plan” celebrates the 50th anniversary of an innovative west Davis neighborhood community. Curated by Professor Timothy McNeil and guest curator Adrienne McGraw\, the installation showcases the vision\, concepts\, and development behind the project and its goals. This ground-breaking exhibition will feature original objects\, archival photographs\, plans and drawings\, a part-built section of a typical 1970s house in Village Homes recreating a living space and demonstrating the passive solar features\, and an interactive three-dimensional site plan of the neighborhood’s unique landscape. Other highlights include a 30-minute documentary film about the community.
URL:https://artsalliancedavis.org/event/village-homes-a-radical-plan-32/
LOCATION:UC Davis Design Museum\, Cruess Hall\, #124\, Davis\, 95616\, United States
CATEGORIES:Community
ATTACH;FMTTYPE=image/jpeg:https://artsalliancedavis.org/wp-content/uploads/2025/12/Aerial-view-of-Village-Homes-late-1970s-phot-from-Judy-Corbett-Archive-scaled-komRbD.jpg
END:VEVENT
BEGIN:VEVENT
DTSTART;TZID=America/Los_Angeles:20260306T120000
DTEND;TZID=America/Los_Angeles:20260306T160000
DTSTAMP:20260423T144618
CREATED:20251212T230017Z
LAST-MODIFIED:20251212T230017Z
UID:22729-1772798400-1772812800@artsalliancedavis.org
SUMMARY:Village Homes: A Radical Plan
DESCRIPTION:“Village Homes: A Radical Plan” celebrates the 50th anniversary of an innovative west Davis neighborhood community. Curated by Professor Timothy McNeil and guest curator Adrienne McGraw\, the installation showcases the vision\, concepts\, and development behind the project and its goals. This ground-breaking exhibition will feature original objects\, archival photographs\, plans and drawings\, a part-built section of a typical 1970s house in Village Homes recreating a living space and demonstrating the passive solar features\, and an interactive three-dimensional site plan of the neighborhood’s unique landscape. Other highlights include a 30-minute documentary film about the community.
URL:https://artsalliancedavis.org/event/village-homes-a-radical-plan-33/
LOCATION:UC Davis Design Museum\, Cruess Hall\, #124\, Davis\, 95616\, United States
CATEGORIES:Community
ATTACH;FMTTYPE=image/jpeg:https://artsalliancedavis.org/wp-content/uploads/2025/12/Aerial-view-of-Village-Homes-late-1970s-phot-from-Judy-Corbett-Archive-scaled-komRbD.jpg
END:VEVENT
BEGIN:VEVENT
DTSTART;TZID=America/Los_Angeles:20260309T120000
DTEND;TZID=America/Los_Angeles:20260309T160000
DTSTAMP:20260423T144618
CREATED:20251212T230035Z
LAST-MODIFIED:20251212T230035Z
UID:22730-1773057600-1773072000@artsalliancedavis.org
SUMMARY:Village Homes: A Radical Plan
DESCRIPTION:“Village Homes: A Radical Plan” celebrates the 50th anniversary of an innovative west Davis neighborhood community. Curated by Professor Timothy McNeil and guest curator Adrienne McGraw\, the installation showcases the vision\, concepts\, and development behind the project and its goals. This ground-breaking exhibition will feature original objects\, archival photographs\, plans and drawings\, a part-built section of a typical 1970s house in Village Homes recreating a living space and demonstrating the passive solar features\, and an interactive three-dimensional site plan of the neighborhood’s unique landscape. Other highlights include a 30-minute documentary film about the community.
URL:https://artsalliancedavis.org/event/village-homes-a-radical-plan-34/
LOCATION:UC Davis Design Museum\, Cruess Hall\, #124\, Davis\, 95616\, United States
CATEGORIES:Community
ATTACH;FMTTYPE=image/jpeg:https://artsalliancedavis.org/wp-content/uploads/2025/12/Aerial-view-of-Village-Homes-late-1970s-phot-from-Judy-Corbett-Archive-scaled-komRbD.jpg
END:VEVENT
BEGIN:VEVENT
DTSTART;TZID=America/Los_Angeles:20260310T120000
DTEND;TZID=America/Los_Angeles:20260310T160000
DTSTAMP:20260423T144618
CREATED:20251212T230055Z
LAST-MODIFIED:20251212T230055Z
UID:22731-1773144000-1773158400@artsalliancedavis.org
SUMMARY:Village Homes: A Radical Plan
DESCRIPTION:“Village Homes: A Radical Plan” celebrates the 50th anniversary of an innovative west Davis neighborhood community. Curated by Professor Timothy McNeil and guest curator Adrienne McGraw\, the installation showcases the vision\, concepts\, and development behind the project and its goals. This ground-breaking exhibition will feature original objects\, archival photographs\, plans and drawings\, a part-built section of a typical 1970s house in Village Homes recreating a living space and demonstrating the passive solar features\, and an interactive three-dimensional site plan of the neighborhood’s unique landscape. Other highlights include a 30-minute documentary film about the community.
URL:https://artsalliancedavis.org/event/village-homes-a-radical-plan-35/
LOCATION:UC Davis Design Museum\, Cruess Hall\, #124\, Davis\, 95616\, United States
CATEGORIES:Community
ATTACH;FMTTYPE=image/jpeg:https://artsalliancedavis.org/wp-content/uploads/2025/12/Aerial-view-of-Village-Homes-late-1970s-phot-from-Judy-Corbett-Archive-scaled-komRbD.jpg
END:VEVENT
BEGIN:VEVENT
DTSTART;TZID=America/Los_Angeles:20260311T120000
DTEND;TZID=America/Los_Angeles:20260311T160000
DTSTAMP:20260423T144618
CREATED:20251212T230112Z
LAST-MODIFIED:20251212T230112Z
UID:22732-1773230400-1773244800@artsalliancedavis.org
SUMMARY:Village Homes: A Radical Plan
DESCRIPTION:“Village Homes: A Radical Plan” celebrates the 50th anniversary of an innovative west Davis neighborhood community. Curated by Professor Timothy McNeil and guest curator Adrienne McGraw\, the installation showcases the vision\, concepts\, and development behind the project and its goals. This ground-breaking exhibition will feature original objects\, archival photographs\, plans and drawings\, a part-built section of a typical 1970s house in Village Homes recreating a living space and demonstrating the passive solar features\, and an interactive three-dimensional site plan of the neighborhood’s unique landscape. Other highlights include a 30-minute documentary film about the community.
URL:https://artsalliancedavis.org/event/village-homes-a-radical-plan-36/
LOCATION:UC Davis Design Museum\, Cruess Hall\, #124\, Davis\, 95616\, United States
CATEGORIES:Community
ATTACH;FMTTYPE=image/jpeg:https://artsalliancedavis.org/wp-content/uploads/2025/12/Aerial-view-of-Village-Homes-late-1970s-phot-from-Judy-Corbett-Archive-scaled-komRbD.jpg
END:VEVENT
BEGIN:VEVENT
DTSTART;TZID=America/Los_Angeles:20260312T120000
DTEND;TZID=America/Los_Angeles:20260312T160000
DTSTAMP:20260423T144618
CREATED:20251212T230127Z
LAST-MODIFIED:20251212T230127Z
UID:22740-1773316800-1773331200@artsalliancedavis.org
SUMMARY:Village Homes: A Radical Plan
DESCRIPTION:“Village Homes: A Radical Plan” celebrates the 50th anniversary of an innovative west Davis neighborhood community. Curated by Professor Timothy McNeil and guest curator Adrienne McGraw\, the installation showcases the vision\, concepts\, and development behind the project and its goals. This ground-breaking exhibition will feature original objects\, archival photographs\, plans and drawings\, a part-built section of a typical 1970s house in Village Homes recreating a living space and demonstrating the passive solar features\, and an interactive three-dimensional site plan of the neighborhood’s unique landscape. Other highlights include a 30-minute documentary film about the community.
URL:https://artsalliancedavis.org/event/village-homes-a-radical-plan-37/
LOCATION:UC Davis Design Museum\, Cruess Hall\, #124\, Davis\, 95616\, United States
CATEGORIES:Community
ATTACH;FMTTYPE=image/jpeg:https://artsalliancedavis.org/wp-content/uploads/2025/12/Aerial-view-of-Village-Homes-late-1970s-phot-from-Judy-Corbett-Archive-scaled-komRbD.jpg
END:VEVENT
BEGIN:VEVENT
DTSTART;TZID=America/Los_Angeles:20260313T120000
DTEND;TZID=America/Los_Angeles:20260313T160000
DTSTAMP:20260423T144618
CREATED:20251213T231127Z
LAST-MODIFIED:20251213T231127Z
UID:22752-1773403200-1773417600@artsalliancedavis.org
SUMMARY:Village Homes: A Radical Plan
DESCRIPTION:“Village Homes: A Radical Plan” celebrates the 50th anniversary of an innovative west Davis neighborhood community. Curated by Professor Timothy McNeil and guest curator Adrienne McGraw\, the installation showcases the vision\, concepts\, and development behind the project and its goals. This ground-breaking exhibition will feature original objects\, archival photographs\, plans and drawings\, a part-built section of a typical 1970s house in Village Homes recreating a living space and demonstrating the passive solar features\, and an interactive three-dimensional site plan of the neighborhood’s unique landscape. Other highlights include a 30-minute documentary film about the community.
URL:https://artsalliancedavis.org/event/village-homes-a-radical-plan-38/
LOCATION:UC Davis Design Museum\, Cruess Hall\, #124\, Davis\, 95616\, United States
CATEGORIES:Community
ATTACH;FMTTYPE=image/jpeg:https://artsalliancedavis.org/wp-content/uploads/2025/12/Aerial-view-of-Village-Homes-late-1970s-phot-from-Judy-Corbett-Archive-scaled-komRbD.jpg
END:VEVENT
BEGIN:VEVENT
DTSTART;TZID=America/Los_Angeles:20260316T120000
DTEND;TZID=America/Los_Angeles:20260316T160000
DTSTAMP:20260423T144618
CREATED:20251216T235702Z
LAST-MODIFIED:20251216T235702Z
UID:22790-1773662400-1773676800@artsalliancedavis.org
SUMMARY:Village Homes: A Radical Plan
DESCRIPTION:“Village Homes: A Radical Plan” celebrates the 50th anniversary of an innovative west Davis neighborhood community. Curated by Professor Timothy McNeil and guest curator Adrienne McGraw\, the installation showcases the vision\, concepts\, and development behind the project and its goals. This ground-breaking exhibition will feature original objects\, archival photographs\, plans and drawings\, a part-built section of a typical 1970s house in Village Homes recreating a living space and demonstrating the passive solar features\, and an interactive three-dimensional site plan of the neighborhood’s unique landscape. Other highlights include a 30-minute documentary film about the community.
URL:https://artsalliancedavis.org/event/village-homes-a-radical-plan-39/
LOCATION:UC Davis Design Museum\, Cruess Hall\, #124\, Davis\, 95616\, United States
CATEGORIES:Community
ATTACH;FMTTYPE=image/jpeg:https://artsalliancedavis.org/wp-content/uploads/2025/12/Aerial-view-of-Village-Homes-late-1970s-phot-from-Judy-Corbett-Archive-scaled-komRbD.jpg
END:VEVENT
BEGIN:VEVENT
DTSTART;TZID=America/Los_Angeles:20260317T120000
DTEND;TZID=America/Los_Angeles:20260317T160000
DTSTAMP:20260423T144618
CREATED:20251218T112731Z
LAST-MODIFIED:20251218T112731Z
UID:22819-1773748800-1773763200@artsalliancedavis.org
SUMMARY:Village Homes: A Radical Plan
DESCRIPTION:“Village Homes: A Radical Plan” celebrates the 50th anniversary of an innovative west Davis neighborhood community. Curated by Professor Timothy McNeil and guest curator Adrienne McGraw\, the installation showcases the vision\, concepts\, and development behind the project and its goals. This ground-breaking exhibition will feature original objects\, archival photographs\, plans and drawings\, a part-built section of a typical 1970s house in Village Homes recreating a living space and demonstrating the passive solar features\, and an interactive three-dimensional site plan of the neighborhood’s unique landscape. Other highlights include a 30-minute documentary film about the community.
URL:https://artsalliancedavis.org/event/village-homes-a-radical-plan-40/
LOCATION:UC Davis Design Museum\, Cruess Hall\, #124\, Davis\, 95616\, United States
CATEGORIES:Community
ATTACH;FMTTYPE=image/jpeg:https://artsalliancedavis.org/wp-content/uploads/2025/12/Aerial-view-of-Village-Homes-late-1970s-phot-from-Judy-Corbett-Archive-scaled-komRbD.jpg
END:VEVENT
BEGIN:VEVENT
DTSTART;TZID=America/Los_Angeles:20260318T120000
DTEND;TZID=America/Los_Angeles:20260318T160000
DTSTAMP:20260423T144618
CREATED:20251218T112755Z
LAST-MODIFIED:20251218T112755Z
UID:22828-1773835200-1773849600@artsalliancedavis.org
SUMMARY:Village Homes: A Radical Plan
DESCRIPTION:“Village Homes: A Radical Plan” celebrates the 50th anniversary of an innovative west Davis neighborhood community. Curated by Professor Timothy McNeil and guest curator Adrienne McGraw\, the installation showcases the vision\, concepts\, and development behind the project and its goals. This ground-breaking exhibition will feature original objects\, archival photographs\, plans and drawings\, a part-built section of a typical 1970s house in Village Homes recreating a living space and demonstrating the passive solar features\, and an interactive three-dimensional site plan of the neighborhood’s unique landscape. Other highlights include a 30-minute documentary film about the community.
URL:https://artsalliancedavis.org/event/village-homes-a-radical-plan-41/
LOCATION:UC Davis Design Museum\, Cruess Hall\, #124\, Davis\, 95616\, United States
CATEGORIES:Community
ATTACH;FMTTYPE=image/jpeg:https://artsalliancedavis.org/wp-content/uploads/2025/12/Aerial-view-of-Village-Homes-late-1970s-phot-from-Judy-Corbett-Archive-scaled-komRbD.jpg
END:VEVENT
BEGIN:VEVENT
DTSTART;TZID=America/Los_Angeles:20260319T120000
DTEND;TZID=America/Los_Angeles:20260319T160000
DTSTAMP:20260423T144618
CREATED:20251220T144522Z
LAST-MODIFIED:20251220T144522Z
UID:22860-1773921600-1773936000@artsalliancedavis.org
SUMMARY:Village Homes: A Radical Plan
DESCRIPTION:“Village Homes: A Radical Plan” celebrates the 50th anniversary of an innovative west Davis neighborhood community. Curated by Professor Timothy McNeil and guest curator Adrienne McGraw\, the installation showcases the vision\, concepts\, and development behind the project and its goals. This ground-breaking exhibition will feature original objects\, archival photographs\, plans and drawings\, a part-built section of a typical 1970s house in Village Homes recreating a living space and demonstrating the passive solar features\, and an interactive three-dimensional site plan of the neighborhood’s unique landscape. Other highlights include a 30-minute documentary film about the community.
URL:https://artsalliancedavis.org/event/village-homes-a-radical-plan-42/
LOCATION:UC Davis Design Museum\, Cruess Hall\, #124\, Davis\, 95616\, United States
CATEGORIES:Community
ATTACH;FMTTYPE=image/jpeg:https://artsalliancedavis.org/wp-content/uploads/2025/12/Aerial-view-of-Village-Homes-late-1970s-phot-from-Judy-Corbett-Archive-scaled-komRbD.jpg
END:VEVENT
BEGIN:VEVENT
DTSTART;TZID=America/Los_Angeles:20260320T120000
DTEND;TZID=America/Los_Angeles:20260320T160000
DTSTAMP:20260423T144618
CREATED:20251220T144529Z
LAST-MODIFIED:20251220T144529Z
UID:22864-1774008000-1774022400@artsalliancedavis.org
SUMMARY:Village Homes: A Radical Plan
DESCRIPTION:“Village Homes: A Radical Plan” celebrates the 50th anniversary of an innovative west Davis neighborhood community. Curated by Professor Timothy McNeil and guest curator Adrienne McGraw\, the installation showcases the vision\, concepts\, and development behind the project and its goals. This ground-breaking exhibition will feature original objects\, archival photographs\, plans and drawings\, a part-built section of a typical 1970s house in Village Homes recreating a living space and demonstrating the passive solar features\, and an interactive three-dimensional site plan of the neighborhood’s unique landscape. Other highlights include a 30-minute documentary film about the community.
URL:https://artsalliancedavis.org/event/village-homes-a-radical-plan-43/
LOCATION:UC Davis Design Museum\, Cruess Hall\, #124\, Davis\, 95616\, United States
CATEGORIES:Community
ATTACH;FMTTYPE=image/jpeg:https://artsalliancedavis.org/wp-content/uploads/2025/12/Aerial-view-of-Village-Homes-late-1970s-phot-from-Judy-Corbett-Archive-scaled-komRbD.jpg
END:VEVENT
BEGIN:VEVENT
DTSTART;TZID=America/Los_Angeles:20260323T120000
DTEND;TZID=America/Los_Angeles:20260323T160000
DTSTAMP:20260423T144618
CREATED:20251223T153108Z
LAST-MODIFIED:20251223T153108Z
UID:22886-1774267200-1774281600@artsalliancedavis.org
SUMMARY:Village Homes: A Radical Plan
DESCRIPTION:“Village Homes: A Radical Plan” celebrates the 50th anniversary of an innovative west Davis neighborhood community. Curated by Professor Timothy McNeil and guest curator Adrienne McGraw\, the installation showcases the vision\, concepts\, and development behind the project and its goals. This ground-breaking exhibition will feature original objects\, archival photographs\, plans and drawings\, a part-built section of a typical 1970s house in Village Homes recreating a living space and demonstrating the passive solar features\, and an interactive three-dimensional site plan of the neighborhood’s unique landscape. Other highlights include a 30-minute documentary film about the community.
URL:https://artsalliancedavis.org/event/village-homes-a-radical-plan-44/
LOCATION:UC Davis Design Museum\, Cruess Hall\, #124\, Davis\, 95616\, United States
CATEGORIES:Community
ATTACH;FMTTYPE=image/jpeg:https://artsalliancedavis.org/wp-content/uploads/2025/12/Aerial-view-of-Village-Homes-late-1970s-phot-from-Judy-Corbett-Archive-scaled-komRbD.jpg
END:VEVENT
BEGIN:VEVENT
DTSTART;TZID=America/Los_Angeles:20260324T120000
DTEND;TZID=America/Los_Angeles:20260324T160000
DTSTAMP:20260423T144618
CREATED:20251224T154705Z
LAST-MODIFIED:20251224T154705Z
UID:22932-1774353600-1774368000@artsalliancedavis.org
SUMMARY:Village Homes: A Radical Plan
DESCRIPTION:“Village Homes: A Radical Plan” celebrates the 50th anniversary of an innovative west Davis neighborhood community. Curated by Professor Timothy McNeil and guest curator Adrienne McGraw\, the installation showcases the vision\, concepts\, and development behind the project and its goals. This ground-breaking exhibition will feature original objects\, archival photographs\, plans and drawings\, a part-built section of a typical 1970s house in Village Homes recreating a living space and demonstrating the passive solar features\, and an interactive three-dimensional site plan of the neighborhood’s unique landscape. Other highlights include a 30-minute documentary film about the community.
URL:https://artsalliancedavis.org/event/village-homes-a-radical-plan-45/
LOCATION:UC Davis Design Museum\, Cruess Hall\, #124\, Davis\, 95616\, United States
CATEGORIES:Community
ATTACH;FMTTYPE=image/jpeg:https://artsalliancedavis.org/wp-content/uploads/2025/12/Aerial-view-of-Village-Homes-late-1970s-phot-from-Judy-Corbett-Archive-scaled-komRbD.jpg
END:VEVENT
BEGIN:VEVENT
DTSTART;TZID=America/Los_Angeles:20260325T120000
DTEND;TZID=America/Los_Angeles:20260325T160000
DTSTAMP:20260423T144618
CREATED:20251225T155955Z
LAST-MODIFIED:20251225T155955Z
UID:22948-1774440000-1774454400@artsalliancedavis.org
SUMMARY:Village Homes: A Radical Plan
DESCRIPTION:“Village Homes: A Radical Plan” celebrates the 50th anniversary of an innovative west Davis neighborhood community. Curated by Professor Timothy McNeil and guest curator Adrienne McGraw\, the installation showcases the vision\, concepts\, and development behind the project and its goals. This ground-breaking exhibition will feature original objects\, archival photographs\, plans and drawings\, a part-built section of a typical 1970s house in Village Homes recreating a living space and demonstrating the passive solar features\, and an interactive three-dimensional site plan of the neighborhood’s unique landscape. Other highlights include a 30-minute documentary film about the community.
URL:https://artsalliancedavis.org/event/village-homes-a-radical-plan-46/
LOCATION:UC Davis Design Museum\, Cruess Hall\, #124\, Davis\, 95616\, United States
CATEGORIES:Community
ATTACH;FMTTYPE=image/jpeg:https://artsalliancedavis.org/wp-content/uploads/2025/12/Aerial-view-of-Village-Homes-late-1970s-phot-from-Judy-Corbett-Archive-scaled-komRbD.jpg
END:VEVENT
BEGIN:VEVENT
DTSTART;TZID=America/Los_Angeles:20260326T120000
DTEND;TZID=America/Los_Angeles:20260326T160000
DTSTAMP:20260423T144618
CREATED:20251226T161453Z
LAST-MODIFIED:20251226T161453Z
UID:22958-1774526400-1774540800@artsalliancedavis.org
SUMMARY:Village Homes: A Radical Plan
DESCRIPTION:“Village Homes: A Radical Plan” celebrates the 50th anniversary of an innovative west Davis neighborhood community. Curated by Professor Timothy McNeil and guest curator Adrienne McGraw\, the installation showcases the vision\, concepts\, and development behind the project and its goals. This ground-breaking exhibition will feature original objects\, archival photographs\, plans and drawings\, a part-built section of a typical 1970s house in Village Homes recreating a living space and demonstrating the passive solar features\, and an interactive three-dimensional site plan of the neighborhood’s unique landscape. Other highlights include a 30-minute documentary film about the community.
URL:https://artsalliancedavis.org/event/village-homes-a-radical-plan-47/
LOCATION:UC Davis Design Museum\, Cruess Hall\, #124\, Davis\, 95616\, United States
CATEGORIES:Community
ATTACH;FMTTYPE=image/jpeg:https://artsalliancedavis.org/wp-content/uploads/2025/12/Aerial-view-of-Village-Homes-late-1970s-phot-from-Judy-Corbett-Archive-scaled-komRbD.jpg
END:VEVENT
BEGIN:VEVENT
DTSTART;TZID=America/Los_Angeles:20260330T120000
DTEND;TZID=America/Los_Angeles:20260330T160000
DTSTAMP:20260423T144618
CREATED:20251230T171330Z
LAST-MODIFIED:20251230T171330Z
UID:22977-1774872000-1774886400@artsalliancedavis.org
SUMMARY:Village Homes: A Radical Plan
DESCRIPTION:“Village Homes: A Radical Plan” celebrates the 50th anniversary of an innovative west Davis neighborhood community. Curated by Professor Timothy McNeil and guest curator Adrienne McGraw\, the installation showcases the vision\, concepts\, and development behind the project and its goals. This ground-breaking exhibition will feature original objects\, archival photographs\, plans and drawings\, a part-built section of a typical 1970s house in Village Homes recreating a living space and demonstrating the passive solar features\, and an interactive three-dimensional site plan of the neighborhood’s unique landscape. Other highlights include a 30-minute documentary film about the community.
URL:https://artsalliancedavis.org/event/village-homes-a-radical-plan-48/
LOCATION:UC Davis Design Museum\, Cruess Hall\, #124\, Davis\, 95616\, United States
CATEGORIES:Community
ATTACH;FMTTYPE=image/jpeg:https://artsalliancedavis.org/wp-content/uploads/2025/12/Aerial-view-of-Village-Homes-late-1970s-phot-from-Judy-Corbett-Archive-scaled-komRbD.jpg
END:VEVENT
BEGIN:VEVENT
DTSTART;TZID=America/Los_Angeles:20260331T120000
DTEND;TZID=America/Los_Angeles:20260331T160000
DTSTAMP:20260423T144618
CREATED:20251231T172850Z
LAST-MODIFIED:20251231T172850Z
UID:23015-1774958400-1774972800@artsalliancedavis.org
SUMMARY:Village Homes: A Radical Plan
DESCRIPTION:“Village Homes: A Radical Plan” celebrates the 50th anniversary of an innovative west Davis neighborhood community. Curated by Professor Timothy McNeil and guest curator Adrienne McGraw\, the installation showcases the vision\, concepts\, and development behind the project and its goals. This ground-breaking exhibition will feature original objects\, archival photographs\, plans and drawings\, a part-built section of a typical 1970s house in Village Homes recreating a living space and demonstrating the passive solar features\, and an interactive three-dimensional site plan of the neighborhood’s unique landscape. Other highlights include a 30-minute documentary film about the community.
URL:https://artsalliancedavis.org/event/village-homes-a-radical-plan-50/
LOCATION:UC Davis Design Museum\, Cruess Hall\, #124\, Davis\, 95616\, United States
CATEGORIES:Community
ATTACH;FMTTYPE=image/jpeg:https://artsalliancedavis.org/wp-content/uploads/2025/12/Aerial-view-of-Village-Homes-late-1970s-phot-from-Judy-Corbett-Archive-scaled-komRbD.jpg
END:VEVENT
END:VCALENDAR