BEGIN:VCALENDAR
VERSION:2.0
PRODID:-//Arts Alliance Davis - ECPv6.15.20//NONSGML v1.0//EN
CALSCALE:GREGORIAN
METHOD:PUBLISH
X-ORIGINAL-URL:https://artsalliancedavis.org
X-WR-CALDESC:Events for Arts Alliance Davis
REFRESH-INTERVAL;VALUE=DURATION:PT1H
X-Robots-Tag:noindex
X-PUBLISHED-TTL:PT1H
BEGIN:VTIMEZONE
TZID:America/Los_Angeles
BEGIN:DAYLIGHT
TZOFFSETFROM:-0800
TZOFFSETTO:-0700
TZNAME:PDT
DTSTART:20250309T100000
END:DAYLIGHT
BEGIN:STANDARD
TZOFFSETFROM:-0700
TZOFFSETTO:-0800
TZNAME:PST
DTSTART:20251102T090000
END:STANDARD
BEGIN:DAYLIGHT
TZOFFSETFROM:-0800
TZOFFSETTO:-0700
TZNAME:PDT
DTSTART:20260308T100000
END:DAYLIGHT
BEGIN:STANDARD
TZOFFSETFROM:-0700
TZOFFSETTO:-0800
TZNAME:PST
DTSTART:20261101T090000
END:STANDARD
BEGIN:DAYLIGHT
TZOFFSETFROM:-0800
TZOFFSETTO:-0700
TZNAME:PDT
DTSTART:20270314T100000
END:DAYLIGHT
BEGIN:STANDARD
TZOFFSETFROM:-0700
TZOFFSETTO:-0800
TZNAME:PST
DTSTART:20271107T090000
END:STANDARD
END:VTIMEZONE
BEGIN:VEVENT
DTSTART;TZID=America/Los_Angeles:20260207T140000
DTEND;TZID=America/Los_Angeles:20260207T160000
DTSTAMP:20260423T174715
CREATED:20260112T200938Z
LAST-MODIFIED:20260112T200938Z
UID:23142-1770472800-1770480000@artsalliancedavis.org
SUMMARY:Artisan Truffle-Making Class
DESCRIPTION:🍫 Artisan Truffle-Making Class at Great Bear Vineyards 🍷\nSaturday\, February 7th | 2pm\nTicket includes guided truffle-making class\, all materials\, and a take-home box of artisan truffles. \nChocolate lovers—this one’s for you. Step into a cozy afternoon of indulgence\, creativity\, and just a little magic with our Artisan Truffle-Making Class\, hosted at Great Bear Vineyards in collaboration with our beloved local chocolatier and co-owner of The Chocolate Bar Davis. \nIn this relaxed\, beginner-friendly experience\, you’ll learn how to make classic French truffles from scratch. You’ll start with a silky\, luxurious ganache\, then roll\, shape\, and finish your own elegant chocolates by hand. Along the way\, you’ll pick up professional tips\, techniques\, and easy variations you can recreate at home (fair warning: friends may start requesting these). \nThe vibe is social\, warm\, and unhurried—perfect whether you’re coming solo\, with friends\, or sharing the experience with someone special. Your handmade truffles will be boxed up to take home\, making them a meaningful gift for friends or family\, a perfect Valentine’s treat…or something sweet you create together.\nNo experience needed—just curiosity and a love of chocolate. We’ll take care of the rest 🍫✨ \nDetails\n• 2-hour guided\, hands-on class\n• Beginner-friendly\n• All materials and packaging included\n• Take home your own batch of artisan truffles\n• $75 per person \nOptional Enhancements\n• Glass of Great Bear wine — $10\n• Bottle of wine — $38\n• Bottle of sparkling — $57.50 \nWhether you’re celebrating love\, friendship\, or simply the joy of learning something delicious\, this is a beautiful way to spend a February afternoon at Great Bear Vineyards. 🍷💝
URL:https://artsalliancedavis.org/event/artisan-truffle-making-class/
LOCATION:Great Bear Vineyards (Great Bear)\, 24800 County Rd 101A
CATEGORIES:Food & Drink
ATTACH;FMTTYPE=image/png:https://artsalliancedavis.org/wp-content/uploads/2026/01/2-7-26-Thumbnail-7UHb9b.png
ORGANIZER;CN="Great Bear Vineyards":MAILTO:greatbearvineyards@gmail.com
END:VEVENT
BEGIN:VEVENT
DTSTART;TZID=America/Los_Angeles:20260214T120000
DTEND;TZID=America/Los_Angeles:20260214T170000
DTSTAMP:20260423T174715
CREATED:20260112T201140Z
LAST-MODIFIED:20260112T201140Z
UID:23158-1771070400-1771088400@artsalliancedavis.org
SUMMARY:Chocolate & Wine Pairing
DESCRIPTION:🍫❤️ Chocolate & Wine Pairing at Great Bear Vineyards 🍷✨\nSaturday\, February 14 | 12–5pm\nTicket includes a Chocolate & Wine Paired Tasting — or a Non-Alcoholic Paired Tasting \nLove comes in many forms—and we’re celebrating all of them. Join us at Great Bear Vineyards for a deliciously indulgent Chocolate & Wine Pairing\, perfect for Valentine’s Day\, Galentine’s gatherings\, or simply treating yourself to a beautiful afternoon. \nWe’ve paired our estate-grown\, organically farmed wines with artisan chocolates from The Chocolate Bar Davis\, a local favorite known for rich flavors\, silky textures\, and thoughtfully crafted confections. Each pairing is designed to highlight contrast\, harmony\, and pure joy in every sip and bite. \nWhether you’re toasting romance\, friendship\, or your deep love of chocolate (valid)\, this is an experience meant to be savored slowly and shared generously. \nChocolate & Wine Pairing Lineup:\n• White Chocolate + Sparkling Wine – elegant\, creamy\, and celebratory\n• Caramel Orange Truffle + Red Blend – citrus-kissed indulgence meets velvety depth\n• Gingerbread Truffle + White Port-Style Dessert Wine – warm spice with a comforting finish\n• Raspberry Truffle + Red Port – bright berry notes and luscious richness \nNon-Alcoholic Pairing Lineup:\n• White Chocolate + Sparkling Raspberry Rosé Mocktail\n• Caramel Orange Truffle + Cranberry\, Hibiscus & Ginger Fauxmosa\n• Gingerbread Truffle + Blood Orange & Elderflower “Mimosa”\n• Raspberry Truffle + Blackberry Hibiscus Bellini \nArtisan chocolates will be available for purchase—perfect for gifting\, sharing\, or saving for later (no judgment). Pair them with a favorite bottle of Great Bear wine and you’ve got an effortlessly thoughtful Valentine’s or Galentine’s treat. \nCome for the chocolate\, stay for the love\, and celebrate the sweetest day of the year with us 🍫🍷💕
URL:https://artsalliancedavis.org/event/chocolate-wine-pairing-9/
LOCATION:Great Bear Vineyards (Great Bear)\, 24800 County Rd 101A
CATEGORIES:Food & Drink
ATTACH;FMTTYPE=image/png:https://artsalliancedavis.org/wp-content/uploads/2026/01/2-14-26-Thumbnail-OME44U.png
ORGANIZER;CN="Great Bear Vineyards":MAILTO:greatbearvineyards@gmail.com
END:VEVENT
END:VCALENDAR