BEGIN:VCALENDAR
VERSION:2.0
PRODID:-//Arts Alliance Davis - ECPv6.15.20//NONSGML v1.0//EN
CALSCALE:GREGORIAN
METHOD:PUBLISH
X-ORIGINAL-URL:https://artsalliancedavis.org
X-WR-CALDESC:Events for Arts Alliance Davis
REFRESH-INTERVAL;VALUE=DURATION:PT1H
X-Robots-Tag:noindex
X-PUBLISHED-TTL:PT1H
BEGIN:VTIMEZONE
TZID:America/Los_Angeles
BEGIN:DAYLIGHT
TZOFFSETFROM:-0800
TZOFFSETTO:-0700
TZNAME:PDT
DTSTART:20230312T100000
END:DAYLIGHT
BEGIN:STANDARD
TZOFFSETFROM:-0700
TZOFFSETTO:-0800
TZNAME:PST
DTSTART:20231105T090000
END:STANDARD
BEGIN:DAYLIGHT
TZOFFSETFROM:-0800
TZOFFSETTO:-0700
TZNAME:PDT
DTSTART:20240310T100000
END:DAYLIGHT
BEGIN:STANDARD
TZOFFSETFROM:-0700
TZOFFSETTO:-0800
TZNAME:PST
DTSTART:20241103T090000
END:STANDARD
BEGIN:DAYLIGHT
TZOFFSETFROM:-0800
TZOFFSETTO:-0700
TZNAME:PDT
DTSTART:20250309T100000
END:DAYLIGHT
BEGIN:STANDARD
TZOFFSETFROM:-0700
TZOFFSETTO:-0800
TZNAME:PST
DTSTART:20251102T090000
END:STANDARD
END:VTIMEZONE
BEGIN:VEVENT
DTSTART;TZID=America/Los_Angeles:20241224T150000
DTEND;TZID=America/Los_Angeles:20241224T170000
DTSTAMP:20260424T172942
CREATED:20241206T113718Z
LAST-MODIFIED:20241206T113718Z
UID:16441-1735052400-1735059600@artsalliancedavis.org
SUMMARY:39th Annual Christmas Eve Holiday Meal
DESCRIPTION:The 39th Annual Christmas Eve Holiday Meal is right around the corner! \nWhether you’re a small family\, couple\, or solo\, you don’t have to feel alone this Christmas. Join us on Christmas Eve for a free hot dinner with your neighbors. \n12/24/24 | Davis Veterans Memorial Center | 203 E 14th St\, Davis | 3-5pm \nThe Holiday Meal wouldn’t happen without support from fellow local businesses and community members. If you’re feeling inspired to join our effort to make Davis a little less lonely this holiday season\, visit davisfood.coop to sign up to volunteer at the meal or donate.
URL:https://artsalliancedavis.org/event/39th-annual-christmas-eve-holiday-meal/
LOCATION:Davis Veterans Memorial Center\, 203 East 14th Street\, Davis\, CA\, 95616
CATEGORIES:Food & Drink
ATTACH;FMTTYPE=image/jpeg:https://artsalliancedavis.org/wp-content/uploads/2024/12/Holiday-Meal-2024-Social-Media-scaled-3YK4uz.tmp_.jpg
ORGANIZER;CN="Davis Food Co-op":MAILTO:cciganovich@davisfood.coop
END:VEVENT
END:VCALENDAR