BEGIN:VCALENDAR
VERSION:2.0
PRODID:-//Arts Alliance Davis - ECPv6.15.20//NONSGML v1.0//EN
CALSCALE:GREGORIAN
METHOD:PUBLISH
X-WR-CALNAME:Arts Alliance Davis
X-ORIGINAL-URL:https://artsalliancedavis.org
X-WR-CALDESC:Events for Arts Alliance Davis
REFRESH-INTERVAL;VALUE=DURATION:PT1H
X-Robots-Tag:noindex
X-PUBLISHED-TTL:PT1H
BEGIN:VTIMEZONE
TZID:America/Los_Angeles
BEGIN:DAYLIGHT
TZOFFSETFROM:-0800
TZOFFSETTO:-0700
TZNAME:PDT
DTSTART:20250309T100000
END:DAYLIGHT
BEGIN:STANDARD
TZOFFSETFROM:-0700
TZOFFSETTO:-0800
TZNAME:PST
DTSTART:20251102T090000
END:STANDARD
BEGIN:DAYLIGHT
TZOFFSETFROM:-0800
TZOFFSETTO:-0700
TZNAME:PDT
DTSTART:20260308T100000
END:DAYLIGHT
BEGIN:STANDARD
TZOFFSETFROM:-0700
TZOFFSETTO:-0800
TZNAME:PST
DTSTART:20261101T090000
END:STANDARD
BEGIN:DAYLIGHT
TZOFFSETFROM:-0800
TZOFFSETTO:-0700
TZNAME:PDT
DTSTART:20270314T100000
END:DAYLIGHT
BEGIN:STANDARD
TZOFFSETFROM:-0700
TZOFFSETTO:-0800
TZNAME:PST
DTSTART:20271107T090000
END:STANDARD
END:VTIMEZONE
BEGIN:VEVENT
DTSTART;TZID=America/Los_Angeles:20260306T170000
DTEND;TZID=America/Los_Angeles:20260306T190000
DTSTAMP:20260423T120905
CREATED:20260222T185127Z
LAST-MODIFIED:20260222T185127Z
UID:23900-1772816400-1772823600@artsalliancedavis.org
SUMMARY:Friday Family Open Studio
DESCRIPTION:Looking for a space where you\, your family\, and even friends can have fun with art and creativity? Drop in at our Art Explorers: Family Open Studio! Explore an array of art materials\, such as paint\, oil pastels\, and recycled materials. Let your creative imagination run wild! (An adult must attend with at least one child\, and children must attend with an adult.) \nALL AGES
URL:https://artsalliancedavis.org/event/friday-family-open-studio-2/
LOCATION:1919 F St\, Davis CA\, 1919 F St\, Davis\, 95616\, United States
CATEGORIES:Art
ATTACH;FMTTYPE=image/png:https://artsalliancedavis.org/wp-content/uploads/2026/02/Family-Open-Studio-1-WIuUHT.png
ORGANIZER;CN="Davis Arts Center":MAILTO:office@davisartscenter.org
END:VEVENT
BEGIN:VEVENT
DTSTART;TZID=America/Los_Angeles:20260311T183000
DTEND;TZID=America/Los_Angeles:20260311T210000
DTSTAMP:20260423T120905
CREATED:20260203T134047Z
LAST-MODIFIED:20260203T134047Z
UID:23573-1773253800-1773262800@artsalliancedavis.org
SUMMARY:Figure Drawing at the Pence
DESCRIPTION:Figure Drawing Session\nWednesday\, March 11\, 6:30-9 PM\n$15 Members\, $22 Non-Members | Limited to 10 participants\nRegistration & payment is required in advance through the Pence’s website. \nWe hold self-guided figure drawing sessions with a nude model every 2nd & 4th Wednesday of the month\, from 6:30-9 PM. This group is for both experienced artists and amateurs to have an opportunity to draw from the nude model. If you have never drawn from a live model before and would like to join us\, you are very welcome! People of all skill levels\, ages 18 and up\, are welcome and encouraged to join. \nThis is not a class\, and no instruction is provided. The atmosphere is relaxed and non-competitive. Bring your own art materials\, and we’ll provide a comfortable place to sketch or paint live models in our upstairs classroom space. Participants will work independently through a warm up with shorter poses and longer\, twenty-minute poses. A staff member will be on-site to facilitate the group and to answer questions. \nRegister here: https://pencegallery.org/education/programs/figure-drawing/ \nJoin the Meetup group: https://www.meetup.com/davisfigure/
URL:https://artsalliancedavis.org/event/figure-drawing-at-the-pence-22/
LOCATION:Pence Gallery\, 212 D St\, Davis\, CA\, United States
CATEGORIES:Art
ATTACH;FMTTYPE=image/jpeg:https://artsalliancedavis.org/wp-content/uploads/2026/02/highres_470365809-N12vBl.jpg
ORGANIZER;CN="Pence Gallery":MAILTO:pencesocialmedia@gmail.com
END:VEVENT
BEGIN:VEVENT
DTSTART;TZID=America/Los_Angeles:20260313T170000
DTEND;TZID=America/Los_Angeles:20260313T190000
DTSTAMP:20260423T120905
CREATED:20260222T185251Z
LAST-MODIFIED:20260222T185251Z
UID:23904-1773421200-1773428400@artsalliancedavis.org
SUMMARY:Friday Family Open Studio
DESCRIPTION:Looking for a space where you\, your family\, and even friends can have fun with art and creativity? Drop in at our Art Explorers: Family Open Studio! Explore an array of art materials\, such as paint\, oil pastels\, and recycled materials. Let your creative imagination run wild! (An adult must attend with at least one child\, and children must attend with an adult.) \nALL AGES
URL:https://artsalliancedavis.org/event/friday-family-open-studio-3/
LOCATION:1919 F St\, Davis CA\, 1919 F St\, Davis\, 95616\, United States
CATEGORIES:Art
ATTACH;FMTTYPE=image/png:https://artsalliancedavis.org/wp-content/uploads/2026/02/Family-Open-Studio-1-WIuUHT.png
ORGANIZER;CN="Davis Arts Center":MAILTO:office@davisartscenter.org
END:VEVENT
BEGIN:VEVENT
DTSTART;TZID=America/Los_Angeles:20260320T170000
DTEND;TZID=America/Los_Angeles:20260320T190000
DTSTAMP:20260423T120905
CREATED:20260222T185412Z
LAST-MODIFIED:20260222T185412Z
UID:23909-1774026000-1774033200@artsalliancedavis.org
SUMMARY:Friday Family Open Studio
DESCRIPTION:Looking for a space where you\, your family\, and even friends can have fun with art and creativity? Drop in at our Art Explorers: Family Open Studio! Explore an array of art materials\, such as paint\, oil pastels\, and recycled materials. Let your creative imagination run wild! (An adult must attend with at least one child\, and children must attend with an adult.) \nALL AGES
URL:https://artsalliancedavis.org/event/friday-family-open-studio-4/
LOCATION:1919 F St\, Davis CA\, 1919 F St\, Davis\, 95616\, United States
CATEGORIES:Art
ATTACH;FMTTYPE=image/png:https://artsalliancedavis.org/wp-content/uploads/2026/02/Family-Open-Studio-1-WIuUHT.png
ORGANIZER;CN="Davis Arts Center":MAILTO:office@davisartscenter.org
END:VEVENT
BEGIN:VEVENT
DTSTART;TZID=America/Los_Angeles:20260323T090000
DTEND;TZID=America/Los_Angeles:20260323T130000
DTSTAMP:20260423T120905
CREATED:20260304T215204Z
LAST-MODIFIED:20260304T215204Z
UID:24087-1774256400-1774270800@artsalliancedavis.org
SUMMARY:Art Explorers: Spring into Art Camp
DESCRIPTION:Let’s make art! Join us for art adventures\, friendship\, and fun during Spring Break. Register for a variety of themed days exploring sculpture\, painting\, drawing\, and mixed media\, led by our amazing team of Teaching Artists. Davis Arts Center staff will guide campers in fun camp activities and outdoor play. All materials are provided\, just bring a water bottle\, snack\, and your creativity! Please note that the days are individual activities and can be registered for separately. \nAGES 6-12 \nPrice: $75/day
URL:https://artsalliancedavis.org/event/art-explorers-spring-into-art-camp-3/
LOCATION:1919 F St\, Davis CA\, 1919 F St\, Davis\, 95616\, United States
CATEGORIES:Art
ATTACH;FMTTYPE=image/png:https://artsalliancedavis.org/wp-content/uploads/2026/03/Spring-Break-Camp-2-ZqZRkP.png
ORGANIZER;CN="Davis Arts Center":MAILTO:office@davisartscenter.org
END:VEVENT
BEGIN:VEVENT
DTSTART;TZID=America/Los_Angeles:20260324T090000
DTEND;TZID=America/Los_Angeles:20260324T130000
DTSTAMP:20260423T120905
CREATED:20260304T215227Z
LAST-MODIFIED:20260304T215227Z
UID:24089-1774342800-1774357200@artsalliancedavis.org
SUMMARY:Art Explorers: Spring into Art Camp
DESCRIPTION:Let’s make art! Join us for art adventures\, friendship\, and fun during Spring Break. Register for a variety of themed days exploring sculpture\, painting\, drawing\, and mixed media\, led by our amazing team of Teaching Artists. Davis Arts Center staff will guide campers in fun camp activities and outdoor play. All materials are provided\, just bring a water bottle\, snack\, and your creativity! Please note that the days are individual activities and can be registered for separately. \nAGES 6-12 \nPrice: $75/day
URL:https://artsalliancedavis.org/event/art-explorers-spring-into-art-camp-4/
LOCATION:1919 F St\, Davis CA\, 1919 F St\, Davis\, 95616\, United States
CATEGORIES:Art
ATTACH;FMTTYPE=image/png:https://artsalliancedavis.org/wp-content/uploads/2026/03/Spring-Break-Camp-2-ZqZRkP.png
ORGANIZER;CN="Davis Arts Center":MAILTO:office@davisartscenter.org
END:VEVENT
BEGIN:VEVENT
DTSTART;TZID=America/Los_Angeles:20260325T090000
DTEND;TZID=America/Los_Angeles:20260325T130000
DTSTAMP:20260423T120905
CREATED:20260304T215243Z
LAST-MODIFIED:20260304T215243Z
UID:24090-1774429200-1774443600@artsalliancedavis.org
SUMMARY:Art Explorers: Spring into Art Camp
DESCRIPTION:Let’s make art! Join us for art adventures\, friendship\, and fun during Spring Break. Register for a variety of themed days exploring sculpture\, painting\, drawing\, and mixed media\, led by our amazing team of Teaching Artists. Davis Arts Center staff will guide campers in fun camp activities and outdoor play. All materials are provided\, just bring a water bottle\, snack\, and your creativity! Please note that the days are individual activities and can be registered for separately. \nAGES 6-12 \nPrice: $75/day
URL:https://artsalliancedavis.org/event/art-explorers-spring-into-art-camp-5/
LOCATION:1919 F St\, Davis CA\, 1919 F St\, Davis\, 95616\, United States
CATEGORIES:Art
ATTACH;FMTTYPE=image/png:https://artsalliancedavis.org/wp-content/uploads/2026/03/Spring-Break-Camp-2-ZqZRkP.png
ORGANIZER;CN="Davis Arts Center":MAILTO:office@davisartscenter.org
END:VEVENT
BEGIN:VEVENT
DTSTART;TZID=America/Los_Angeles:20260325T183000
DTEND;TZID=America/Los_Angeles:20260325T210000
DTSTAMP:20260423T120905
CREATED:20260203T134244Z
LAST-MODIFIED:20260203T134244Z
UID:23575-1774463400-1774472400@artsalliancedavis.org
SUMMARY:Figure Drawing at the Pence
DESCRIPTION:Figure Drawing Session\nWednesday\, March 25\, 6:30-9 PM\n$15 Members\, $22 Non-Members | Limited to 10 participants\nRegistration & payment is required in advance through the Pence’s website. \nWe hold self-guided figure drawing sessions with a nude model every 2nd & 4th Wednesday of the month\, from 6:30-9 PM. This group is for both experienced artists and amateurs to have an opportunity to draw from the nude model. If you have never drawn from a live model before and would like to join us\, you are very welcome! People of all skill levels\, ages 18 and up\, are welcome and encouraged to join. \nThis is not a class\, and no instruction is provided. The atmosphere is relaxed and non-competitive. Bring your own art materials\, and we’ll provide a comfortable place to sketch or paint live models in our upstairs classroom space. Participants will work independently through a warm up with shorter poses and longer\, twenty-minute poses. A staff member will be on-site to facilitate the group and to answer questions. \nRegister here: https://pencegallery.org/education/programs/figure-drawing/ \nJoin the Meetup group: https://www.meetup.com/davisfigure/
URL:https://artsalliancedavis.org/event/figure-drawing-at-the-pence-23/
LOCATION:Pence Gallery\, 212 D St\, Davis\, CA\, United States
CATEGORIES:Art
ATTACH;FMTTYPE=image/jpeg:https://artsalliancedavis.org/wp-content/uploads/2026/02/highres_470365809-1-zjat44.jpg
ORGANIZER;CN="Pence Gallery":MAILTO:pencesocialmedia@gmail.com
END:VEVENT
BEGIN:VEVENT
DTSTART;TZID=America/Los_Angeles:20260326T090000
DTEND;TZID=America/Los_Angeles:20260326T130000
DTSTAMP:20260423T120905
CREATED:20260304T215300Z
LAST-MODIFIED:20260304T215300Z
UID:24091-1774515600-1774530000@artsalliancedavis.org
SUMMARY:Art Explorers: Spring into Art Camp
DESCRIPTION:Let’s make art! Join us for art adventures\, friendship\, and fun during Spring Break. Register for a variety of themed days exploring sculpture\, painting\, drawing\, and mixed media\, led by our amazing team of Teaching Artists. Davis Arts Center staff will guide campers in fun camp activities and outdoor play. All materials are provided\, just bring a water bottle\, snack\, and your creativity! Please note that the days are individual activities and can be registered for separately. \nAGES 6-12 \nPrice: $75/day
URL:https://artsalliancedavis.org/event/art-explorers-spring-into-art-camp-6/
LOCATION:1919 F St\, Davis CA\, 1919 F St\, Davis\, 95616\, United States
CATEGORIES:Art
ATTACH;FMTTYPE=image/png:https://artsalliancedavis.org/wp-content/uploads/2026/03/Spring-Break-Camp-2-ZqZRkP.png
ORGANIZER;CN="Davis Arts Center":MAILTO:office@davisartscenter.org
END:VEVENT
BEGIN:VEVENT
DTSTART;TZID=America/Los_Angeles:20260327T090000
DTEND;TZID=America/Los_Angeles:20260327T130000
DTSTAMP:20260423T120905
CREATED:20260304T215315Z
LAST-MODIFIED:20260304T215315Z
UID:24092-1774602000-1774616400@artsalliancedavis.org
SUMMARY:Art Explorers: Spring into Art Camp
DESCRIPTION:Let’s make art! Join us for art adventures\, friendship\, and fun during Spring Break. Register for a variety of themed days exploring sculpture\, painting\, drawing\, and mixed media\, led by our amazing team of Teaching Artists. Davis Arts Center staff will guide campers in fun camp activities and outdoor play. All materials are provided\, just bring a water bottle\, snack\, and your creativity! Please note that the days are individual activities and can be registered for separately. \nAGES 6-12 \nPrice: $75/day
URL:https://artsalliancedavis.org/event/art-explorers-spring-into-art-camp-7/
LOCATION:1919 F St\, Davis CA\, 1919 F St\, Davis\, 95616\, United States
CATEGORIES:Art
ATTACH;FMTTYPE=image/png:https://artsalliancedavis.org/wp-content/uploads/2026/03/Spring-Break-Camp-2-ZqZRkP.png
ORGANIZER;CN="Davis Arts Center":MAILTO:office@davisartscenter.org
END:VEVENT
BEGIN:VEVENT
DTSTART;TZID=America/Los_Angeles:20260327T170000
DTEND;TZID=America/Los_Angeles:20260327T190000
DTSTAMP:20260423T120905
CREATED:20260222T185530Z
LAST-MODIFIED:20260222T185530Z
UID:23910-1774630800-1774638000@artsalliancedavis.org
SUMMARY:Friday Family Open Studio
DESCRIPTION:Looking for a space where you\, your family\, and even friends can have fun with art and creativity? Drop in at our Art Explorers: Family Open Studio! Explore an array of art materials\, such as paint\, oil pastels\, and recycled materials. Let your creative imagination run wild! (An adult must attend with at least one child\, and children must attend with an adult.) \nALL AGES
URL:https://artsalliancedavis.org/event/friday-family-open-studio-5/
LOCATION:1919 F St\, Davis CA\, 1919 F St\, Davis\, 95616\, United States
CATEGORIES:Art
ATTACH;FMTTYPE=image/png:https://artsalliancedavis.org/wp-content/uploads/2026/02/Family-Open-Studio-1-WIuUHT.png
ORGANIZER;CN="Davis Arts Center":MAILTO:office@davisartscenter.org
END:VEVENT
END:VCALENDAR