BEGIN:VCALENDAR
VERSION:2.0
PRODID:-//Arts Alliance Davis - ECPv6.15.20//NONSGML v1.0//EN
CALSCALE:GREGORIAN
METHOD:PUBLISH
X-WR-CALNAME:Arts Alliance Davis
X-ORIGINAL-URL:https://artsalliancedavis.org
X-WR-CALDESC:Events for Arts Alliance Davis
REFRESH-INTERVAL;VALUE=DURATION:PT1H
X-Robots-Tag:noindex
X-PUBLISHED-TTL:PT1H
BEGIN:VTIMEZONE
TZID:America/Los_Angeles
BEGIN:DAYLIGHT
TZOFFSETFROM:-0800
TZOFFSETTO:-0700
TZNAME:PDT
DTSTART:20240310T100000
END:DAYLIGHT
BEGIN:STANDARD
TZOFFSETFROM:-0700
TZOFFSETTO:-0800
TZNAME:PST
DTSTART:20241103T090000
END:STANDARD
BEGIN:DAYLIGHT
TZOFFSETFROM:-0800
TZOFFSETTO:-0700
TZNAME:PDT
DTSTART:20250309T100000
END:DAYLIGHT
BEGIN:STANDARD
TZOFFSETFROM:-0700
TZOFFSETTO:-0800
TZNAME:PST
DTSTART:20251102T090000
END:STANDARD
BEGIN:DAYLIGHT
TZOFFSETFROM:-0800
TZOFFSETTO:-0700
TZNAME:PDT
DTSTART:20260308T100000
END:DAYLIGHT
BEGIN:STANDARD
TZOFFSETFROM:-0700
TZOFFSETTO:-0800
TZNAME:PST
DTSTART:20261101T090000
END:STANDARD
END:VTIMEZONE
BEGIN:VEVENT
DTSTART;TZID=America/Los_Angeles:20250401T183000
DTEND;TZID=America/Los_Angeles:20250401T223000
DTSTAMP:20260424T060216
CREATED:20250114T133715Z
LAST-MODIFIED:20250114T133715Z
UID:17132-1743532200-1743546600@artsalliancedavis.org
SUMMARY:Banff Mountain Film Festival Night 1
DESCRIPTION:Rocknasium is excited to host another year of the Banff Mountain Film Festival world tour with TWO showings! The evening will feature multiple award-winning films that explore adventure\, environmental issues\, and action sports. There will be a prize draw during intermission with prizes from Banff international sponsors & local Davis sponsors! \n 
URL:https://artsalliancedavis.org/event/banff-mountain-film-festival-night-1/
LOCATION:Richard Brunelle Performance Hall\, 315 W 14th Street\, Davis\, CA\, 95616\, United States
CATEGORIES:Community,Screen,Sports
ATTACH;FMTTYPE=image/jpeg:https://artsalliancedavis.org/wp-content/uploads/2025/01/WT-NA-Square-1080x1080_24-CHZuEz.tmp_.jpg
END:VEVENT
BEGIN:VEVENT
DTSTART;TZID=America/Los_Angeles:20250402T183000
DTEND;TZID=America/Los_Angeles:20250402T223000
DTSTAMP:20260424T060216
CREATED:20250114T133730Z
LAST-MODIFIED:20250114T133730Z
UID:17134-1743618600-1743633000@artsalliancedavis.org
SUMMARY:Banff Mountain Film Festival Night 2
DESCRIPTION:Rocknasium is excited to host another year of the Banff Mountain Film Festival world tour with TWO showings! The evening will feature showings of multiple award-winning films that explore adventure\, environmental issues\, and action sports. There will be a prize draw during intermission with prizes from Banff international sponsors & Davis local sponsors!
URL:https://artsalliancedavis.org/event/banff-mountain-film-festival-night-2/
LOCATION:Richard Brunelle Performance Hall\, 315 W 14th Street\, Davis\, CA\, 95616\, United States
CATEGORIES:Community,Screen,Sports
ATTACH;FMTTYPE=image/jpeg:https://artsalliancedavis.org/wp-content/uploads/2025/01/WT-NA-Square-1080x1080_24-1-pMbAd8.tmp_.jpg
END:VEVENT
BEGIN:VEVENT
DTSTART;TZID=America/Los_Angeles:20250409T180000
DTEND;TZID=America/Los_Angeles:20250409T200000
DTSTAMP:20260424T060216
CREATED:20250405T114602Z
LAST-MODIFIED:20250405T114602Z
UID:18785-1744221600-1744228800@artsalliancedavis.org
SUMMARY:Davis Electric Vehicle Association Meeting at Davis Food Co-op April 9th
DESCRIPTION:Stop and shop at the Davis Electric Vehicle Association Meeting; at the Davis Food Co-op! We will gather at the south side patio of the Co-op\, seating is available but bring a chair just in case! EV display parking will be next to the patio area with additional parking available on the premises. Virtual viewing is available for those who can’t make it. \n\nCool Davis is the Davis Food Coop’s featured “Round Up” organization for the April “Earth Month”  where people round up to the nearest dollar at checkout to contribute. Take out food and beverage is available to purchase at the Co-op for attendees. Round Up and Cool Down with Cool Davis!\n[Register Here!]\n**Event Details:**\n– Date: Wednesday\, April 9th \n– Time: 6:00pm-8:00pm \n– Location: Davis Food Co-op – 620 G St. Davis\, CA 95616 \nAGENDA\n\n5:30pm-6:00pm\n\nSet up and informal arrivals\n\n\n6:00pm-6:30pm\n\nYolo Commute: Programs\, Update on Downtown Davis Business Association\, Q&A\n\n\n6:30-7:00pm\n\nSPIN: Spin in Davis\, Q&A\n\n\n7:00pm-8:00pm\n\nEV presentations and show & tell\nKen’s Bike Ski e-bike display\nSPIN e-bike & e-scooter test rides
URL:https://artsalliancedavis.org/event/davis-electric-vehicle-association-meeting-at-davis-food-co-op-april-9th/
LOCATION:Davis Food Co-op Patio
CATEGORIES:Featured,Food & Drink
ATTACH;FMTTYPE=image/jpeg:https://artsalliancedavis.org/wp-content/uploads/2025/04/DSC_2368-rSvTzF.tmp_.jpg
ORGANIZER;CN="Cool Davis":MAILTO:newseditor@cooldavis.org
END:VEVENT
END:VCALENDAR