BEGIN:VCALENDAR
VERSION:2.0
PRODID:-//Arts Alliance Davis - ECPv6.15.20//NONSGML v1.0//EN
CALSCALE:GREGORIAN
METHOD:PUBLISH
X-ORIGINAL-URL:https://artsalliancedavis.org
X-WR-CALDESC:Events for Arts Alliance Davis
REFRESH-INTERVAL;VALUE=DURATION:PT1H
X-Robots-Tag:noindex
X-PUBLISHED-TTL:PT1H
BEGIN:VTIMEZONE
TZID:America/Los_Angeles
BEGIN:DAYLIGHT
TZOFFSETFROM:-0800
TZOFFSETTO:-0700
TZNAME:PDT
DTSTART:20240310T100000
END:DAYLIGHT
BEGIN:STANDARD
TZOFFSETFROM:-0700
TZOFFSETTO:-0800
TZNAME:PST
DTSTART:20241103T090000
END:STANDARD
BEGIN:DAYLIGHT
TZOFFSETFROM:-0800
TZOFFSETTO:-0700
TZNAME:PDT
DTSTART:20250309T100000
END:DAYLIGHT
BEGIN:STANDARD
TZOFFSETFROM:-0700
TZOFFSETTO:-0800
TZNAME:PST
DTSTART:20251102T090000
END:STANDARD
BEGIN:DAYLIGHT
TZOFFSETFROM:-0800
TZOFFSETTO:-0700
TZNAME:PDT
DTSTART:20260308T100000
END:DAYLIGHT
BEGIN:STANDARD
TZOFFSETFROM:-0700
TZOFFSETTO:-0800
TZNAME:PST
DTSTART:20261101T090000
END:STANDARD
END:VTIMEZONE
BEGIN:VEVENT
DTSTART;TZID=America/Los_Angeles:20250503T090000
DTEND;TZID=America/Los_Angeles:20250503T120000
DTSTAMP:20260424T042423
CREATED:20250417T171535Z
LAST-MODIFIED:20250417T171535Z
UID:18973-1746262800-1746273600@artsalliancedavis.org
SUMMARY:A Weekend of Tule Teachings with Diana Almendariz and Family
DESCRIPTION:Join us for a weekend of Tule Teachings\, led by Diana Almendariz and her daughters Christina Almendariz and Ooti Maxine. Through two free\, public events – a field trip and a hands-on workshop – they will introduce the community to the natural and cultural importance of tule\, and share their understanding of how tule has been – and can be again – interwoven into our land\, waterways and our lives\, through stories and touch. \nWhile rooted in Wintun ecology and culture\, learning to care for tule benefits all those who live alongside it. With this in mind\, Diana complements her cultural storytelling with scientific knowledge\, and encourages a holistic approach to learning where all compatible perspectives are encouraged to thrive. \nField Trip to the Yolo Bypass Wildlife Area | Suggested Donation please RSVP\nSaturday May 3\, 9 am-12pm\nCaravan begins at Yolo Bypass Wildlife Headquarters (45211 Co Rd 32B (aka Chiles Rd)\, Davis\, CA 95618). This auto-tour through the Yolo Bypass Wildlife Area will introduce participants to the natural ecology of these wetlands\, along with its plant\, animal\, insect\, and bird familiars. The caravan will stop at 2 locations for exploration and discussion with Diana and other knowledge keepers of the marsh. Space is limited\, so ride-shares and carpools are strongly encouraged. \nPlease complete our registration form so we may gather information on how to best accommodate the needs of our community members. Further instructions (including agenda\, what to bring\, etc) will be emailed to registrants closer to the event. \nPlease register for this event here: bit.ly/tulefieldtrip \nMaking with Tule Hands-on Workshop | Suggested Donation please RSVP\nSunday\, May 4\, 3-6pm\nInternational House Davis\, backyard\nThe workshop will introduce participants to how tule has been used historically by Native Californian peoples\, and how we might care for it so it can take care of us. Created for beginners\, the workshop will help you feel comfortable with handling and using tule for making cordage and/or dolls. Light refreshments will be provided. \nPlease register for this event here: bit.ly/tuleteaching \nBios: \nDiana Almendariz is a naturalist\, culture-bearer\, storyteller\, and visual artist who has been working on the cultural and ecological revival and restoration of her Wintun homeland for over three decades. Her practice includes storytelling\, land-based pedagogy\, and traditional arts such as basket-weaving\, boat-making\, and more. She has been passing on this knowledge to her daughters who are accomplished cultural workers themselves. \nChristina is a Native Californian cultural practitioner of Maidu/Wintun/Hupa and Yurok heritage\, a Montessori teacher and mother of five\, who is passionate about nurturing the next generation of environmental stewards. \nOoti Maxine is a cultural practitioner and a visual artist\, who has grown up in her Maidu homeland in Sacramento\, and speaks of the many influences that shape contemporary life for Native Californians. \nThis project is a partnership of the YoloSol Collective\, the International House Davis\, the Yolo Basin Foundation\, and the California Department of Fish and Wildlife. This project has been made possible in part by a grant from the Alliance for California Traditional Arts\, in partnership with the California Arts Council\, a state agency\, the Walter & Elise Haas Fund\, and the William and Flora Hewlett Foundation\, and with support from Imagining America.
URL:https://artsalliancedavis.org/event/a-weekend-of-tule-teachings-with-diana-almendariz-and-family/
LOCATION:International House (I-House)\, 10 College Pk.
CATEGORIES:Art,Bring the Kids,Community,Outside
ATTACH;FMTTYPE=image/jpeg:https://artsalliancedavis.org/wp-content/uploads/2025/04/Website-1-5bP0BD.tmp_.jpg
ORGANIZER;CN="International House Davis":MAILTO:shahzana@ihousedavis.org
END:VEVENT
BEGIN:VEVENT
DTSTART;TZID=America/Los_Angeles:20250503T093000
DTEND;TZID=America/Los_Angeles:20250503T150000
DTSTAMP:20260424T042423
CREATED:20250404T112307Z
LAST-MODIFIED:20250404T112307Z
UID:18751-1746264600-1746284400@artsalliancedavis.org
SUMMARY:Gardens Gone Native Tour
DESCRIPTION:The Sacramento Valley Chapter of the California Native Plant Society (CNPS) is once again sponsoring a free\, in-person\, self-guided native garden tour on Saturday\, May 3\, 2025. There will be approximately 30 gardens on display featuring California native plants; garden designs; plants for sun\, shade\, or a combination; and small spaces\, large lots\, and everything in between. Various local native plant nurseries/vendors will also be present at select gardens. Join us on the 2025 Gardens Gone Native Garden Tour – bring a friend or two\, or make it a family outing! \nThe tour supports the mission of the CNPS Sacramento Valley Chapter by raising awareness of the beauty and environmental functions of California’s diverse native plants. Our goal is to provide members of our community with the opportunity to view outstanding examples of native plant gardens\, promote the benefits and use of California natives in home and public gardens\, and provide information on how to plant and successfully grow native plants. Our hosts will have plants labeled with both their scientific and common names and will be available to answer questions the day of the tour. \nView our 2024 Good Day Sacramento segment embedded below or via https://youtu.be/SgSlMWuwSyE?si=FeDizKATzr2wTGdD. \nFollow us on Facebook and Instagram: @gardensgonenative \nWeb: https://www.sacvalleycnps.org/gardens-gone-native-tour/ \n#californianativeplants #canativeplantsociety #garden #gardening #gardensgonenative #gardentour #grownatives #homegrownhabitat #nativeplants #sacramento #sacvalleycnps #tour
URL:https://artsalliancedavis.org/event/gardens-gone-native-tour/
CATEGORIES:Outside
ATTACH;FMTTYPE=image/jpeg:https://artsalliancedavis.org/wp-content/uploads/2018/10/orange-white-aad-logo.jpg
END:VEVENT
BEGIN:VEVENT
DTSTART;TZID=America/Los_Angeles:20250504T150000
DTEND;TZID=America/Los_Angeles:20250504T180000
DTSTAMP:20260424T042423
CREATED:20250417T171606Z
LAST-MODIFIED:20250417T171606Z
UID:18975-1746370800-1746381600@artsalliancedavis.org
SUMMARY:A Weekend of Tule Teachings with Diana Almendariz and Family
DESCRIPTION:Join us for a weekend of Tule Teachings\, led by Diana Almendariz and her daughters Christina Almendariz and Ooti Maxine. Through two free\, public events – a field trip and a hands-on workshop – they will introduce the community to the natural and cultural importance of tule\, and share their understanding of how tule has been – and can be again – interwoven into our land\, waterways and our lives\, through stories and touch. \nWhile rooted in Wintun ecology and culture\, learning to care for tule benefits all those who live alongside it. With this in mind\, Diana complements her cultural storytelling with scientific knowledge\, and encourages a holistic approach to learning where all compatible perspectives are encouraged to thrive. \nField Trip to the Yolo Bypass Wildlife Area | Suggested Donation please RSVP\nSaturday May 3\, 9 am-12pm\nCaravan begins at Yolo Bypass Wildlife Headquarters (45211 Co Rd 32B (aka Chiles Rd)\, Davis\, CA 95618). This auto-tour through the Yolo Bypass Wildlife Area will introduce participants to the natural ecology of these wetlands\, along with its plant\, animal\, insect\, and bird familiars. The caravan will stop at 2 locations for exploration and discussion with Diana and other knowledge keepers of the marsh. Space is limited\, so ride-shares and carpools are strongly encouraged. \nPlease complete our registration form so we may gather information on how to best accommodate the needs of our community members. Further instructions (including agenda\, what to bring\, etc) will be emailed to registrants closer to the event. \nPlease register for this event here: bit.ly/tulefieldtrip \nMaking with Tule Hands-on Workshop | Suggested Donation please RSVP\nSunday\, May 4\, 3-6pm\nInternational House Davis\, backyard\nThe workshop will introduce participants to how tule has been used historically by Native Californian peoples\, and how we might care for it so it can take care of us. Created for beginners\, the workshop will help you feel comfortable with handling and using tule for making cordage and/or dolls. Light refreshments will be provided. \nPlease register for this event here: bit.ly/tuleteaching \nBios: \nDiana Almendariz is a naturalist\, culture-bearer\, storyteller\, and visual artist who has been working on the cultural and ecological revival and restoration of her Wintun homeland for over three decades. Her practice includes storytelling\, land-based pedagogy\, and traditional arts such as basket-weaving\, boat-making\, and more. She has been passing on this knowledge to her daughters who are accomplished cultural workers themselves. \nChristina is a Native Californian cultural practitioner of Maidu/Wintun/Hupa and Yurok heritage\, a Montessori teacher and mother of five\, who is passionate about nurturing the next generation of environmental stewards. \nOoti Maxine is a cultural practitioner and a visual artist\, who has grown up in her Maidu homeland in Sacramento\, and speaks of the many influences that shape contemporary life for Native Californians. \nThis project is a partnership of the YoloSol Collective\, the International House Davis\, the Yolo Basin Foundation\, and the California Department of Fish and Wildlife. This project has been made possible in part by a grant from the Alliance for California Traditional Arts\, in partnership with the California Arts Council\, a state agency\, the Walter & Elise Haas Fund\, and the William and Flora Hewlett Foundation\, and with support from Imagining America.
URL:https://artsalliancedavis.org/event/a-weekend-of-tule-teachings-with-diana-almendariz-and-family-2/
LOCATION:International House (I-House)\, 10 College Pk.
CATEGORIES:Art,Bring the Kids,Community,Outside
ATTACH;FMTTYPE=image/jpeg:https://artsalliancedavis.org/wp-content/uploads/2025/04/Website-1-5bP0BD.tmp_.jpg
ORGANIZER;CN="International House Davis":MAILTO:shahzana@ihousedavis.org
END:VEVENT
END:VCALENDAR