BEGIN:VCALENDAR
VERSION:2.0
PRODID:-//Arts Alliance Davis - ECPv6.15.20//NONSGML v1.0//EN
CALSCALE:GREGORIAN
METHOD:PUBLISH
X-ORIGINAL-URL:https://artsalliancedavis.org
X-WR-CALDESC:Events for Arts Alliance Davis
REFRESH-INTERVAL;VALUE=DURATION:PT1H
X-Robots-Tag:noindex
X-PUBLISHED-TTL:PT1H
BEGIN:VTIMEZONE
TZID:America/Los_Angeles
BEGIN:DAYLIGHT
TZOFFSETFROM:-0800
TZOFFSETTO:-0700
TZNAME:PDT
DTSTART:20240310T100000
END:DAYLIGHT
BEGIN:STANDARD
TZOFFSETFROM:-0700
TZOFFSETTO:-0800
TZNAME:PST
DTSTART:20241103T090000
END:STANDARD
BEGIN:DAYLIGHT
TZOFFSETFROM:-0800
TZOFFSETTO:-0700
TZNAME:PDT
DTSTART:20250309T100000
END:DAYLIGHT
BEGIN:STANDARD
TZOFFSETFROM:-0700
TZOFFSETTO:-0800
TZNAME:PST
DTSTART:20251102T090000
END:STANDARD
BEGIN:DAYLIGHT
TZOFFSETFROM:-0800
TZOFFSETTO:-0700
TZNAME:PDT
DTSTART:20260308T100000
END:DAYLIGHT
BEGIN:STANDARD
TZOFFSETFROM:-0700
TZOFFSETTO:-0800
TZNAME:PST
DTSTART:20261101T090000
END:STANDARD
END:VTIMEZONE
BEGIN:VEVENT
DTSTART;TZID=America/Los_Angeles:20251102T140000
DTEND;TZID=America/Los_Angeles:20251102T160000
DTSTAMP:20260423T203359
CREATED:20251022T154712Z
LAST-MODIFIED:20251022T154712Z
UID:21019-1762092000-1762099200@artsalliancedavis.org
SUMMARY:Fifth Annual Tree Davis Legacy Celebration
DESCRIPTION:Please join Tree Davis for the Fifth Annual Legacy Celebration event on Sunday\, November 2nd\, from 2 PM to 4 PM\, held at the Memorial Grove in West Davis. Each year\, Tree Davis recognizes individuals and groups that are making strides in greening efforts where we live\, work\, and play. This can include folks who care for trees\, spread awareness about urban forestry\, promote conservation efforts\, conduct research\, and more. Bring your friends and family to celebrate trees with us! RSVP appreciated\, see link. \nIf you are aware of a person\, group\, or tree that is deserving of recognition\, please fill out our nomination form on our website by 5 pm on Sunday\, October 10th\, 2025. For any questions about making a nomination\, please contact Yael Franco at executivedirector@treedavis.org
URL:https://artsalliancedavis.org/event/fifth-annual-tree-davis-legacy-celebration/
LOCATION:Tree Davis Memorial Grove\, 1515 Shasta Dr.\, Davis\, CA\, 95616\, United States
CATEGORIES:Community,Outside
ATTACH;FMTTYPE=image/jpeg:https://artsalliancedavis.org/wp-content/uploads/2025/10/unnamed-2-MuYnrO.jpg
ORGANIZER;CN="Tree Davis":MAILTO:erin@treedavis.org
END:VEVENT
BEGIN:VEVENT
DTSTART;TZID=America/Los_Angeles:20251106T173000
DTEND;TZID=America/Los_Angeles:20251106T190000
DTSTAMP:20260423T203359
CREATED:20251029T185214Z
LAST-MODIFIED:20251029T185214Z
UID:21861-1762450200-1762455600@artsalliancedavis.org
SUMMARY:Abundance in the Age of Constraint
DESCRIPTION:UC Davis Association of Environmental Professionals is welcoming members of the community that work in the environmental field to our event for a night of conversation\, networking\, and mingling with other professionals\, students\, and our speakers. \nJoin us for an evening of interesting conversation as we navigate policy shifts in the environmental sector\, silver linings\, and strategies on how we move forward. The speakers will touch on SB 253 among other topics. \nDr. Sarah McCullough from the Feminist Research Institute will be the moderator for our panel discussion. Attendees will have a chance to interact with speakers and ask questions. \nRefreshments will be provided! Please RSVP Here: https://forms.gle/esyBhykFE8gbQpzz8
URL:https://artsalliancedavis.org/event/abundance-in-the-age-of-constraint/
LOCATION:Walker Hall
CATEGORIES:Books & Talks,Community,Science
ATTACH;FMTTYPE=image/png:https://artsalliancedavis.org/wp-content/uploads/2025/10/11.6.25-AEP-Updated-Event-Flyer-LZXMgj.png
END:VEVENT
BEGIN:VEVENT
DTSTART;TZID=America/Los_Angeles:20251108T090000
DTEND;TZID=America/Los_Angeles:20251108T120000
DTSTAMP:20260423T203359
CREATED:20251022T155000Z
LAST-MODIFIED:20251022T155000Z
UID:21052-1762592400-1762603200@artsalliancedavis.org
SUMMARY:John Barovetto Park Planting
DESCRIPTION:Join Tree Davis as we plant trees down the bike path behind John Barovetto Park! We will be digging tree holes\, planting trees\, and pounding support stakes. Please sign up on our website if you’re interested. \nPlease reach out to info@treedavis.org if you would like to sign up with a group of 10 volunteers or more. \nSafety – All volunteers must bring their own water\, snacks\, sun protection\, and wear closed toed shoes. We request that volunteers who are feeling ill in any form wait until they are fully recovered to participate in Tree Davis events.
URL:https://artsalliancedavis.org/event/john-barovetto-park-planting/
LOCATION:John Barovetto Park\, 4400 Alhambra Dr\, Davis\, CA\, 95616\, United States
CATEGORIES:Community,Outside
ATTACH;FMTTYPE=image/jpeg:https://artsalliancedavis.org/wp-content/uploads/2025/10/DSC_0146-1-scaled-Bqz5UR.jpg
ORGANIZER;CN="Tree Davis":MAILTO:erin@treedavis.org
END:VEVENT
BEGIN:VEVENT
DTSTART;TZID=America/Los_Angeles:20251108T140000
DTEND;TZID=America/Los_Angeles:20251108T160000
DTSTAMP:20260423T203359
CREATED:20251105T222114Z
LAST-MODIFIED:20251105T222114Z
UID:22046-1762610400-1762617600@artsalliancedavis.org
SUMMARY:Cool Davis Home Electrification Tours
DESCRIPTION:November 8th from 2-4 pm homeowners who are reducing their energy use and moving forward on removing fossil fuels from their homes and are exhibiting home electrification in their neighborhoods! \nGet the list of homes and be on our list for future tours. Also on site will be information about the City of Davis new Home Energy Score Pilot program and other Cool Solutions. Choose a home near you\, come ask questions\, talk to owners who have made these changes exhibiting home electrification in the neighborhood. \nRegister here: https://www.cooldavis.org/civicrm/event/register/?reset=1&id=349 \nHomeowners\, energy advisors and local contractors will be on site at four locations in Davis to advise neighbors on how they too can move forward now on their energy efficiency and climate resilience projects for their homes.
URL:https://artsalliancedavis.org/event/cool-davis-home-electrification-tours/
CATEGORIES:Community,Featured
ATTACH;FMTTYPE=image/png:https://artsalliancedavis.org/wp-content/uploads/2025/11/CoolDavis-logo-URL.720-xKBL12.png
ORGANIZER;CN="Cool Davis":MAILTO:newseditor@cooldavis.org
END:VEVENT
END:VCALENDAR