BEGIN:VCALENDAR
VERSION:2.0
PRODID:-//Arts Alliance Davis - ECPv6.15.20//NONSGML v1.0//EN
CALSCALE:GREGORIAN
METHOD:PUBLISH
X-WR-CALNAME:Arts Alliance Davis
X-ORIGINAL-URL:https://artsalliancedavis.org
X-WR-CALDESC:Events for Arts Alliance Davis
REFRESH-INTERVAL;VALUE=DURATION:PT1H
X-Robots-Tag:noindex
X-PUBLISHED-TTL:PT1H
BEGIN:VTIMEZONE
TZID:America/Los_Angeles
BEGIN:DAYLIGHT
TZOFFSETFROM:-0800
TZOFFSETTO:-0700
TZNAME:PDT
DTSTART:20240310T100000
END:DAYLIGHT
BEGIN:STANDARD
TZOFFSETFROM:-0700
TZOFFSETTO:-0800
TZNAME:PST
DTSTART:20241103T090000
END:STANDARD
BEGIN:DAYLIGHT
TZOFFSETFROM:-0800
TZOFFSETTO:-0700
TZNAME:PDT
DTSTART:20250309T100000
END:DAYLIGHT
BEGIN:STANDARD
TZOFFSETFROM:-0700
TZOFFSETTO:-0800
TZNAME:PST
DTSTART:20251102T090000
END:STANDARD
BEGIN:DAYLIGHT
TZOFFSETFROM:-0800
TZOFFSETTO:-0700
TZNAME:PDT
DTSTART:20260308T100000
END:DAYLIGHT
BEGIN:STANDARD
TZOFFSETFROM:-0700
TZOFFSETTO:-0800
TZNAME:PST
DTSTART:20261101T090000
END:STANDARD
END:VTIMEZONE
BEGIN:VEVENT
DTSTART;TZID=America/Los_Angeles:20251206T090000
DTEND;TZID=America/Los_Angeles:20251206T120000
DTSTAMP:20260423T190132
CREATED:20251124T173941Z
LAST-MODIFIED:20251124T173941Z
UID:22379-1765011600-1765022400@artsalliancedavis.org
SUMMARY:Costa Verde Greenbelt Planting
DESCRIPTION:Join Tree Davis to plant trees around the Costa Verde Greenbelt! We will be digging tree holes\, planting trees\, and pounding support stakes. If you’re interested\, please register on our website. \nPlease reach out to info@treedavis.org if you would like to sign up with a group of 10 volunteers or more. \nSafety – All volunteers must bring their own water\, snacks\, sun protection\, and wear closed toed shoes. We request that volunteers who are feeling ill in any form wait until they are fully recovered to participate in Tree Davis events.
URL:https://artsalliancedavis.org/event/costa-verde-greenbelt-planting/
LOCATION:Costa Verde Greenbelt
CATEGORIES:Community
ATTACH;FMTTYPE=image/jpeg:https://artsalliancedavis.org/wp-content/uploads/2025/11/FullSizeRender-10-KJadOz.jpg
ORGANIZER;CN="Tree Davis":MAILTO:erin@treedavis.org
END:VEVENT
BEGIN:VEVENT
DTSTART;TZID=America/Los_Angeles:20251213T090000
DTEND;TZID=America/Los_Angeles:20251213T120000
DTSTAMP:20260423T190132
CREATED:20251129T185215Z
LAST-MODIFIED:20251129T185215Z
UID:22424-1765616400-1765627200@artsalliancedavis.org
SUMMARY:Lake Washington Boulevard Tree Planting
DESCRIPTION:Join Tree Davis to plant trees along Lake Washington Boulevard! We will be digging tree holes\, planting trees\, and pounding support stakes. If you’re interested\, please register on our website. \nPlease reach out to info@treedavis.org if you would like to sign up with a group of 10 volunteers or more. \nSafety – All volunteers must bring their own water\, snacks\, sun protection\, and wear closed toed shoes. We request that volunteers who are feeling ill in any form wait until they are fully recovered to participate in Tree Davis events.
URL:https://artsalliancedavis.org/event/lake-washington-boulevard-tree-planting/
LOCATION:Lake Washington Boulevard
CATEGORIES:Community
ATTACH;FMTTYPE=image/jpeg:https://artsalliancedavis.org/wp-content/uploads/2025/11/DSC_0012-2-G6rbDx.jpg
ORGANIZER;CN="Tree Davis":MAILTO:erin@treedavis.org
END:VEVENT
END:VCALENDAR