BEGIN:VCALENDAR
VERSION:2.0
PRODID:-//Arts Alliance Davis - ECPv6.15.20//NONSGML v1.0//EN
CALSCALE:GREGORIAN
METHOD:PUBLISH
X-ORIGINAL-URL:https://artsalliancedavis.org
X-WR-CALDESC:Events for Arts Alliance Davis
REFRESH-INTERVAL;VALUE=DURATION:PT1H
X-Robots-Tag:noindex
X-PUBLISHED-TTL:PT1H
BEGIN:VTIMEZONE
TZID:America/Los_Angeles
BEGIN:DAYLIGHT
TZOFFSETFROM:-0800
TZOFFSETTO:-0700
TZNAME:PDT
DTSTART:20240310T100000
END:DAYLIGHT
BEGIN:STANDARD
TZOFFSETFROM:-0700
TZOFFSETTO:-0800
TZNAME:PST
DTSTART:20241103T090000
END:STANDARD
BEGIN:DAYLIGHT
TZOFFSETFROM:-0800
TZOFFSETTO:-0700
TZNAME:PDT
DTSTART:20250309T100000
END:DAYLIGHT
BEGIN:STANDARD
TZOFFSETFROM:-0700
TZOFFSETTO:-0800
TZNAME:PST
DTSTART:20251102T090000
END:STANDARD
BEGIN:DAYLIGHT
TZOFFSETFROM:-0800
TZOFFSETTO:-0700
TZNAME:PDT
DTSTART:20260308T100000
END:DAYLIGHT
BEGIN:STANDARD
TZOFFSETFROM:-0700
TZOFFSETTO:-0800
TZNAME:PST
DTSTART:20261101T090000
END:STANDARD
END:VTIMEZONE
BEGIN:VEVENT
DTSTART;TZID=America/Los_Angeles:20250322T080000
DTEND;TZID=America/Los_Angeles:20250322T130000
DTSTAMP:20260424T192640
CREATED:20250321T191321Z
LAST-MODIFIED:20250321T191321Z
UID:18334-1742630400-1742648400@artsalliancedavis.org
SUMMARY:Cool Davis Home Energy Pop-up with Valley Clean Energy – Davis Farmers Market
DESCRIPTION:DAVIS FARMERS MARKET. Stop by the Cool Davis home energy pop up featuring Valley Clean Energy & their Electric Advisor service among other programs at the Davis Farmers Market; Saturday March 22nd! Learn first hand from Valley Clean Energy how you can utilize their programs! 8a – 1p.
URL:https://artsalliancedavis.org/event/cool-davis-home-energy-pop-up-with-valley-clean-energy-davis-farmers-market/
LOCATION:Davis Farmers Market\, 101 C St\, Davis\, CA\, United States
CATEGORIES:Community,Featured
ATTACH;FMTTYPE=image/png:https://artsalliancedavis.org/wp-content/uploads/2025/03/cool-davis-logo-2017-c9wcS7.tmp_.png
ORGANIZER;CN="Cool Davis":MAILTO:newseditor@cooldavis.org
END:VEVENT
END:VCALENDAR