BEGIN:VCALENDAR
VERSION:2.0
PRODID:-//Arts Alliance Davis - ECPv6.15.20//NONSGML v1.0//EN
CALSCALE:GREGORIAN
METHOD:PUBLISH
X-ORIGINAL-URL:https://artsalliancedavis.org
X-WR-CALDESC:Events for Arts Alliance Davis
REFRESH-INTERVAL;VALUE=DURATION:PT1H
X-Robots-Tag:noindex
X-PUBLISHED-TTL:PT1H
BEGIN:VTIMEZONE
TZID:America/Los_Angeles
BEGIN:DAYLIGHT
TZOFFSETFROM:-0800
TZOFFSETTO:-0700
TZNAME:PDT
DTSTART:20250309T100000
END:DAYLIGHT
BEGIN:STANDARD
TZOFFSETFROM:-0700
TZOFFSETTO:-0800
TZNAME:PST
DTSTART:20251102T090000
END:STANDARD
BEGIN:DAYLIGHT
TZOFFSETFROM:-0800
TZOFFSETTO:-0700
TZNAME:PDT
DTSTART:20260308T100000
END:DAYLIGHT
BEGIN:STANDARD
TZOFFSETFROM:-0700
TZOFFSETTO:-0800
TZNAME:PST
DTSTART:20261101T090000
END:STANDARD
BEGIN:DAYLIGHT
TZOFFSETFROM:-0800
TZOFFSETTO:-0700
TZNAME:PDT
DTSTART:20270314T100000
END:DAYLIGHT
BEGIN:STANDARD
TZOFFSETFROM:-0700
TZOFFSETTO:-0800
TZNAME:PST
DTSTART:20271107T090000
END:STANDARD
END:VTIMEZONE
BEGIN:VEVENT
DTSTART;TZID=America/Los_Angeles:20260321T100000
DTEND;TZID=America/Los_Angeles:20260321T160000
DTSTAMP:20260424T204628
CREATED:20260225T200004Z
LAST-MODIFIED:20260225T200004Z
UID:23987-1774087200-1774108800@artsalliancedavis.org
SUMMARY:TULEYOME SPRING THING – Woodland Regional Park Preserve
DESCRIPTION:TULEYOME SPRING THING\, co-hosted by the City of Woodland at the Woodland Regional Park Preserve (WRPP) is a FREE NATURE DAY for families and the community. On March 21st come and enjoy:\n• Live music at the pond stage from the Squirrels in the Attic String Band\, and guitar playing by the campfire\n• Walking tours of the Preserve for kids and adults\, including a bird walk\, a wetlands walk\, and an 11am performance of Superbird by Nature’s Theater\n• Kids receiving free loans of hiking boots through our Youth Boot Bank\n• A Haybale fort area\, a craft table and face painting\n• Booths and Storytelling about the historic rich plant life and wildlife of the region through to the present\, with inside stories of Tuleyome’s many conservation and wilderness access successes. Many interesting historical players and stunning imagery of what once existed in the region.\n• Eco-fortune telling with Madam Florabella\n• All day S’mores\, a food truck and more! \nTo sign up for the FREE event – go to Tuleyome.org and scroll to the events page – TULEYOME SPRING THING
URL:https://artsalliancedavis.org/event/tuleyome-spring-thing-woodland-regional-park-preserve/
LOCATION:Woodland Regional Park Preserve\, 20179 County Road 102\, Woodland\, CA\, 95776\, United States
CATEGORIES:Art,Bring the Kids,Community,Outside,Science
ATTACH;FMTTYPE=image/jpeg:https://artsalliancedavis.org/wp-content/uploads/2026/02/Spring-Thing-2025-kids-evjnNQ.jpg
ORGANIZER;CN="Tuleyome":MAILTO:bgrabert@tuleyome.org
END:VEVENT
BEGIN:VEVENT
DTSTART;VALUE=DATE:20260327
DTEND;VALUE=DATE:20260330
DTSTAMP:20260424T204628
CREATED:20260215T172625Z
LAST-MODIFIED:20260215T172625Z
UID:23770-1774569600-1774828799@artsalliancedavis.org
SUMMARY:YOLOFEST: A Weekend To Explore Yolo County
DESCRIPTION:A weekend to savor\, explore\, and celebrate Yolo County\, California \nJoin us as we welcome spring during a weekend-long celebration of everything that makes Yolo County unforgettable! \nBest known for its wine country\, Yolo County is also a must-visit destination for farm to table dining\, small town charm\, and of its calming sense of escape from the nearby hustle and bustle of city life. \nExplore the area’s top destinations\, shops\, experiences\, and more during YoloFest! \nVisit the event landing page to find events happening all weekend and lodging specials.
URL:https://artsalliancedavis.org/event/yolofest-a-weekend-to-explore-yolo-county/
LOCATION:Various Locations\, Yolo County\, United States
CATEGORIES:Community,Food & Drink,Music,Outside
ATTACH;FMTTYPE=image/jpeg:https://artsalliancedavis.org/wp-content/uploads/2026/02/YoloFest_Winters-XbTS8y.jpg
ORGANIZER;CN="Visit Yolo":MAILTO:info@visityolo.com
END:VEVENT
END:VCALENDAR