BEGIN:VCALENDAR
VERSION:2.0
PRODID:-//Arts Alliance Davis - ECPv6.15.20//NONSGML v1.0//EN
CALSCALE:GREGORIAN
METHOD:PUBLISH
X-WR-CALNAME:Arts Alliance Davis
X-ORIGINAL-URL:https://artsalliancedavis.org
X-WR-CALDESC:Events for Arts Alliance Davis
REFRESH-INTERVAL;VALUE=DURATION:PT1H
X-Robots-Tag:noindex
X-PUBLISHED-TTL:PT1H
BEGIN:VTIMEZONE
TZID:America/Los_Angeles
BEGIN:DAYLIGHT
TZOFFSETFROM:-0800
TZOFFSETTO:-0700
TZNAME:PDT
DTSTART:20240310T100000
END:DAYLIGHT
BEGIN:STANDARD
TZOFFSETFROM:-0700
TZOFFSETTO:-0800
TZNAME:PST
DTSTART:20241103T090000
END:STANDARD
BEGIN:DAYLIGHT
TZOFFSETFROM:-0800
TZOFFSETTO:-0700
TZNAME:PDT
DTSTART:20250309T100000
END:DAYLIGHT
BEGIN:STANDARD
TZOFFSETFROM:-0700
TZOFFSETTO:-0800
TZNAME:PST
DTSTART:20251102T090000
END:STANDARD
BEGIN:DAYLIGHT
TZOFFSETFROM:-0800
TZOFFSETTO:-0700
TZNAME:PDT
DTSTART:20260308T100000
END:DAYLIGHT
BEGIN:STANDARD
TZOFFSETFROM:-0700
TZOFFSETTO:-0800
TZNAME:PST
DTSTART:20261101T090000
END:STANDARD
END:VTIMEZONE
BEGIN:VEVENT
DTSTART;TZID=America/Los_Angeles:20250509T190000
DTEND;TZID=America/Los_Angeles:20250509T213000
DTSTAMP:20260424T063124
CREATED:20250507T113410Z
LAST-MODIFIED:20250507T113410Z
UID:19365-1746817200-1746826200@artsalliancedavis.org
SUMMARY:20th Davis Feminist Film Festival!
DESCRIPTION:The UC Davis Women’s Resources and Research Center is proud to present the twentieth annual Davis Feminist Film Festival\, co-sponsored this year by the Jan Shrem and Maria Manetti Shrem Museum of Art! Join us May 9 at 7pm and May 10 at 2pm for a screening of seventeen short films that celebrate this year’s theme\, unkempt: reclaiming the messiness of gender\, bodies\, and nature. A limited number of commemorative tote bags are available to guests! RSVP here to reserve a seat: https://tinyurl.com/dfff-2025 \nIf you have questions\, please contact us at femfilmfestdavis@gmail.com or on Instagram @femfilmfest and TikTok @davisfeministfilm. We look forward to seeing you!
URL:https://artsalliancedavis.org/event/20th-davis-feminist-film-festival/
LOCATION:Jan Shrem and Maria Manetti Shrem Museum of Art at UC Davis\, 254 Old Davis Road\, Davis\, California\, 95616
CATEGORIES:Screen
ATTACH;FMTTYPE=image/png:https://artsalliancedavis.org/wp-content/uploads/2025/05/DFFF-2025-full-sheet-green-3L3PYn.tmp_.png
END:VEVENT
BEGIN:VEVENT
DTSTART;TZID=America/Los_Angeles:20250510T140000
DTEND;TZID=America/Los_Angeles:20250510T163000
DTSTAMP:20260424T063124
CREATED:20250507T113448Z
LAST-MODIFIED:20250507T113448Z
UID:19367-1746885600-1746894600@artsalliancedavis.org
SUMMARY:20th Davis Feminist Film Festival!
DESCRIPTION:The UC Davis Women’s Resources and Research Center is proud to present the twentieth annual Davis Feminist Film Festival\, co-sponsored this year by the Jan Shrem and Maria Manetti Shrem Museum of Art! Join us May 9 at 7pm and May 10 at 2pm for a screening of seventeen short films that celebrate this year’s theme\, unkempt: reclaiming the messiness of gender\, bodies\, and nature. A limited number of commemorative tote bags are available to guests! RSVP here to reserve a seat: https://tinyurl.com/dfff-2025 \nIf you have questions\, please contact us at femfilmfestdavis@gmail.com or on Instagram @femfilmfest and TikTok @davisfeministfilm. We look forward to seeing you!
URL:https://artsalliancedavis.org/event/20th-davis-feminist-film-festival-2/
LOCATION:Jan Shrem and Maria Manetti Shrem Museum of Art at UC Davis\, 254 Old Davis Road\, Davis\, California\, 95616
CATEGORIES:Screen
ATTACH;FMTTYPE=image/png:https://artsalliancedavis.org/wp-content/uploads/2025/05/DFFF-2025-full-sheet-green-3L3PYn.tmp_.png
END:VEVENT
END:VCALENDAR