BEGIN:VCALENDAR
VERSION:2.0
PRODID:-//Arts Alliance Davis - ECPv6.15.20//NONSGML v1.0//EN
CALSCALE:GREGORIAN
METHOD:PUBLISH
X-ORIGINAL-URL:https://artsalliancedavis.org
X-WR-CALDESC:Events for Arts Alliance Davis
REFRESH-INTERVAL;VALUE=DURATION:PT1H
X-Robots-Tag:noindex
X-PUBLISHED-TTL:PT1H
BEGIN:VTIMEZONE
TZID:America/Los_Angeles
BEGIN:DAYLIGHT
TZOFFSETFROM:-0800
TZOFFSETTO:-0700
TZNAME:PDT
DTSTART:20240310T100000
END:DAYLIGHT
BEGIN:STANDARD
TZOFFSETFROM:-0700
TZOFFSETTO:-0800
TZNAME:PST
DTSTART:20241103T090000
END:STANDARD
BEGIN:DAYLIGHT
TZOFFSETFROM:-0800
TZOFFSETTO:-0700
TZNAME:PDT
DTSTART:20250309T100000
END:DAYLIGHT
BEGIN:STANDARD
TZOFFSETFROM:-0700
TZOFFSETTO:-0800
TZNAME:PST
DTSTART:20251102T090000
END:STANDARD
BEGIN:DAYLIGHT
TZOFFSETFROM:-0800
TZOFFSETTO:-0700
TZNAME:PDT
DTSTART:20260308T100000
END:DAYLIGHT
BEGIN:STANDARD
TZOFFSETFROM:-0700
TZOFFSETTO:-0800
TZNAME:PST
DTSTART:20261101T090000
END:STANDARD
END:VTIMEZONE
BEGIN:VEVENT
DTSTART;TZID=America/Los_Angeles:20251204T193000
DTEND;TZID=America/Los_Angeles:20251204T213000
DTSTAMP:20260423T140948
CREATED:20251119T154008Z
LAST-MODIFIED:20251119T154008Z
UID:22306-1764876600-1764883800@artsalliancedavis.org
SUMMARY:Showing of the Movie “The right to Exist”
DESCRIPTION:The Right to Exist explores the rapidly expanding homelessness crisis in Sacramento\, California. The film follows individuals experiencing homelessness over the course of a year\, interweaving their narratives with insights from experts into the underlying causes of homelessness in Sacramento. The film addresses the human cost of homelessness and the resources needed to help solve the crisis. There will be a short discussion of the homelessness issues in Davis after the showing.
URL:https://artsalliancedavis.org/event/showing-of-the-movie-the-right-to-exist/
LOCATION:Friends Meetinghouse\, 345 L St\, Davis\, 345 L St\, Davis\, CA\, 95616
CATEGORIES:Community
ATTACH;FMTTYPE=image/jpeg:https://artsalliancedavis.org/wp-content/uploads/2018/10/orange-white-aad-logo.jpg
ORGANIZER;CN="Davis Friends Meeting (Quaker)":MAILTO:info@davisfriendsmeeting.org
END:VEVENT
END:VCALENDAR