BEGIN:VCALENDAR
VERSION:2.0
PRODID:-//Arts Alliance Davis - ECPv6.15.20//NONSGML v1.0//EN
CALSCALE:GREGORIAN
METHOD:PUBLISH
X-ORIGINAL-URL:https://artsalliancedavis.org
X-WR-CALDESC:Events for Arts Alliance Davis
REFRESH-INTERVAL;VALUE=DURATION:PT1H
X-Robots-Tag:noindex
X-PUBLISHED-TTL:PT1H
BEGIN:VTIMEZONE
TZID:America/Los_Angeles
BEGIN:DAYLIGHT
TZOFFSETFROM:-0800
TZOFFSETTO:-0700
TZNAME:PDT
DTSTART:20240310T100000
END:DAYLIGHT
BEGIN:STANDARD
TZOFFSETFROM:-0700
TZOFFSETTO:-0800
TZNAME:PST
DTSTART:20241103T090000
END:STANDARD
BEGIN:DAYLIGHT
TZOFFSETFROM:-0800
TZOFFSETTO:-0700
TZNAME:PDT
DTSTART:20250309T100000
END:DAYLIGHT
BEGIN:STANDARD
TZOFFSETFROM:-0700
TZOFFSETTO:-0800
TZNAME:PST
DTSTART:20251102T090000
END:STANDARD
BEGIN:DAYLIGHT
TZOFFSETFROM:-0800
TZOFFSETTO:-0700
TZNAME:PDT
DTSTART:20260308T100000
END:DAYLIGHT
BEGIN:STANDARD
TZOFFSETFROM:-0700
TZOFFSETTO:-0800
TZNAME:PST
DTSTART:20261101T090000
END:STANDARD
END:VTIMEZONE
BEGIN:VEVENT
DTSTART;TZID=America/Los_Angeles:20250906T083000
DTEND;TZID=America/Los_Angeles:20250906T143000
DTSTAMP:20260424T025044
CREATED:20250821T142454Z
LAST-MODIFIED:20250821T142454Z
UID:19766-1757147400-1757169000@artsalliancedavis.org
SUMMARY:Park Winters Pick Your Own Bouquet
DESCRIPTION:Visit Park Winters seasonal flower farm for this exclusive experience. Enjoy the open space to connect with the flowers\, and take home a beautiful hand picked bouquet. \nThis enchanting experience is available most Saturdays and Sundays and includes everything thing you need to pick a beautiful farm grown bouquet. Enjoy a peaceful and creative outing as you wander through the blooms\, The Park Winters team will provide guidance on how to clip and gather your flowers. Your bouquet picking experience includes a vessel you can take your flowers home in. If a guest in your party prefers to enjoy the experience without picking flowers\, they are welcome to join at no additional charge\, the price is per bouquet\, $38 — we encourage reservations to ensure you get a spot. \nReservations are booked in 2 hour increments at 8:30AM\, 10:30AM and 12:30PM \nFor more information and to make reservations: www.parkwinters.com/pick-your-own-bouquet
URL:https://artsalliancedavis.org/event/park-winters-pick-your-own-bouquet-5/
LOCATION:Park Winters\, 27850 County Road 26\, Winters\, California\, 95694\, United States
CATEGORIES:Outside
ATTACH;FMTTYPE=image/jpeg:https://artsalliancedavis.org/wp-content/uploads/2025/08/Park-Winters-Pick-Your-Own-Bouquet-1024x683-1-EsRARK.jpg
ORGANIZER;CN="Park Winters":MAILTO:info@parkwinters.com
END:VEVENT
BEGIN:VEVENT
DTSTART;TZID=America/Los_Angeles:20250907T083000
DTEND;TZID=America/Los_Angeles:20250907T143000
DTSTAMP:20260424T025044
CREATED:20250821T142520Z
LAST-MODIFIED:20250821T142520Z
UID:19782-1757233800-1757255400@artsalliancedavis.org
SUMMARY:Park Winters Pick Your Own Bouquet
DESCRIPTION:Visit Park Winters seasonal flower farm for this exclusive experience. Enjoy the open space to connect with the flowers\, and take home a beautiful hand picked bouquet. \nThis enchanting experience is available most Saturdays and Sundays and includes everything thing you need to pick a beautiful farm grown bouquet. Enjoy a peaceful and creative outing as you wander through the blooms\, The Park Winters team will provide guidance on how to clip and gather your flowers. Your bouquet picking experience includes a vessel you can take your flowers home in. If a guest in your party prefers to enjoy the experience without picking flowers\, they are welcome to join at no additional charge\, the price is per bouquet\, $38 — we encourage reservations to ensure you get a spot. \nReservations are booked in 2 hour increments at 8:30AM\, 10:30AM and 12:30PM \nFor more information and to make reservations: www.parkwinters.com/pick-your-own-bouquet
URL:https://artsalliancedavis.org/event/park-winters-pick-your-own-bouquet-6/
LOCATION:Park Winters\, 27850 County Road 26\, Winters\, California\, 95694\, United States
CATEGORIES:Outside
ATTACH;FMTTYPE=image/jpeg:https://artsalliancedavis.org/wp-content/uploads/2025/08/Park-Winters-Pick-Your-Own-Bouquet-1024x683-1-EsRARK.jpg
ORGANIZER;CN="Park Winters":MAILTO:info@parkwinters.com
END:VEVENT
BEGIN:VEVENT
DTSTART;TZID=America/Los_Angeles:20250913T083000
DTEND;TZID=America/Los_Angeles:20250913T143000
DTSTAMP:20260424T025044
CREATED:20250822T143909Z
LAST-MODIFIED:20250822T143909Z
UID:19895-1757752200-1757773800@artsalliancedavis.org
SUMMARY:Park Winters Pick Your Own Bouquet
DESCRIPTION:Visit Park Winters seasonal flower farm for this exclusive experience. Enjoy the open space to connect with the flowers\, and take home a beautiful hand picked bouquet. \nThis enchanting experience is available most Saturdays and Sundays and includes everything thing you need to pick a beautiful farm grown bouquet. Enjoy a peaceful and creative outing as you wander through the blooms\, The Park Winters team will provide guidance on how to clip and gather your flowers. Your bouquet picking experience includes a vessel you can take your flowers home in. If a guest in your party prefers to enjoy the experience without picking flowers\, they are welcome to join at no additional charge\, the price is per bouquet\, $38 — we encourage reservations to ensure you get a spot. \nReservations are booked in 2 hour increments at 8:30AM\, 10:30AM and 12:30PM \nFor more information and to make reservations: www.parkwinters.com/pick-your-own-bouquet
URL:https://artsalliancedavis.org/event/park-winters-pick-your-own-bouquet-7/
LOCATION:Park Winters\, 27850 County Road 26\, Winters\, California\, 95694\, United States
CATEGORIES:Outside
ATTACH;FMTTYPE=image/jpeg:https://artsalliancedavis.org/wp-content/uploads/2025/08/Park-Winters-Pick-Your-Own-Bouquet-1024x683-1-EsRARK.jpg
ORGANIZER;CN="Park Winters":MAILTO:info@parkwinters.com
END:VEVENT
BEGIN:VEVENT
DTSTART;TZID=America/Los_Angeles:20250914T083000
DTEND;TZID=America/Los_Angeles:20250914T143000
DTSTAMP:20260424T025044
CREATED:20250822T143916Z
LAST-MODIFIED:20250822T143916Z
UID:19903-1757838600-1757860200@artsalliancedavis.org
SUMMARY:Park Winters Pick Your Own Bouquet
DESCRIPTION:Visit Park Winters seasonal flower farm for this exclusive experience. Enjoy the open space to connect with the flowers\, and take home a beautiful hand picked bouquet. \nThis enchanting experience is available most Saturdays and Sundays and includes everything thing you need to pick a beautiful farm grown bouquet. Enjoy a peaceful and creative outing as you wander through the blooms\, The Park Winters team will provide guidance on how to clip and gather your flowers. Your bouquet picking experience includes a vessel you can take your flowers home in. If a guest in your party prefers to enjoy the experience without picking flowers\, they are welcome to join at no additional charge\, the price is per bouquet\, $38 — we encourage reservations to ensure you get a spot. \nReservations are booked in 2 hour increments at 8:30AM\, 10:30AM and 12:30PM \nFor more information and to make reservations: www.parkwinters.com/pick-your-own-bouquet
URL:https://artsalliancedavis.org/event/park-winters-pick-your-own-bouquet-8/
LOCATION:Park Winters\, 27850 County Road 26\, Winters\, California\, 95694\, United States
CATEGORIES:Outside
ATTACH;FMTTYPE=image/jpeg:https://artsalliancedavis.org/wp-content/uploads/2025/08/Park-Winters-Pick-Your-Own-Bouquet-1024x683-1-EsRARK.jpg
ORGANIZER;CN="Park Winters":MAILTO:info@parkwinters.com
END:VEVENT
BEGIN:VEVENT
DTSTART;TZID=America/Los_Angeles:20250920T083000
DTEND;TZID=America/Los_Angeles:20250920T143000
DTSTAMP:20260424T025044
CREATED:20250822T144213Z
LAST-MODIFIED:20250822T144213Z
UID:20000-1758357000-1758378600@artsalliancedavis.org
SUMMARY:Park Winters Pick Your Own Bouquet
DESCRIPTION:Visit Park Winters seasonal flower farm for this exclusive experience. Enjoy the open space to connect with the flowers\, and take home a beautiful hand picked bouquet. \nThis enchanting experience is available most Saturdays and Sundays and includes everything thing you need to pick a beautiful farm grown bouquet. Enjoy a peaceful and creative outing as you wander through the blooms\, The Park Winters team will provide guidance on how to clip and gather your flowers. Your bouquet picking experience includes a vessel you can take your flowers home in. If a guest in your party prefers to enjoy the experience without picking flowers\, they are welcome to join at no additional charge\, the price is per bouquet\, $38 — we encourage reservations to ensure you get a spot. \nReservations are booked in 2 hour increments at 8:30AM\, 10:30AM and 12:30PM \nFor more information and to make reservations: www.parkwinters.com/pick-your-own-bouquet
URL:https://artsalliancedavis.org/event/park-winters-pick-your-own-bouquet-9/
LOCATION:Park Winters\, 27850 County Road 26\, Winters\, California\, 95694\, United States
CATEGORIES:Outside
ATTACH;FMTTYPE=image/jpeg:https://artsalliancedavis.org/wp-content/uploads/2025/08/Park-Winters-Pick-Your-Own-Bouquet-1024x683-1-EsRARK.jpg
ORGANIZER;CN="Park Winters":MAILTO:info@parkwinters.com
END:VEVENT
BEGIN:VEVENT
DTSTART;TZID=America/Los_Angeles:20250921T083000
DTEND;TZID=America/Los_Angeles:20250921T143000
DTSTAMP:20260424T025044
CREATED:20250822T144237Z
LAST-MODIFIED:20250822T144237Z
UID:20011-1758443400-1758465000@artsalliancedavis.org
SUMMARY:Park Winters Pick Your Own Bouquet
DESCRIPTION:Visit Park Winters seasonal flower farm for this exclusive experience. Enjoy the open space to connect with the flowers\, and take home a beautiful hand picked bouquet. \nThis enchanting experience is available most Saturdays and Sundays and includes everything thing you need to pick a beautiful farm grown bouquet. Enjoy a peaceful and creative outing as you wander through the blooms\, The Park Winters team will provide guidance on how to clip and gather your flowers. Your bouquet picking experience includes a vessel you can take your flowers home in. If a guest in your party prefers to enjoy the experience without picking flowers\, they are welcome to join at no additional charge\, the price is per bouquet\, $38 — we encourage reservations to ensure you get a spot. \nReservations are booked in 2 hour increments at 8:30AM\, 10:30AM and 12:30PM \nFor more information and to make reservations: www.parkwinters.com/pick-your-own-bouquet
URL:https://artsalliancedavis.org/event/park-winters-pick-your-own-bouquet-10/
LOCATION:Park Winters\, 27850 County Road 26\, Winters\, California\, 95694\, United States
CATEGORIES:Outside
ATTACH;FMTTYPE=image/jpeg:https://artsalliancedavis.org/wp-content/uploads/2025/08/Park-Winters-Pick-Your-Own-Bouquet-1024x683-1-EsRARK.jpg
ORGANIZER;CN="Park Winters":MAILTO:info@parkwinters.com
END:VEVENT
BEGIN:VEVENT
DTSTART;TZID=America/Los_Angeles:20250927T083000
DTEND;TZID=America/Los_Angeles:20250927T143000
DTSTAMP:20260424T025044
CREATED:20250822T144517Z
LAST-MODIFIED:20250822T144517Z
UID:20091-1758961800-1758983400@artsalliancedavis.org
SUMMARY:Park Winters Pick Your Own Bouquet
DESCRIPTION:Visit Park Winters seasonal flower farm for this exclusive experience. Enjoy the open space to connect with the flowers\, and take home a beautiful hand picked bouquet. \nThis enchanting experience is available most Saturdays and Sundays and includes everything thing you need to pick a beautiful farm grown bouquet. Enjoy a peaceful and creative outing as you wander through the blooms\, The Park Winters team will provide guidance on how to clip and gather your flowers. Your bouquet picking experience includes a vessel you can take your flowers home in. If a guest in your party prefers to enjoy the experience without picking flowers\, they are welcome to join at no additional charge\, the price is per bouquet\, $38 — we encourage reservations to ensure you get a spot. \nReservations are booked in 2 hour increments at 8:30AM\, 10:30AM and 12:30PM \nFor more information and to make reservations: www.parkwinters.com/pick-your-own-bouquet
URL:https://artsalliancedavis.org/event/park-winters-pick-your-own-bouquet-11/
LOCATION:Park Winters\, 27850 County Road 26\, Winters\, California\, 95694\, United States
CATEGORIES:Outside
ATTACH;FMTTYPE=image/jpeg:https://artsalliancedavis.org/wp-content/uploads/2025/08/Park-Winters-Pick-Your-Own-Bouquet-1024x683-1-EsRARK.jpg
ORGANIZER;CN="Park Winters":MAILTO:info@parkwinters.com
END:VEVENT
BEGIN:VEVENT
DTSTART;TZID=America/Los_Angeles:20250928T083000
DTEND;TZID=America/Los_Angeles:20250928T143000
DTSTAMP:20260424T025044
CREATED:20250822T144519Z
LAST-MODIFIED:20250822T144519Z
UID:20096-1759048200-1759069800@artsalliancedavis.org
SUMMARY:Park Winters Pick Your Own Bouquet
DESCRIPTION:Visit Park Winters seasonal flower farm for this exclusive experience. Enjoy the open space to connect with the flowers\, and take home a beautiful hand picked bouquet. \nThis enchanting experience is available most Saturdays and Sundays and includes everything thing you need to pick a beautiful farm grown bouquet. Enjoy a peaceful and creative outing as you wander through the blooms\, The Park Winters team will provide guidance on how to clip and gather your flowers. Your bouquet picking experience includes a vessel you can take your flowers home in. If a guest in your party prefers to enjoy the experience without picking flowers\, they are welcome to join at no additional charge\, the price is per bouquet\, $38 — we encourage reservations to ensure you get a spot. \nReservations are booked in 2 hour increments at 8:30AM\, 10:30AM and 12:30PM \nFor more information and to make reservations: www.parkwinters.com/pick-your-own-bouquet
URL:https://artsalliancedavis.org/event/park-winters-pick-your-own-bouquet-12/
LOCATION:Park Winters\, 27850 County Road 26\, Winters\, California\, 95694\, United States
CATEGORIES:Outside
ATTACH;FMTTYPE=image/jpeg:https://artsalliancedavis.org/wp-content/uploads/2025/08/Park-Winters-Pick-Your-Own-Bouquet-1024x683-1-EsRARK.jpg
ORGANIZER;CN="Park Winters":MAILTO:info@parkwinters.com
END:VEVENT
END:VCALENDAR