BEGIN:VCALENDAR
VERSION:2.0
PRODID:-//Arts Alliance Davis - ECPv6.15.20//NONSGML v1.0//EN
CALSCALE:GREGORIAN
METHOD:PUBLISH
X-WR-CALNAME:Arts Alliance Davis
X-ORIGINAL-URL:https://artsalliancedavis.org
X-WR-CALDESC:Events for Arts Alliance Davis
REFRESH-INTERVAL;VALUE=DURATION:PT1H
X-Robots-Tag:noindex
X-PUBLISHED-TTL:PT1H
BEGIN:VTIMEZONE
TZID:America/Los_Angeles
BEGIN:DAYLIGHT
TZOFFSETFROM:-0800
TZOFFSETTO:-0700
TZNAME:PDT
DTSTART:20240310T100000
END:DAYLIGHT
BEGIN:STANDARD
TZOFFSETFROM:-0700
TZOFFSETTO:-0800
TZNAME:PST
DTSTART:20241103T090000
END:STANDARD
BEGIN:DAYLIGHT
TZOFFSETFROM:-0800
TZOFFSETTO:-0700
TZNAME:PDT
DTSTART:20250309T100000
END:DAYLIGHT
BEGIN:STANDARD
TZOFFSETFROM:-0700
TZOFFSETTO:-0800
TZNAME:PST
DTSTART:20251102T090000
END:STANDARD
BEGIN:DAYLIGHT
TZOFFSETFROM:-0800
TZOFFSETTO:-0700
TZNAME:PDT
DTSTART:20260308T100000
END:DAYLIGHT
BEGIN:STANDARD
TZOFFSETFROM:-0700
TZOFFSETTO:-0800
TZNAME:PST
DTSTART:20261101T090000
END:STANDARD
END:VTIMEZONE
BEGIN:VEVENT
DTSTART;TZID=America/Los_Angeles:20250417T120000
DTEND;TZID=America/Los_Angeles:20250417T130000
DTSTAMP:20260424T095140
CREATED:20250327T212610Z
LAST-MODIFIED:20250327T212610Z
UID:18571-1744891200-1744894800@artsalliancedavis.org
SUMMARY:Jacqueline Cordova-Arrington\, solo flute
DESCRIPTION:ANN E. PITZER. Jacqueline Cordova-Arrington\, solo flute & George Enescu: Cantabile et Presto; Lawren Brianna Ware: Moonlit Waters; Yuko Uebayashi: Les Sentiers; William Grant Still: Three Songs; arr. Alexa Still. This Shinkoskey Noon Concert is made possible with support from the Joy S. Shinkoskey Series of Noon Concert Endowment. 12p – 1p. Free \n 
URL:https://artsalliancedavis.org/event/jacqueline-cordova-arrington-solo-flute/
LOCATION:Ann E. Pitzer Center\, Ann E. Pitzer Center UC Davis Campus\, 754-2787
CATEGORIES:Music
ATTACH;FMTTYPE=image/jpeg:https://artsalliancedavis.org/wp-content/uploads/2025/03/2025-04-17-Arrington-scaled-rObARR.tmp_.jpg
END:VEVENT
END:VCALENDAR