BEGIN:VCALENDAR
VERSION:2.0
PRODID:-//Arts Alliance Davis - ECPv6.15.20//NONSGML v1.0//EN
CALSCALE:GREGORIAN
METHOD:PUBLISH
X-WR-CALNAME:Arts Alliance Davis
X-ORIGINAL-URL:https://artsalliancedavis.org
X-WR-CALDESC:Events for Arts Alliance Davis
REFRESH-INTERVAL;VALUE=DURATION:PT1H
X-Robots-Tag:noindex
X-PUBLISHED-TTL:PT1H
BEGIN:VTIMEZONE
TZID:America/Los_Angeles
BEGIN:DAYLIGHT
TZOFFSETFROM:-0800
TZOFFSETTO:-0700
TZNAME:PDT
DTSTART:20250309T100000
END:DAYLIGHT
BEGIN:STANDARD
TZOFFSETFROM:-0700
TZOFFSETTO:-0800
TZNAME:PST
DTSTART:20251102T090000
END:STANDARD
BEGIN:DAYLIGHT
TZOFFSETFROM:-0800
TZOFFSETTO:-0700
TZNAME:PDT
DTSTART:20260308T100000
END:DAYLIGHT
BEGIN:STANDARD
TZOFFSETFROM:-0700
TZOFFSETTO:-0800
TZNAME:PST
DTSTART:20261101T090000
END:STANDARD
BEGIN:DAYLIGHT
TZOFFSETFROM:-0800
TZOFFSETTO:-0700
TZNAME:PDT
DTSTART:20270314T100000
END:DAYLIGHT
BEGIN:STANDARD
TZOFFSETFROM:-0700
TZOFFSETTO:-0800
TZNAME:PST
DTSTART:20271107T090000
END:STANDARD
END:VTIMEZONE
BEGIN:VEVENT
DTSTART;TZID=America/Los_Angeles:20260508T120000
DTEND;TZID=America/Los_Angeles:20260508T130000
DTSTAMP:20260423T203306
CREATED:20260414T203940Z
LAST-MODIFIED:20260414T203940Z
UID:24786-1778241600-1778245200@artsalliancedavis.org
SUMMARY:Live@DCC Free Noon Concert: Folk Duo Jaeger & Reid
DESCRIPTION:Come to the Live@DCC Free 2nd Friday noon concert series May 8\, featuring the folk duo\, Jaeger & Reid\, at the Davis Community Church\, 4th and “C” Streets! Hearkening from the San Francisco Bay Area\, Judi Jaeger’s Canadian background\, striking vocals and intelligent songs combine with Bob Reid’s California upbringing and his own engaging\, original and collected tunes. Their delicate\, rich harmonies and artful blending of guitars and ukulele deliver an intimate evening of deeply meaningful music.
URL:https://artsalliancedavis.org/event/livedcc-free-noon-concert-folk-duo-jaeger-reid/
LOCATION:Davis Community Church (DCC)\, 412 C Street\, Davis\, CA\, 95616\, United States
CATEGORIES:Music
ATTACH;FMTTYPE=image/jpeg:https://artsalliancedavis.org/wp-content/uploads/2026/04/image02-scaled-y3jmy1.jpg
ORGANIZER;CN="Davis Community Church":MAILTO:emma@dccpres.org
END:VEVENT
END:VCALENDAR