BEGIN:VCALENDAR
VERSION:2.0
PRODID:-//Arts Alliance Davis - ECPv6.15.20//NONSGML v1.0//EN
CALSCALE:GREGORIAN
METHOD:PUBLISH
X-ORIGINAL-URL:https://artsalliancedavis.org
X-WR-CALDESC:Events for Arts Alliance Davis
REFRESH-INTERVAL;VALUE=DURATION:PT1H
X-Robots-Tag:noindex
X-PUBLISHED-TTL:PT1H
BEGIN:VTIMEZONE
TZID:America/Los_Angeles
BEGIN:DAYLIGHT
TZOFFSETFROM:-0800
TZOFFSETTO:-0700
TZNAME:PDT
DTSTART:20250309T100000
END:DAYLIGHT
BEGIN:STANDARD
TZOFFSETFROM:-0700
TZOFFSETTO:-0800
TZNAME:PST
DTSTART:20251102T090000
END:STANDARD
BEGIN:DAYLIGHT
TZOFFSETFROM:-0800
TZOFFSETTO:-0700
TZNAME:PDT
DTSTART:20260308T100000
END:DAYLIGHT
BEGIN:STANDARD
TZOFFSETFROM:-0700
TZOFFSETTO:-0800
TZNAME:PST
DTSTART:20261101T090000
END:STANDARD
BEGIN:DAYLIGHT
TZOFFSETFROM:-0800
TZOFFSETTO:-0700
TZNAME:PDT
DTSTART:20270314T100000
END:DAYLIGHT
BEGIN:STANDARD
TZOFFSETFROM:-0700
TZOFFSETTO:-0800
TZNAME:PST
DTSTART:20271107T090000
END:STANDARD
END:VTIMEZONE
BEGIN:VEVENT
DTSTART;TZID=America/Los_Angeles:20260213T120000
DTEND;TZID=America/Los_Angeles:20260213T170000
DTSTAMP:20260423T180700
CREATED:20260115T205741Z
LAST-MODIFIED:20260115T205741Z
UID:23230-1770984000-1771002000@artsalliancedavis.org
SUMMARY:Pre-Valentine’s Lobster Day
DESCRIPTION:🦞🍷 Pre-Valentine’s Lobster Day at Great Bear Vineyards ❤️\nFriday\, February 13 | 12–5pm\nTicket includes a glass of wine \nLove is in the air… and lobster is on the menu. Join us for a deliciously indulgent Pre-Valentine’s Lobster Day\, where fresh Maine lobster meets estate-grown Great Bear wines. \nCousins Maine Lobster will be parked at the vineyard serving up fan favorites like rich lobster bisque\, famous lobster tots\, and mouthwatering seafood sandwiches. Grab a bite\, sip a glass of your favorite wine\, and get cozy by one of our fire pits while you soak in the winter vineyard vibes. \nWhether it’s a romantic daytime date\, a fun outing with friends\, or simply a very good excuse to treat yourself\, this is the kind of celebration meant to be lingered over and enjoyed slowly. \n🦞 Food by Cousins Maine Lobster\nPlease support this local favorite by enjoying food from the truck. Outside food will not be permitted. \nGreat wine\, warm fires\, and lobster—Valentine’s weekend starts early at Great Bear 🍷✨
URL:https://artsalliancedavis.org/event/pre-valentines-lobster-day/
LOCATION:Great Bear Vineyards (Great Bear)\, 24800 County Rd 101A
CATEGORIES:Food & Drink
ATTACH;FMTTYPE=image/png:https://artsalliancedavis.org/wp-content/uploads/2026/01/2-13-26-Afternoon-Thumbnail-TzpRI8.png
ORGANIZER;CN="Great Bear Vineyards":MAILTO:greatbearvineyards@gmail.com
END:VEVENT
END:VCALENDAR