BEGIN:VCALENDAR
VERSION:2.0
PRODID:-//Arts Alliance Davis - ECPv6.15.20//NONSGML v1.0//EN
CALSCALE:GREGORIAN
METHOD:PUBLISH
X-WR-CALNAME:Arts Alliance Davis
X-ORIGINAL-URL:https://artsalliancedavis.org
X-WR-CALDESC:Events for Arts Alliance Davis
REFRESH-INTERVAL;VALUE=DURATION:PT1H
X-Robots-Tag:noindex
X-PUBLISHED-TTL:PT1H
BEGIN:VTIMEZONE
TZID:America/Los_Angeles
BEGIN:DAYLIGHT
TZOFFSETFROM:-0800
TZOFFSETTO:-0700
TZNAME:PDT
DTSTART:20240310T100000
END:DAYLIGHT
BEGIN:STANDARD
TZOFFSETFROM:-0700
TZOFFSETTO:-0800
TZNAME:PST
DTSTART:20241103T090000
END:STANDARD
BEGIN:DAYLIGHT
TZOFFSETFROM:-0800
TZOFFSETTO:-0700
TZNAME:PDT
DTSTART:20250309T100000
END:DAYLIGHT
BEGIN:STANDARD
TZOFFSETFROM:-0700
TZOFFSETTO:-0800
TZNAME:PST
DTSTART:20251102T090000
END:STANDARD
BEGIN:DAYLIGHT
TZOFFSETFROM:-0800
TZOFFSETTO:-0700
TZNAME:PDT
DTSTART:20260308T100000
END:DAYLIGHT
BEGIN:STANDARD
TZOFFSETFROM:-0700
TZOFFSETTO:-0800
TZNAME:PST
DTSTART:20261101T090000
END:STANDARD
END:VTIMEZONE
BEGIN:VEVENT
DTSTART;TZID=America/Los_Angeles:20251212T190000
DTEND;TZID=America/Los_Angeles:20251212T210000
DTSTAMP:20260424T072143
CREATED:20251112T121517Z
LAST-MODIFIED:20251112T121517Z
UID:22184-1765566000-1765573200@artsalliancedavis.org
SUMMARY:Winter Celebration – Free Family Fun
DESCRIPTION:Watermelon Music and the Friends of Watermelon Music are thrilled to announce a free one-day event to help celebrate the season! We will be offering hot chocolate\, candy canes\, ornament painting and decorating\, and have a sugar cookie frosting station! Great fun for the whole family! \nPlease join us on Friday December 12 from 7-9 pm in the Melon Ball at the Watermelon Music building on Lake Blvd. We hope to see you there!
URL:https://artsalliancedavis.org/event/winter-celebration-free-family-fun/
LOCATION:Melon Ball – Watermelon Music\, 1970 Lake Blvd\, Suite #1\, Davis\, California\, 95616\, United States
CATEGORIES:Art,Bring the Kids,Community,Food & Drink,Music
ATTACH;FMTTYPE=image/jpeg:https://artsalliancedavis.org/wp-content/uploads/2025/11/Winter-Celebration_121225-hJEDXu.jpg
ORGANIZER;CN="Watermelon Music":MAILTO:watermelonmusicdavis@gmail.com
END:VEVENT
END:VCALENDAR