BEGIN:VCALENDAR
VERSION:2.0
PRODID:-//Arts Alliance Davis - ECPv6.15.20//NONSGML v1.0//EN
CALSCALE:GREGORIAN
METHOD:PUBLISH
X-ORIGINAL-URL:https://artsalliancedavis.org
X-WR-CALDESC:Events for Arts Alliance Davis
REFRESH-INTERVAL;VALUE=DURATION:PT1H
X-Robots-Tag:noindex
X-PUBLISHED-TTL:PT1H
BEGIN:VTIMEZONE
TZID:America/Los_Angeles
BEGIN:DAYLIGHT
TZOFFSETFROM:-0800
TZOFFSETTO:-0700
TZNAME:PDT
DTSTART:20240310T100000
END:DAYLIGHT
BEGIN:STANDARD
TZOFFSETFROM:-0700
TZOFFSETTO:-0800
TZNAME:PST
DTSTART:20241103T090000
END:STANDARD
BEGIN:DAYLIGHT
TZOFFSETFROM:-0800
TZOFFSETTO:-0700
TZNAME:PDT
DTSTART:20250309T100000
END:DAYLIGHT
BEGIN:STANDARD
TZOFFSETFROM:-0700
TZOFFSETTO:-0800
TZNAME:PST
DTSTART:20251102T090000
END:STANDARD
BEGIN:DAYLIGHT
TZOFFSETFROM:-0800
TZOFFSETTO:-0700
TZNAME:PDT
DTSTART:20260308T100000
END:DAYLIGHT
BEGIN:STANDARD
TZOFFSETFROM:-0700
TZOFFSETTO:-0800
TZNAME:PST
DTSTART:20261101T090000
END:STANDARD
END:VTIMEZONE
BEGIN:VEVENT
DTSTART;TZID=America/Los_Angeles:20251003T180000
DTEND;TZID=America/Los_Angeles:20251003T220000
DTSTAMP:20260424T010559
CREATED:20250826T154329Z
LAST-MODIFIED:20250826T154329Z
UID:20772-1759514400-1759528800@artsalliancedavis.org
SUMMARY:KDRT 21st Birthday Bash
DESCRIPTION:You are cordially invited to celebrate KDRT’s 21st birthday at the Sudwerk Dock on Friday\, October 3\, starting at 6p. The festivities include a live broadcast with music from The Cantaliers\, Sacramento’s Latin-infused\, surf-riding rockabilly band. We’ll also have raffles and prize giveaways from our infamous DiRT Bag\, as well as opportunities to snag new swag and show your support for your community radio station\, KDRT 95.7 fm + KDRT.org! Come on down!
URL:https://artsalliancedavis.org/event/kdrt-21st-birthday-bash/
LOCATION:Sudwerk Dock Store (Sudwerk)\, 2001 2nd St.
CATEGORIES:Community,Music,Outside
ATTACH;FMTTYPE=image/png:https://artsalliancedavis.org/wp-content/uploads/2025/08/kdrtQR4dirt-1-LWwpYt.png
END:VEVENT
BEGIN:VEVENT
DTSTART;TZID=America/Los_Angeles:20251010T073000
DTEND;TZID=America/Los_Angeles:20251010T133000
DTSTAMP:20260424T010559
CREATED:20250822T144850Z
LAST-MODIFIED:20250822T144850Z
UID:20210-1760081400-1760103000@artsalliancedavis.org
SUMMARY:Girls on the Run Tee for Her Future Golf Tournament
DESCRIPTION:📣Tee it up for a GREAT cause! ⛳ \nJoin Girls on the Run of Greater Sacramento for our 3rd Annual Tee For Her Future Golf Tournament! \n📅 Friday\, October 10\n📍 Wildhorse Golf Club\, Davis\, CA\n⏰ 8:30 AM Shotgun Start \nAll proceeds support Girls on the Run of Greater Sacramento — providing scholarships\, shoes\, sports bras\, and materials for girls in Title 1 schools to participate in our confidence-building\, life-changing program at no cost to their families. \nWhat to expect:\n🏌️‍♂️ Fun contests & prizes on the course\n🥂 Refreshments & lunch included\n🎁 Awesome swag bags\n💗 The joy of knowing you’re empowering the next generation of strong\, confident girls! \n📌 Register or sponsor today! https://lnkd.in/dirQADvv
URL:https://artsalliancedavis.org/event/girls-on-the-run-tee-for-her-future-golf-tournament/
LOCATION:Wild Horse Golf Club\, 2323 Rockwell Dr.\, Davis\, CA\, 95618\, United States
CATEGORIES:Athletics,Community,Featured,Outside,Sports
ATTACH;FMTTYPE=image/jpeg:https://artsalliancedavis.org/wp-content/uploads/2025/08/IMG_9470-sOhE0D.jpg
ORGANIZER;CN="Girls on the Run of Greater Sacramento":MAILTO:INFO@GOTRSAC.ORG
END:VEVENT
END:VCALENDAR