BEGIN:VCALENDAR
VERSION:2.0
PRODID:-//Arts Alliance Davis - ECPv6.15.20//NONSGML v1.0//EN
CALSCALE:GREGORIAN
METHOD:PUBLISH
X-WR-CALNAME:Arts Alliance Davis
X-ORIGINAL-URL:https://artsalliancedavis.org
X-WR-CALDESC:Events for Arts Alliance Davis
REFRESH-INTERVAL;VALUE=DURATION:PT1H
X-Robots-Tag:noindex
X-PUBLISHED-TTL:PT1H
BEGIN:VTIMEZONE
TZID:America/Los_Angeles
BEGIN:DAYLIGHT
TZOFFSETFROM:-0800
TZOFFSETTO:-0700
TZNAME:PDT
DTSTART:20250309T100000
END:DAYLIGHT
BEGIN:STANDARD
TZOFFSETFROM:-0700
TZOFFSETTO:-0800
TZNAME:PST
DTSTART:20251102T090000
END:STANDARD
BEGIN:DAYLIGHT
TZOFFSETFROM:-0800
TZOFFSETTO:-0700
TZNAME:PDT
DTSTART:20260308T100000
END:DAYLIGHT
BEGIN:STANDARD
TZOFFSETFROM:-0700
TZOFFSETTO:-0800
TZNAME:PST
DTSTART:20261101T090000
END:STANDARD
BEGIN:DAYLIGHT
TZOFFSETFROM:-0800
TZOFFSETTO:-0700
TZNAME:PDT
DTSTART:20270314T100000
END:DAYLIGHT
BEGIN:STANDARD
TZOFFSETFROM:-0700
TZOFFSETTO:-0800
TZNAME:PST
DTSTART:20271107T090000
END:STANDARD
END:VTIMEZONE
BEGIN:VEVENT
DTSTART;TZID=America/Los_Angeles:20260425T140000
DTEND;TZID=America/Los_Angeles:20260425T190000
DTSTAMP:20260423T160739
CREATED:20260311T234248Z
LAST-MODIFIED:20260311T234248Z
UID:24211-1777125600-1777143600@artsalliancedavis.org
SUMMARY:MOSAIC Camp Day
DESCRIPTION:MOSAIC Camp Day is an outdoor\, camp-inspired event designed for families with young children. The afternoon/evening will feature decorate-and-race mini derby cars\, boat building\, singing and dancing with Music Matt\, carnival games\, and of course\, s’mores! \nCamp Day is MOSAIC Children’s Museum’s brand-new annual fundraising event. Proceeds from the event go directly toward supporting children and their families’ experiences at the museum. MOSAIC is a nonprofit community space located in downtown Woodland\, where curiosity is encouraged\, messes are welcome\, and learning happens through joyful play. Thanks to strong community support\, MOSAIC was voted 2025 Best Museum of Yolo County! \n$8/person or $20/family of 4
URL:https://artsalliancedavis.org/event/mosaic-camp-day/
LOCATION:Nelson’s Grove\, 15285 County Road 99E\, Woodland\, CA 95695\, 15285 County Road 99E\, Woodland\, CA\, 95695\, United States
CATEGORIES:Bring the Kids,Community,Featured,Outside
ATTACH;FMTTYPE=image/png:https://artsalliancedavis.org/wp-content/uploads/2026/03/MOSAIC-Camp-Day-fundraiser-event-flyer-4-x-6-in-69Lfht.png
ORGANIZER;CN="MOSAIC Children&#8217%3Bs Museum":MAILTO:wanda@mosaicchildrensmuseum.org
END:VEVENT
END:VCALENDAR