BEGIN:VCALENDAR
VERSION:2.0
PRODID:-//Arts Alliance Davis - ECPv6.15.20//NONSGML v1.0//EN
CALSCALE:GREGORIAN
METHOD:PUBLISH
X-WR-CALNAME:Arts Alliance Davis
X-ORIGINAL-URL:https://artsalliancedavis.org
X-WR-CALDESC:Events for Arts Alliance Davis
REFRESH-INTERVAL;VALUE=DURATION:PT1H
X-Robots-Tag:noindex
X-PUBLISHED-TTL:PT1H
BEGIN:VTIMEZONE
TZID:America/Los_Angeles
BEGIN:DAYLIGHT
TZOFFSETFROM:-0800
TZOFFSETTO:-0700
TZNAME:PDT
DTSTART:20250309T100000
END:DAYLIGHT
BEGIN:STANDARD
TZOFFSETFROM:-0700
TZOFFSETTO:-0800
TZNAME:PST
DTSTART:20251102T090000
END:STANDARD
BEGIN:DAYLIGHT
TZOFFSETFROM:-0800
TZOFFSETTO:-0700
TZNAME:PDT
DTSTART:20260308T100000
END:DAYLIGHT
BEGIN:STANDARD
TZOFFSETFROM:-0700
TZOFFSETTO:-0800
TZNAME:PST
DTSTART:20261101T090000
END:STANDARD
BEGIN:DAYLIGHT
TZOFFSETFROM:-0800
TZOFFSETTO:-0700
TZNAME:PDT
DTSTART:20270314T100000
END:DAYLIGHT
BEGIN:STANDARD
TZOFFSETFROM:-0700
TZOFFSETTO:-0800
TZNAME:PST
DTSTART:20271107T090000
END:STANDARD
END:VTIMEZONE
BEGIN:VEVENT
DTSTART;TZID=America/Los_Angeles:20260503T120000
DTEND;TZID=America/Los_Angeles:20260503T170000
DTSTAMP:20260423T123623
CREATED:20260331T162439Z
LAST-MODIFIED:20260331T162439Z
UID:24535-1777809600-1777827600@artsalliancedavis.org
SUMMARY:Pence Gallery Garden Tour
DESCRIPTION:Pence Gallery Garden Tour\nSunday\, May 3\, 2026 | Noon – 5 PM \nStroll through five gardens throughout Davis on the Pence Gallery Garden Tour on May 3\, savoring the beauty of spring and learning about gardening from Yolo County Master Gardeners. View local artists Leslie Allen\, Patrick Cosgrove\, Raquel Cox\, Misuk Goltz\, Kristina Kernytska\, Marlene Lee\, and Barbara Smithson paint outdoors in the gardens. At the Pence\, enjoy three stunning art exhibits by regional artists\, and a free snack bag (limited to the first 150). Don’t miss the last day of our Garden Art Sale taking place inside the gallery from April 24 – May 3 this year\, including stepping stones\, planters\, sculpture for outside display\, and more! \nTickets available April 3:\n$30 Pence Members\, $35 non-Members\, $40 day of event at Pence & www.pencegallery.org\, and Redwood Barn. Tickets purchased online through our website will be ready for pick up at the Pence the following business day. Please note that tickets are limited for purchase on the day of the event\, and we encourage you to purchase them ahead of time. \nSponsors:\nThe Artist Tree\, Kim Eichorn\, Deborah Dunham & Charles Cunningham\, MAK Design + Build\, Kit & Bonnie Lam\, Nancy Roe\, Anne & Dave Hawke\, Pam Marrone & Michael Rogers\, Mary Brooks\, Michael Glassman\, Deedra & Jerry Johnson\, Roy Kaplan & Janet Saunders\, Redwood Barn\, Roger & Claudia Salquist\, Mike & Judy Davis\, Cynthia Gerber\, Newsbeat\, Barbara & Craig Smithson\, Kathy & Henry Thornhill\, and Hedgerow Farms. \nProceeds from the Garden Tour support the mission of the Pence Gallery\, a nonprofit art organization\, which served more than 19\,000 people last year. \nImage: Beth Savidge\, “Native Sunflower”
URL:https://artsalliancedavis.org/event/pence-gallery-garden-tour/
LOCATION:Pence Gallery\, 212 D St\, Davis\, CA\, United States
CATEGORIES:Art,Community,Outside
ATTACH;FMTTYPE=image/jpeg:https://artsalliancedavis.org/wp-content/uploads/2026/03/GT-2026-jpeg-v4I8NE.jpg
ORGANIZER;CN="Pence Gallery":MAILTO:pencesocialmedia@gmail.com
END:VEVENT
END:VCALENDAR