BEGIN:VCALENDAR
VERSION:2.0
PRODID:-//Arts Alliance Davis - ECPv6.15.20//NONSGML v1.0//EN
CALSCALE:GREGORIAN
METHOD:PUBLISH
X-ORIGINAL-URL:https://artsalliancedavis.org
X-WR-CALDESC:Events for Arts Alliance Davis
REFRESH-INTERVAL;VALUE=DURATION:PT1H
X-Robots-Tag:noindex
X-PUBLISHED-TTL:PT1H
BEGIN:VTIMEZONE
TZID:America/Los_Angeles
BEGIN:DAYLIGHT
TZOFFSETFROM:-0800
TZOFFSETTO:-0700
TZNAME:PDT
DTSTART:20240310T100000
END:DAYLIGHT
BEGIN:STANDARD
TZOFFSETFROM:-0700
TZOFFSETTO:-0800
TZNAME:PST
DTSTART:20241103T090000
END:STANDARD
BEGIN:DAYLIGHT
TZOFFSETFROM:-0800
TZOFFSETTO:-0700
TZNAME:PDT
DTSTART:20250309T100000
END:DAYLIGHT
BEGIN:STANDARD
TZOFFSETFROM:-0700
TZOFFSETTO:-0800
TZNAME:PST
DTSTART:20251102T090000
END:STANDARD
BEGIN:DAYLIGHT
TZOFFSETFROM:-0800
TZOFFSETTO:-0700
TZNAME:PDT
DTSTART:20260308T100000
END:DAYLIGHT
BEGIN:STANDARD
TZOFFSETFROM:-0700
TZOFFSETTO:-0800
TZNAME:PST
DTSTART:20261101T090000
END:STANDARD
END:VTIMEZONE
BEGIN:VEVENT
DTSTART;TZID=America/Los_Angeles:20251024T190000
DTEND;TZID=America/Los_Angeles:20251024T210000
DTSTAMP:20260424T110728
CREATED:20251017T185106Z
LAST-MODIFIED:20251017T185106Z
UID:20930-1761332400-1761339600@artsalliancedavis.org
SUMMARY:FREE Haunted House for Kids!! Five Nights in October
DESCRIPTION:Watermelon Music will be hosting an all-ages haunted house this Halloween season. This family-friendly event will feature a couple of live (or undead) musicians and 5 Halloween-themed rooms. We will also have Halloween Karaoke\, mini-pumpkin painting\, and a photo-op station! No Gore\, no Jump-scares! Please wear your costume! \nThe haunted house will be open for 5 evenings in total. Dates are Oct 24\, 25\, 26\, 29\, & 30 from 7-9pm. Admission is FREE to all ages! \n1970 Lake Blvd\, Davis\, CA\, 95616
URL:https://artsalliancedavis.org/event/free-haunted-house-for-kids-five-nights-in-october/
LOCATION:Watermelon Music\, 1970 Lake Blvd.\, Suite 1
CATEGORIES:Bring the Kids,Community
ATTACH;FMTTYPE=image/jpeg:https://artsalliancedavis.org/wp-content/uploads/2025/10/WMM-Haunted-House-UCvf2o.jpg
ORGANIZER;CN="Watermelon Music":MAILTO:watermelonmusicdavis@gmail.com
END:VEVENT
BEGIN:VEVENT
DTSTART;TZID=America/Los_Angeles:20251025T170000
DTEND;TZID=America/Los_Angeles:20251025T200000
DTSTAMP:20260424T110728
CREATED:20251017T185134Z
LAST-MODIFIED:20251017T185134Z
UID:20941-1761411600-1761422400@artsalliancedavis.org
SUMMARY:Davis Food Co-op Halloween Block Party
DESCRIPTION:You’re Invited to the Davis Food Co-op’s Halloween Block Party! \nParty with your community 🥳 It’s time for the Co-op’s FREE annual Halloween Block Party with live music by Xylocopa and Ten Foot Tiger\, local food\, trick or treating\, games\, vendors & more. Wear a costume and bring a friend! \nHalloween Block Party 🎃 Saturday 10/25 from 5-8 PM\nDavis Food Co-op | 620 G St in Davis
URL:https://artsalliancedavis.org/event/davis-food-co-op-halloween-block-party/
LOCATION:Davis Food Co-op\, 620 G St.
CATEGORIES:Community,Food & Drink,Music,Outside
ATTACH;FMTTYPE=image/jpeg:https://artsalliancedavis.org/wp-content/uploads/2025/10/Halloween-Block-Party-25-Poster-scaled-6DlOrS.jpg
ORGANIZER;CN="Davis Food Co-op":MAILTO:cciganovich@davisfood.coop
END:VEVENT
BEGIN:VEVENT
DTSTART;TZID=America/Los_Angeles:20251025T190000
DTEND;TZID=America/Los_Angeles:20251025T210000
DTSTAMP:20260424T110728
CREATED:20251017T185140Z
LAST-MODIFIED:20251017T185140Z
UID:20945-1761418800-1761426000@artsalliancedavis.org
SUMMARY:FREE Haunted House for Kids!! Five Nights in October
DESCRIPTION:Watermelon Music will be hosting an all-ages haunted house this Halloween season. This family-friendly event will feature a couple of live (or undead) musicians and 5 Halloween-themed rooms. We will also have Halloween Karaoke\, mini-pumpkin painting\, and a photo-op station! No Gore\, no Jump-scares! Please wear your costume! \nThe haunted house will be open for 5 evenings in total. Dates are Oct 24\, 25\, 26\, 29\, & 30 from 7-9pm. Admission is FREE to all ages! \n1970 Lake Blvd\, Davis\, CA\, 95616
URL:https://artsalliancedavis.org/event/free-haunted-house-for-kids-five-nights-in-october-2/
LOCATION:Watermelon Music\, 1970 Lake Blvd.\, Suite 1
CATEGORIES:Bring the Kids,Community
ATTACH;FMTTYPE=image/jpeg:https://artsalliancedavis.org/wp-content/uploads/2025/10/WMM-Haunted-House-UCvf2o.jpg
ORGANIZER;CN="Watermelon Music":MAILTO:watermelonmusicdavis@gmail.com
END:VEVENT
BEGIN:VEVENT
DTSTART;TZID=America/Los_Angeles:20251026T133000
DTEND;TZID=America/Los_Angeles:20251026T150000
DTSTAMP:20260424T110728
CREATED:20251017T185223Z
LAST-MODIFIED:20251017T185223Z
UID:20952-1761485400-1761490800@artsalliancedavis.org
SUMMARY:Halloween Kid’s Bookstravaganza
DESCRIPTION:Celebrate spooky season at The Avid Reader! Join us on Sunday\, October 26 from 1:30 – 3:00 as we celebrate three local authors’ Halloween kids books. \nWe will be joined by Nikki Shannon Smith\, author of Halloween Friends\, Jed Alexander\, author of The Black Market\, as well as Brandon and Calvin Tate\, authors of The Tale of the Halloween Witch. Stop by after the Zombie Bike Parade and listen to some spooooky stories.
URL:https://artsalliancedavis.org/event/halloween-kids-bookstravaganza/
LOCATION:The Avid Reader Bookstore\, 617 2nd St.\, Davis\, 95616
CATEGORIES:Books & Talks
ATTACH;FMTTYPE=image/png:https://artsalliancedavis.org/wp-content/uploads/2025/10/halloween-story-time-9kWjbu.png
ORGANIZER;CN="The Avid Reader":MAILTO:avidreaderbooks@gmail.com
END:VEVENT
BEGIN:VEVENT
DTSTART;TZID=America/Los_Angeles:20251026T190000
DTEND;TZID=America/Los_Angeles:20251026T210000
DTSTAMP:20260424T110728
CREATED:20251017T185310Z
LAST-MODIFIED:20251017T185310Z
UID:20958-1761505200-1761512400@artsalliancedavis.org
SUMMARY:FREE Haunted House for Kids!! Five Nights in October
DESCRIPTION:Watermelon Music will be hosting an all-ages haunted house this Halloween season. This family-friendly event will feature a couple of live (or undead) musicians and 5 Halloween-themed rooms. We will also have Halloween Karaoke\, mini-pumpkin painting\, and a photo-op station! No Gore\, no Jump-scares! Please wear your costume! \nThe haunted house will be open for 5 evenings in total. Dates are Oct 24\, 25\, 26\, 29\, & 30 from 7-9pm. Admission is FREE to all ages! \n1970 Lake Blvd\, Davis\, CA\, 95616
URL:https://artsalliancedavis.org/event/free-haunted-house-for-kids-five-nights-in-october-3/
LOCATION:Watermelon Music\, 1970 Lake Blvd.\, Suite 1
CATEGORIES:Bring the Kids,Community
ATTACH;FMTTYPE=image/jpeg:https://artsalliancedavis.org/wp-content/uploads/2025/10/WMM-Haunted-House-UCvf2o.jpg
ORGANIZER;CN="Watermelon Music":MAILTO:watermelonmusicdavis@gmail.com
END:VEVENT
BEGIN:VEVENT
DTSTART;TZID=America/Los_Angeles:20251027T190000
DTEND;TZID=America/Los_Angeles:20251027T210000
DTSTAMP:20260424T110728
CREATED:20251021T153407Z
LAST-MODIFIED:20251021T153407Z
UID:20973-1761591600-1761598800@artsalliancedavis.org
SUMMARY:FREE Haunted House for Kids!! Five Nights in October
DESCRIPTION:Watermelon Music will be hosting an all-ages haunted house this Halloween season. This family-friendly event will feature a couple of live (or undead) musicians and 5 Halloween-themed rooms. We will also have Halloween Karaoke\, mini-pumpkin painting\, and a photo-op station! No Gore\, no Jump-scares! Please wear your costume! \nThe haunted house will be open for 5 evenings in total. Dates are Oct 24\, 25\, 26\, 29\, & 30 from 7-9pm. Admission is FREE to all ages! \n1970 Lake Blvd\, Davis\, CA\, 95616
URL:https://artsalliancedavis.org/event/free-haunted-house-for-kids-five-nights-in-october-4/
LOCATION:Watermelon Music\, 1970 Lake Blvd.\, Suite 1
CATEGORIES:Bring the Kids,Community
ATTACH;FMTTYPE=image/jpeg:https://artsalliancedavis.org/wp-content/uploads/2025/10/WMM-Haunted-House-UCvf2o.jpg
ORGANIZER;CN="Watermelon Music":MAILTO:watermelonmusicdavis@gmail.com
END:VEVENT
BEGIN:VEVENT
DTSTART;TZID=America/Los_Angeles:20251028T190000
DTEND;TZID=America/Los_Angeles:20251028T210000
DTSTAMP:20260424T110728
CREATED:20251021T153431Z
LAST-MODIFIED:20251021T153431Z
UID:20982-1761678000-1761685200@artsalliancedavis.org
SUMMARY:FREE Haunted House for Kids!! Five Nights in October
DESCRIPTION:Watermelon Music will be hosting an all-ages haunted house this Halloween season. This family-friendly event will feature a couple of live (or undead) musicians and 5 Halloween-themed rooms. We will also have Halloween Karaoke\, mini-pumpkin painting\, and a photo-op station! No Gore\, no Jump-scares! Please wear your costume! \nThe haunted house will be open for 5 evenings in total. Dates are Oct 24\, 25\, 26\, 29\, & 30 from 7-9pm. Admission is FREE to all ages! \n1970 Lake Blvd\, Davis\, CA\, 95616
URL:https://artsalliancedavis.org/event/free-haunted-house-for-kids-five-nights-in-october-5/
LOCATION:Watermelon Music\, 1970 Lake Blvd.\, Suite 1
CATEGORIES:Bring the Kids,Community
ATTACH;FMTTYPE=image/jpeg:https://artsalliancedavis.org/wp-content/uploads/2025/10/WMM-Haunted-House-UCvf2o.jpg
ORGANIZER;CN="Watermelon Music":MAILTO:watermelonmusicdavis@gmail.com
END:VEVENT
BEGIN:VEVENT
DTSTART;TZID=America/Los_Angeles:20251029T190000
DTEND;TZID=America/Los_Angeles:20251029T210000
DTSTAMP:20260424T110728
CREATED:20251022T154517Z
LAST-MODIFIED:20251022T154517Z
UID:20994-1761764400-1761771600@artsalliancedavis.org
SUMMARY:FREE Haunted House for Kids!! Five Nights in October
DESCRIPTION:Watermelon Music will be hosting an all-ages haunted house this Halloween season. This family-friendly event will feature a couple of live (or undead) musicians and 5 Halloween-themed rooms. We will also have Halloween Karaoke\, mini-pumpkin painting\, and a photo-op station! No Gore\, no Jump-scares! Please wear your costume! \nThe haunted house will be open for 5 evenings in total. Dates are Oct 24\, 25\, 26\, 29\, & 30 from 7-9pm. Admission is FREE to all ages! \n1970 Lake Blvd\, Davis\, CA\, 95616
URL:https://artsalliancedavis.org/event/free-haunted-house-for-kids-five-nights-in-october-6/
LOCATION:Watermelon Music\, 1970 Lake Blvd.\, Suite 1
CATEGORIES:Bring the Kids,Community
ATTACH;FMTTYPE=image/jpeg:https://artsalliancedavis.org/wp-content/uploads/2025/10/WMM-Haunted-House-UCvf2o.jpg
ORGANIZER;CN="Watermelon Music":MAILTO:watermelonmusicdavis@gmail.com
END:VEVENT
BEGIN:VEVENT
DTSTART;TZID=America/Los_Angeles:20251030T190000
DTEND;TZID=America/Los_Angeles:20251030T210000
DTSTAMP:20260424T110728
CREATED:20251022T154559Z
LAST-MODIFIED:20251022T154559Z
UID:20997-1761850800-1761858000@artsalliancedavis.org
SUMMARY:FREE Haunted House for Kids!! Five Nights in October
DESCRIPTION:Watermelon Music will be hosting an all-ages haunted house this Halloween season. This family-friendly event will feature a couple of live (or undead) musicians and 5 Halloween-themed rooms. We will also have Halloween Karaoke\, mini-pumpkin painting\, and a photo-op station! No Gore\, no Jump-scares! Please wear your costume! \nThe haunted house will be open for 5 evenings in total. Dates are Oct 24\, 25\, 26\, 29\, & 30 from 7-9pm. Admission is FREE to all ages! \n1970 Lake Blvd\, Davis\, CA\, 95616
URL:https://artsalliancedavis.org/event/free-haunted-house-for-kids-five-nights-in-october-7/
LOCATION:Watermelon Music\, 1970 Lake Blvd.\, Suite 1
CATEGORIES:Bring the Kids,Community
ATTACH;FMTTYPE=image/jpeg:https://artsalliancedavis.org/wp-content/uploads/2025/10/WMM-Haunted-House-UCvf2o.jpg
ORGANIZER;CN="Watermelon Music":MAILTO:watermelonmusicdavis@gmail.com
END:VEVENT
END:VCALENDAR