BEGIN:VCALENDAR
VERSION:2.0
PRODID:-//Arts Alliance Davis - ECPv6.15.20//NONSGML v1.0//EN
CALSCALE:GREGORIAN
METHOD:PUBLISH
X-WR-CALNAME:Arts Alliance Davis
X-ORIGINAL-URL:https://artsalliancedavis.org
X-WR-CALDESC:Events for Arts Alliance Davis
REFRESH-INTERVAL;VALUE=DURATION:PT1H
X-Robots-Tag:noindex
X-PUBLISHED-TTL:PT1H
BEGIN:VTIMEZONE
TZID:America/Los_Angeles
BEGIN:DAYLIGHT
TZOFFSETFROM:-0800
TZOFFSETTO:-0700
TZNAME:PDT
DTSTART:20250309T100000
END:DAYLIGHT
BEGIN:STANDARD
TZOFFSETFROM:-0700
TZOFFSETTO:-0800
TZNAME:PST
DTSTART:20251102T090000
END:STANDARD
BEGIN:DAYLIGHT
TZOFFSETFROM:-0800
TZOFFSETTO:-0700
TZNAME:PDT
DTSTART:20260308T100000
END:DAYLIGHT
BEGIN:STANDARD
TZOFFSETFROM:-0700
TZOFFSETTO:-0800
TZNAME:PST
DTSTART:20261101T090000
END:STANDARD
BEGIN:DAYLIGHT
TZOFFSETFROM:-0800
TZOFFSETTO:-0700
TZNAME:PDT
DTSTART:20270314T100000
END:DAYLIGHT
BEGIN:STANDARD
TZOFFSETFROM:-0700
TZOFFSETTO:-0800
TZNAME:PST
DTSTART:20271107T090000
END:STANDARD
END:VTIMEZONE
BEGIN:VEVENT
DTSTART;TZID=America/Los_Angeles:20260501T100000
DTEND;TZID=America/Los_Angeles:20260501T114500
DTSTAMP:20260423T144624
CREATED:20260331T162354Z
LAST-MODIFIED:20260331T162354Z
UID:24531-1777629600-1777635900@artsalliancedavis.org
SUMMARY:Healing Arts 6-Session Workshop
DESCRIPTION:Healing Arts 6-Session Workshop\nFridays\, 10-11:45 AM | May 1\, 8\, 15\, 22\, 29 & June 5\n$25 Members\, $35 Non-Members (all materials included) \nThe Pence’s 6-session Healing Arts workshop uses art as a healing language for those experiencing grief from the loss of a loved one. Through the process of art making\, participants will have opportunities for discussion\, education\, and connecting with peers in a safe and supportive space in the Pence Learning Center under the guidance of facilitators Amy Vidra and Lyndsey Rocca. \nRegistration is required in advance through our website\, and space is limited to the first 8 participants who register. Participants must be 18 or older\, and no art experience is necessary. This program is generously sponsored by Bob & Joanne Andresen. \nRegister here (REQUIRED): https://pencegallery.org/education/programs/workshops-and-classes/ \n[Please note that when registering for this program\, you are signing up for all 6 sessions. If you are unable to attend one or more of the sessions\, please let us know in advance.]\nAny questions? Email pencegallery@gmail.com.
URL:https://artsalliancedavis.org/event/healing-arts-6-session-workshop-17/
LOCATION:Pence Gallery\, 212 D St\, Davis\, CA\, United States
CATEGORIES:Art
ATTACH;FMTTYPE=image/jpeg:https://artsalliancedavis.org/wp-content/uploads/2026/03/Healing_Arts-1-Bok084.jpg
ORGANIZER;CN="Pence Gallery":MAILTO:pencesocialmedia@gmail.com
END:VEVENT
BEGIN:VEVENT
DTSTART;TZID=America/Los_Angeles:20260508T100000
DTEND;TZID=America/Los_Angeles:20260508T114500
DTSTAMP:20260423T144624
CREATED:20260331T162533Z
LAST-MODIFIED:20260331T162533Z
UID:24537-1778234400-1778240700@artsalliancedavis.org
SUMMARY:Healing Arts 6-Session Workshop
DESCRIPTION:Healing Arts 6-Session Workshop\nFridays\, 10-11:45 AM | May 1\, 8\, 15\, 22\, 29 & June 5\n$25 Members\, $35 Non-Members (all materials included) \nThe Pence’s 6-session Healing Arts workshop uses art as a healing language for those experiencing grief from the loss of a loved one. Through the process of art making\, participants will have opportunities for discussion\, education\, and connecting with peers in a safe and supportive space in the Pence Learning Center under the guidance of facilitators Amy Vidra and Lyndsey Rocca. \nRegistration is required in advance through our website\, and space is limited to the first 8 participants who register. Participants must be 18 or older\, and no art experience is necessary. This program is generously sponsored by Bob & Joanne Andresen. \nRegister here (REQUIRED): https://pencegallery.org/education/programs/workshops-and-classes/ \n[Please note that when registering for this program\, you are signing up for all 6 sessions. If you are unable to attend one or more of the sessions\, please let us know in advance.]\nAny questions? Email pencegallery@gmail.com.
URL:https://artsalliancedavis.org/event/healing-arts-6-session-workshop-18/
LOCATION:Pence Gallery\, 212 D St\, Davis\, CA\, United States
CATEGORIES:Art
ATTACH;FMTTYPE=image/jpeg:https://artsalliancedavis.org/wp-content/uploads/2026/03/Healing_Arts-1-Bok084.jpg
ORGANIZER;CN="Pence Gallery":MAILTO:pencesocialmedia@gmail.com
END:VEVENT
BEGIN:VEVENT
DTSTART;TZID=America/Los_Angeles:20260515T100000
DTEND;TZID=America/Los_Angeles:20260515T114500
DTSTAMP:20260423T144624
CREATED:20260331T162619Z
LAST-MODIFIED:20260331T162619Z
UID:24538-1778839200-1778845500@artsalliancedavis.org
SUMMARY:Healing Arts 6-Session Workshop
DESCRIPTION:Healing Arts 6-Session Workshop\nFridays\, 10-11:45 AM | May 1\, 8\, 15\, 22\, 29 & June 5\n$25 Members\, $35 Non-Members (all materials included) \nThe Pence’s 6-session Healing Arts workshop uses art as a healing language for those experiencing grief from the loss of a loved one. Through the process of art making\, participants will have opportunities for discussion\, education\, and connecting with peers in a safe and supportive space in the Pence Learning Center under the guidance of facilitators Amy Vidra and Lyndsey Rocca. \nRegistration is required in advance through our website\, and space is limited to the first 8 participants who register. Participants must be 18 or older\, and no art experience is necessary. This program is generously sponsored by Bob & Joanne Andresen. \nRegister here (REQUIRED): https://pencegallery.org/education/programs/workshops-and-classes/ \n[Please note that when registering for this program\, you are signing up for all 6 sessions. If you are unable to attend one or more of the sessions\, please let us know in advance.]\nAny questions? Email pencegallery@gmail.com.
URL:https://artsalliancedavis.org/event/healing-arts-6-session-workshop-19/
LOCATION:Pence Gallery\, 212 D St\, Davis\, CA\, United States
CATEGORIES:Art
ATTACH;FMTTYPE=image/jpeg:https://artsalliancedavis.org/wp-content/uploads/2026/03/Healing_Arts-1-Bok084.jpg
ORGANIZER;CN="Pence Gallery":MAILTO:pencesocialmedia@gmail.com
END:VEVENT
BEGIN:VEVENT
DTSTART;TZID=America/Los_Angeles:20260518T100000
DTEND;TZID=America/Los_Angeles:20260518T114500
DTSTAMP:20260423T144624
CREATED:20260407T181353Z
LAST-MODIFIED:20260407T181353Z
UID:24644-1779098400-1779104700@artsalliancedavis.org
SUMMARY:Healing Arts One-Time Workshop
DESCRIPTION:Healing Arts One-Time Workshop\nMonday\, May 18\, 10-11:45 AM\n$5 Members\, $10 Non-Members (all materials included) \nPart of the Pence’s Healing Arts Program and run by facilitator Amy Vidra\, this one-time workshop focuses more broadly on themes related to depression\, anxiety\, or major life changes. Through the process of art making\, participants will have opportunities for discussion\, education\, and connecting with peers in a safe and supportive space. \nRegistration is required in advance through our website\, and space is limited to the first 8 participants who register. Participants must be 18 or older\, and no art experience is necessary. This program is generously sponsored by Bob & Joanne Andresen. \nRegister here (REQUIRED): https://pencegallery.org/education/programs/workshops-and-classes/ \n[If you register for this session and are unable to attend\, please let us know in advance.]\nAny questions? Email pencegallery@gmail.com.
URL:https://artsalliancedavis.org/event/healing-arts-one-time-workshop-12/
LOCATION:Pence Gallery\, 212 D St\, Davis\, CA\, United States
CATEGORIES:Art
ATTACH;FMTTYPE=image/jpeg:https://artsalliancedavis.org/wp-content/uploads/2026/04/Healing_Arts-fNwGMc.jpg
ORGANIZER;CN="Pence Gallery":MAILTO:pencesocialmedia@gmail.com
END:VEVENT
BEGIN:VEVENT
DTSTART;TZID=America/Los_Angeles:20260522T100000
DTEND;TZID=America/Los_Angeles:20260522T114500
DTSTAMP:20260423T144624
CREATED:20260331T162718Z
LAST-MODIFIED:20260331T162718Z
UID:24539-1779444000-1779450300@artsalliancedavis.org
SUMMARY:Healing Arts 6-Session Workshop
DESCRIPTION:Healing Arts 6-Session Workshop\nFridays\, 10-11:45 AM | May 1\, 8\, 15\, 22\, 29 & June 5\n$25 Members\, $35 Non-Members (all materials included) \nThe Pence’s 6-session Healing Arts workshop uses art as a healing language for those experiencing grief from the loss of a loved one. Through the process of art making\, participants will have opportunities for discussion\, education\, and connecting with peers in a safe and supportive space in the Pence Learning Center under the guidance of facilitators Amy Vidra and Lyndsey Rocca. \nRegistration is required in advance through our website\, and space is limited to the first 8 participants who register. Participants must be 18 or older\, and no art experience is necessary. This program is generously sponsored by Bob & Joanne Andresen. \nRegister here (REQUIRED): https://pencegallery.org/education/programs/workshops-and-classes/ \n[Please note that when registering for this program\, you are signing up for all 6 sessions. If you are unable to attend one or more of the sessions\, please let us know in advance.]\nAny questions? Email pencegallery@gmail.com.
URL:https://artsalliancedavis.org/event/healing-arts-6-session-workshop-20/
LOCATION:Pence Gallery\, 212 D St\, Davis\, CA\, United States
CATEGORIES:Art
ATTACH;FMTTYPE=image/jpeg:https://artsalliancedavis.org/wp-content/uploads/2026/03/Healing_Arts-1-Bok084.jpg
ORGANIZER;CN="Pence Gallery":MAILTO:pencesocialmedia@gmail.com
END:VEVENT
BEGIN:VEVENT
DTSTART;TZID=America/Los_Angeles:20260529T100000
DTEND;TZID=America/Los_Angeles:20260529T114500
DTSTAMP:20260423T144624
CREATED:20260331T162803Z
LAST-MODIFIED:20260331T162803Z
UID:24540-1780048800-1780055100@artsalliancedavis.org
SUMMARY:Healing Arts 6-Session Workshop
DESCRIPTION:Healing Arts 6-Session Workshop\nFridays\, 10-11:45 AM | May 1\, 8\, 15\, 22\, 29 & June 5\n$25 Members\, $35 Non-Members (all materials included) \nThe Pence’s 6-session Healing Arts workshop uses art as a healing language for those experiencing grief from the loss of a loved one. Through the process of art making\, participants will have opportunities for discussion\, education\, and connecting with peers in a safe and supportive space in the Pence Learning Center under the guidance of facilitators Amy Vidra and Lyndsey Rocca. \nRegistration is required in advance through our website\, and space is limited to the first 8 participants who register. Participants must be 18 or older\, and no art experience is necessary. This program is generously sponsored by Bob & Joanne Andresen. \nRegister here (REQUIRED): https://pencegallery.org/education/programs/workshops-and-classes/ \n[Please note that when registering for this program\, you are signing up for all 6 sessions. If you are unable to attend one or more of the sessions\, please let us know in advance.]\nAny questions? Email pencegallery@gmail.com.
URL:https://artsalliancedavis.org/event/healing-arts-6-session-workshop-21/
LOCATION:Pence Gallery\, 212 D St\, Davis\, CA\, United States
CATEGORIES:Art
ATTACH;FMTTYPE=image/jpeg:https://artsalliancedavis.org/wp-content/uploads/2026/03/Healing_Arts-1-Bok084.jpg
ORGANIZER;CN="Pence Gallery":MAILTO:pencesocialmedia@gmail.com
END:VEVENT
END:VCALENDAR